Workbook
Name Family: Sheet1!$A$2

Sheet Sheet1
A1: Design Table for: Resistor
B2: $DESCRIPTION | C2: $COLOR | D2: $DISPLAYSTATE | E2: $VALUE@Body Length@Equations | F2: $VALUE@Body Diameter Ends@Equations | G2: $VALUE@Body Diameter@Equations | H2: $VALUE@Body Inner Slope@Equations | I2: $VALUE@Body Length Middle@Equations | J2: $VALUE@Colour Band Width@Equations | K2: $VALUE@Wire Bend Radius@Equations | L2: $VALUE@Wire Diameter@Equations | M2: $VALUE@Wire Spacing@Equations | N2: $VALUE@First Band Offset@Equations | O2: $VALUE@Last Band Offset@Equations | P2: $VALUE@Paint Thickness@Equations | Q2: $VALUE@End Fillet Radius@Equations | R2: $PARTNUMBER | S2: $STATE@Band1-BK | T2: $STATE@Band1-BL | U2: $STATE@Band1-BN | V2: $STATE@Band1-GD | W2: $STATE@Band1-GN | X2: $STATE@Band1-GY | Y2: $STATE@Band1-OR | Z2: $STATE@Band1-RD | AA2: $STATE@Band1-SR | AB2: $STATE@Band1-VT | AC2: $STATE@Band1-WT | AD2: $STATE@Band1-YL | AE2: $STATE@Band2-BK | AF2: $STATE@Band2-BL | AG2: $STATE@Band2-BN | AH2: $STATE@Band2-GD | AI2: $STATE@Band2-GN | AJ2: $STATE@Band2-GY | AK2: $STATE@Band2-OR | AL2: $STATE@Band2-RD | AM2: $STATE@Band2-SR | AN2: $STATE@Band2-VT | AO2: $STATE@Band2-WT | AP2: $STATE@Band2-YL | AQ2: $STATE@Band3-BK | AR2: $STATE@Band3-BL | AS2: $STATE@Band3-BN | AT2: $STATE@Band3-GD | AU2: $STATE@Band3-GN | AV2: $STATE@Band3-GY | AW2: $STATE@Band3-OR | AX2: $STATE@Band3-RD | AY2: $STATE@Band3-SR | AZ2: $STATE@Band3-VT | BA2: $STATE@Band3-WT | BB2: $STATE@Band3-YL | BC2: $STATE@Band4-BK | BD2: $STATE@Band4-BL | BE2: $STATE@Band4-BN | BF2: $STATE@Band4-GN | BG2: $STATE@Band4-GY | BH2: $STATE@Band4-OR | BI2: $STATE@Band4-RD | BJ2: $STATE@Band4-SR | BK2: $STATE@Band4-VT | BL2: $STATE@Band4-WT | BM2: $STATE@Band4-YL | BN2: $STATE@Band4-GD | BO2: $STATE@Band5-BK | BP2: $STATE@Band5-BL | BQ2: $STATE@Band5-BN | BR2: $STATE@Band5-GD | BS2: $STATE@Band5-GN | BT2: $STATE@Band5-GY | BU2: $STATE@Band5-OR | BV2: $STATE@Band5-RD | BW2: $STATE@Band5-SR | BX2: $STATE@Band5-VT | BY2: $STATE@Band5-WT | BZ2: $STATE@Band5-YL | CA2: $STATE@Directional1 | CB2: $STATE@Directional2 | CC2: $STATE@Directional3 | CE2: First Band Offset | CF2: Last Band Offset | CG2: Body Length | CH2: Body Length Middle | CI2: HS Flat End Width | CJ2: Colour Band Width | CK2: Max End Fillet Radius (V) | CL2: First Band Offset (mm) | CM2: Max End Fillet Radius (H) | CN2: Series | CO2: Series Element | CP2: Decade | CQ2: Value | CR2: Tolerance% | CS2: Decimal | CT2: Format | CV2: Significand | CW2: Mantissa1 | CX2: Mantissa2 | CY2: Mantissa3 | CZ2: Mult | DD2: Short Value | DE2: Abbr. Value | DF2: Wire Spacing (mils) | DG2: Casing | DH2: L | DI2: Number of Signifanct Figures | DK2: 1000 | DL2: 100 | DM2: 10 | DN2: Multiplier | DO2: Tolerance | DP2: ColourVal1 | DQ2: ColourVal2 | DR2: ColourVal3 | DS2: ColourMultiplier | DT2: ColourTolerance | DU2: Band1 | DV2: Band2 | DW2: Band3 | DX2: Band4 | DY2: Band5
A3: =$DD3&" "&100*$CR3&"%"&" "&TEXT($DF3/1000,"0.0") -> 1R 1% 0.2 | B3: ="Resistor"&" "&$DD3&" "&100*$CR3&"%"& " AXIAL-"&TEXT($DF3/1000,"0.0") -> Resistor 1R 1% AXIAL-0.2 | C3: 5000268 | D3: Metal | E3: ="="&VLOOKUP($DG3,Sheet2!$B$2:$Q$9,MATCH(MID(E$2,8,LEN(E$2)-17),Sheet2!$B$1:$Q$1,0))&"mm" -> =3.5mm | F3: ="="&VLOOKUP($DG3,Sheet2!$B$2:$Q$9,MATCH(MID(F$2,8,LEN(F$2)-17),Sheet2!$B$1:$Q$1,0))&"mm" -> =1.85mm | G3: ="="&VLOOKUP($DG3,Sheet2!$B$2:$Q$9,MATCH(MID(G$2,8,LEN(G$2)-17),Sheet2!$B$1:$Q$1,0))&"mm" -> =1.57mm | H3: ="="&VLOOKUP($DG3,Sheet2!$B$2:$Q$9,MATCH(MID(H$2,8,LEN(H$2)-17),Sheet2!$B$1:$Q$1,0))&"mm" -> =0.5mm | I3: ="="&VLOOKUP($DG3,Sheet2!$B$2:$Q$9,MATCH(MID(I$2,8,LEN(I$2)-17),Sheet2!$B$1:$Q$1,0))&"mm" -> =1.39mm | J3: ="="&VLOOKUP($DG3,Sheet2!$B$2:$Q$9,MATCH(MID(J$2,8,LEN(J$2)-17),Sheet2!$B$1:$Q$1,0))&"mm" -> =0.21mm | K3: ="="&VLOOKUP($DG3,Sheet2!$B$2:$Q$9,MATCH(MID(K$2,8,LEN(K$2)-17),Sheet2!$B$1:$Q$1,0))&"mm" -> =0.6mm | L3: ="="&VLOOKUP($DG3,Sheet2!$B$2:$Q$9,MATCH(MID(L$2,8,LEN(L$2)-17),Sheet2!$B$1:$Q$1,0))&"mm" -> =0.45mm | M3: ="="&VLOOKUP($DG3,Sheet2!$B$2:$Q$9,MATCH(MID(M$2,8,LEN(M$2)-17),Sheet2!$B$1:$Q$1,0))&"mm" -> =5.08mm | N3: ="="&VLOOKUP($DI3+2,Sheet2!$U$1:$X$4,MATCH(MID(N$2,8,LEN(N$2)-17),Sheet2!$U$1:$X$1,0)) -> =0.22 | O3: ="="&VLOOKUP($DI3+2,Sheet2!$U$1:$X$4,MATCH(MID(O$2,8,LEN(O$2)-17),Sheet2!$U$1:$X$1,0)) -> =0.275 | P3: ="="&VLOOKUP($DG3,Sheet2!$B$2:$Q$9,MATCH(MID(P$2,8,LEN(P$2)-17),Sheet2!$B$1:$Q$1,0))&"mm" -> =0.04mm | Q3: ="="&ROUNDDOWN(MIN($CK3,$CM3),2)&"mm" -> =0.33mm | R3: $C | S3: =IF(INDEX($DU3:$DY3,1,MATCH(MID(S$2,8,5),$DU$2:$DY$2,0))=RIGHT(S$2,2),"U","S") -> S | T3: =IF(INDEX($DU3:$DY3,1,MATCH(MID(T$2,8,5),$DU$2:$DY$2,0))=RIGHT(T$2,2),"U","S") -> S | U3: =IF(INDEX($DU3:$DY3,1,MATCH(MID(U$2,8,5),$DU$2:$DY$2,0))=RIGHT(U$2,2),"U","S") -> U | V3: =IF(INDEX($DU3:$DY3,1,MATCH(MID(V$2,8,5),$DU$2:$DY$2,0))=RIGHT(V$2,2),"U","S") -> S | W3: =IF(INDEX($DU3:$DY3,1,MATCH(MID(W$2,8,5),$DU$2:$DY$2,0))=RIGHT(W$2,2),"U","S") -> S | X3: =IF(INDEX($DU3:$DY3,1,MATCH(MID(X$2,8,5),$DU$2:$DY$2,0))=RIGHT(X$2,2),"U","S") -> S | Y3: =IF(INDEX($DU3:$DY3,1,MATCH(MID(Y$2,8,5),$DU$2:$DY$2,0))=RIGHT(Y$2,2),"U","S") -> S | Z3: =IF(INDEX($DU3:$DY3,1,MATCH(MID(Z$2,8,5),$DU$2:$DY$2,0))=RIGHT(Z$2,2),"U","S") -> S | ... BZ3: =IF(INDEX($DU3:$DY3,1,MATCH(MID(BZ$2,8,5),$DU$2:$DY$2,0))=RIGHT(BZ$2,2),"U","S") -> S | CA3: S | CB3: S | CC3: S | CE3: =VLOOKUP($DI3+2,Sheet2!$U$1:$X$4,MATCH(CE$2,Sheet2!$U$1:$X$1,0)) -> 0.22 | CF3: =VLOOKUP($DI3+2,Sheet2!$U$1:$X$4,MATCH(CF$2,Sheet2!$U$1:$X$1,0)) -> 0.275 | CG3: =VLOOKUP($DG3,Sheet2!$B$2:$Q$9,MATCH(CG$2,Sheet2!$B$1:$Q$1,0)) -> 3.5 | CH3: =VLOOKUP($DG3,Sheet2!$B$2:$Q$9,MATCH(CH$2,Sheet2!$B$1:$Q$1,0)) -> 1.39 | CI3: =VLOOKUP($DG3,Sheet2!$B$2:$Q$9,MATCH(CI$2,Sheet2!$B$1:$Q$1,0)) -> 0.915 | CJ3: =VLOOKUP($DG3,Sheet2!$B$2:$Q$9,MATCH(CJ$2,Sheet2!$B$1:$Q$1,0)) -> 0.21 | CK3: =VLOOKUP($DG3,Sheet2!$B$2:$Q$9,MATCH(CK$2,Sheet2!$B$1:$Q$1,0)) -> 0.33 | CL3: =$CE3*($CG3-$CH3)/2 -> 0.2321 | CM3: =$CI3-$CJ3-$CL3 -> 0.4729 | CN3: E24 | CO3: 10 | CP3: =IF(AND($CN3=$CN2,$DG2=$DG3),IF($CO3=10,$CP2*10,$CP2),0.1) -> 0.1 | CQ3: =CO3*CP3 -> 1 | CR3: 0.01 | CS3: =$DH3/3=INT($DH3/3) -> TRUE | CT3: =IF($CS3,"0.0","GENERAL") -> 0.0 | CU3: =IF(CQ3<1000,1,IF(CQ3<1000000,1000,1000000)) -> 1 | CV3: =INT($CQ3/$CU3) -> 1 | CW3: =INT(10*$CQ3/$CU3-10*$CV3) -> 0 | CX3: =INT(100*$CQ3/$CU3-100*$CV3-10*$CW3) -> 0 | CY3: =INT(1000*$CQ3/$CU3-1000*$CV3-100*$CW3-10*$CX3) -> 0 | CZ3: =CHOOSE(1+LOG($CU3)/3,"R","K","M") -> R | DA3: =IF(AND($CY3=0,$CX3=0,$CW3=0),"",$CW3) | DB3: =IF(AND($CY3=0,$CX3=0),"",$CX3) | DC3: =IF($CY3=0,"",$CY3) | DD3: =$CV3&$CZ3&$DA3&$DB3&$DC3 -> 1R | DE3: =IF($CQ3<1000,TEXT($CQ3,$CT3)&"R",IF($CQ3<1000000,TEXT($CQ3/1000,$CT3)&"K",TEXT($CQ3/1000000,$CT3)&"M")) -> 1.0R | DF3: 200 | DG3: =VLOOKUP($DF3,Sheet2!$A$2:$B$15,2,0) -> 1 | DH3: =INT(LOG($CQ3,10)) -> 0 | DI3: =IF($CR3<5%,3,2) -> 3 | DJ3: =10^$DH3 -> 1 | DK3: =IF(3-LOG(DK$2)<$DI3,IF(1+$DI3-LOG(DK$2)>$DI3,"",INT($CQ3/$DJ3)),"") -> 1 | DL3: =IF(3-LOG(DL$2)<$DI3,IF(1+$DI3-LOG(DL$2)>$DI3,"",INT(10*$CQ3/$DJ3-10*$DK3)),"") -> 0 | DM3: =IF(3-LOG(DM$2)<$DI3,IF(1+$DI3-LOG(DM$2)>$DI3,"",INT(100*$CQ3-(100*$DK3*$DJ3+10*$DL3*$DJ3))/$DJ3),"") -> 0 | DN3: =1+$DH3-$DI3 -> -2 | DO3: =100*CR3 -> 1 | DP3: =IF($DK3="","",CHOOSE(3+$DK3,"SR","GD","BK","BN","RD","OR","YL","GN","BL","VT","GY","WT")) -> BN | DQ3: =IF($DL3="","",CHOOSE(3+$DL3,"SR","GD","BK","BN","RD","OR","YL","GN","BL","VT","GY","WT")) -> BK | DR3: =IF($DM3="","",CHOOSE(3+$DM3,"SR","GD","BK","BN","RD","OR","YL","GN","BL","VT","GY","WT")) -> BK | DS3: =IF($DN3="","",CHOOSE(3+$DN3,"SR","GD","BK","BN","RD","OR","YL","GN","BL","VT","GY","WT")) -> SR | DT3: =IF($DO3="","",IF($DO3<1,CHOOSE(20*$DO3,"GY","VT",,,"BL",,,,,"GN"),CHOOSE($DO3,"BN","RD",,,"GD",,,,,"SR",,,,,,,,,,""))) -> BN | DU3: =IF(DK3="","",CHOOSE(3+DK3,"SR","GD","BK","BN","RD","OR","YL","GN","BL","VT","GY","WT")) -> BN | DV3: =IF($DI3<2,$DS3,DQ3) -> BK | DW3: =IF($DI3<2,"",IF($DI3<3,$DS3,DR3)) -> BK | DX3: =IF($DI3<3,"",DS3) -> SR | DY3: =DT3 -> BN
A4: =$DD4&" "&100*$CR4&"%"&" "&TEXT($DF4/1000,"0.0") -> 150R 1% 0.3 | B4: ="Resistor"&" "&$DD4&" "&100*$CR4&"%"& " AXIAL-"&TEXT($DF4/1000,"0.0") -> Resistor 150R 1% AXIAL-0.3 | C4: 5000268 | D4: Metal | E4: ="="&VLOOKUP($DG4,Sheet2!$B$2:$Q$9,MATCH(MID(E$2,8,LEN(E$2)-17),Sheet2!$B$1:$Q$1,0))&"mm" -> =3.5mm | F4: ="="&VLOOKUP($DG4,Sheet2!$B$2:$Q$9,MATCH(MID(F$2,8,LEN(F$2)-17),Sheet2!$B$1:$Q$1,0))&"mm" -> =1.85mm | G4: ="="&VLOOKUP($DG4,Sheet2!$B$2:$Q$9,MATCH(MID(G$2,8,LEN(G$2)-17),Sheet2!$B$1:$Q$1,0))&"mm" -> =1.57mm | H4: ="="&VLOOKUP($DG4,Sheet2!$B$2:$Q$9,MATCH(MID(H$2,8,LEN(H$2)-17),Sheet2!$B$1:$Q$1,0))&"mm" -> =0.5mm | I4: ="="&VLOOKUP($DG4,Sheet2!$B$2:$Q$9,MATCH(MID(I$2,8,LEN(I$2)-17),Sheet2!$B$1:$Q$1,0))&"mm" -> =1.39mm | J4: ="="&VLOOKUP($DG4,Sheet2!$B$2:$Q$9,MATCH(MID(J$2,8,LEN(J$2)-17),Sheet2!$B$1:$Q$1,0))&"mm" -> =0.21mm | K4: ="="&VLOOKUP($DG4,Sheet2!$B$2:$Q$9,MATCH(MID(K$2,8,LEN(K$2)-17),Sheet2!$B$1:$Q$1,0))&"mm" -> =0.6mm | L4: ="="&VLOOKUP($DG4,Sheet2!$B$2:$Q$9,MATCH(MID(L$2,8,LEN(L$2)-17),Sheet2!$B$1:$Q$1,0))&"mm" -> =0.45mm | M4: ="="&VLOOKUP($DG4,Sheet2!$B$2:$Q$9,MATCH(MID(M$2,8,LEN(M$2)-17),Sheet2!$B$1:$Q$1,0))&"mm" -> =7.62mm | N4: ="="&VLOOKUP($DI4+2,Sheet2!$U$1:$X$4,MATCH(MID(N$2,8,LEN(N$2)-17),Sheet2!$U$1:$X$1,0)) -> =0.22 | O4: ="="&VLOOKUP($DI4+2,Sheet2!$U$1:$X$4,MATCH(MID(O$2,8,LEN(O$2)-17),Sheet2!$U$1:$X$1,0)) -> =0.275 | P4: ="="&VLOOKUP($DG4,Sheet2!$B$2:$Q$9,MATCH(MID(P$2,8,LEN(P$2)-17),Sheet2!$B$1:$Q$1,0))&"mm" -> =0.04mm | Q4: ="="&ROUNDDOWN(MIN($CK4,$CM4),2)&"mm" -> =0.33mm | R4: $C | S4: =IF(INDEX($DU4:$DY4,1,MATCH(MID(S$2,8,5),$DU$2:$DY$2,0))=RIGHT(S$2,2),"U","S") -> S | T4: =IF(INDEX($DU4:$DY4,1,MATCH(MID(T$2,8,5),$DU$2:$DY$2,0))=RIGHT(T$2,2),"U","S") -> S | U4: =IF(INDEX($DU4:$DY4,1,MATCH(MID(U$2,8,5),$DU$2:$DY$2,0))=RIGHT(U$2,2),"U","S") -> U | V4: =IF(INDEX($DU4:$DY4,1,MATCH(MID(V$2,8,5),$DU$2:$DY$2,0))=RIGHT(V$2,2),"U","S") -> S | W4: =IF(INDEX($DU4:$DY4,1,MATCH(MID(W$2,8,5),$DU$2:$DY$2,0))=RIGHT(W$2,2),"U","S") -> S | X4: =IF(INDEX($DU4:$DY4,1,MATCH(MID(X$2,8,5),$DU$2:$DY$2,0))=RIGHT(X$2,2),"U","S") -> S | Y4: =IF(INDEX($DU4:$DY4,1,MATCH(MID(Y$2,8,5),$DU$2:$DY$2,0))=RIGHT(Y$2,2),"U","S") -> S | Z4: =IF(INDEX($DU4:$DY4,1,MATCH(MID(Z$2,8,5),$DU$2:$DY$2,0))=RIGHT(Z$2,2),"U","S") -> S | ... BZ4: =IF(INDEX($DU4:$DY4,1,MATCH(MID(BZ$2,8,5),$DU$2:$DY$2,0))=RIGHT(BZ$2,2),"U","S") -> S | CA4: S | CB4: S | CC4: S | CE4: =VLOOKUP($DI4+2,Sheet2!$U$1:$X$4,MATCH(CE$2,Sheet2!$U$1:$X$1,0)) -> 0.22 | CF4: =VLOOKUP($DI4+2,Sheet2!$U$1:$X$4,MATCH(CF$2,Sheet2!$U$1:$X$1,0)) -> 0.275 | CG4: =VLOOKUP($DG4,Sheet2!$B$2:$Q$9,MATCH(CG$2,Sheet2!$B$1:$Q$1,0)) -> 3.5 | CH4: =VLOOKUP($DG4,Sheet2!$B$2:$Q$9,MATCH(CH$2,Sheet2!$B$1:$Q$1,0)) -> 1.39 | CI4: =VLOOKUP($DG4,Sheet2!$B$2:$Q$9,MATCH(CI$2,Sheet2!$B$1:$Q$1,0)) -> 0.915 | CJ4: =VLOOKUP($DG4,Sheet2!$B$2:$Q$9,MATCH(CJ$2,Sheet2!$B$1:$Q$1,0)) -> 0.21 | CK4: =VLOOKUP($DG4,Sheet2!$B$2:$Q$9,MATCH(CK$2,Sheet2!$B$1:$Q$1,0)) -> 0.33 | CL4: =$CE4*($CG4-$CH4)/2 -> 0.2321 | CM4: =$CI4-$CJ4-$CL4 -> 0.4729 | CN4: E24 | CO4: 15 | CP4: 10 | CQ4: =CO4*CP4 -> 150 | CR4: 0.01 | CS4: =$DH4/3=INT($DH4/3) -> FALSE | CT4: =IF($CS4,"0.0","GENERAL") -> GENERAL | CU4: =IF(CQ4<1000,1,IF(CQ4<1000000,1000,1000000)) -> 1 | CV4: =INT($CQ4/$CU4) -> 150 | CW4: =INT(10*$CQ4/$CU4-10*$CV4) -> 0 | CX4: =INT(100*$CQ4/$CU4-100*$CV4-10*$CW4) -> 0 | CY4: =INT(1000*$CQ4/$CU4-1000*$CV4-100*$CW4-10*$CX4) -> 0 | CZ4: =CHOOSE(1+LOG($CU4)/3,"R","K","M") -> R | DA4: =IF(AND($CY4=0,$CX4=0,$CW4=0),"",$CW4) | DB4: =IF(AND($CY4=0,$CX4=0),"",$CX4) | DC4: =IF($CY4=0,"",$CY4) | DD4: =$CV4&$CZ4&$DA4&$DB4&$DC4 -> 150R | DE4: =IF($CQ4<1000,TEXT($CQ4,$CT4)&"R",IF($CQ4<1000000,TEXT($CQ4/1000,$CT4)&"K",TEXT($CQ4/1000000,$CT4)&"M")) -> 150R | DF4: 300 | DG4: =VLOOKUP($DF4,Sheet2!$A$2:$B$15,2,0) -> 2 | DH4: =INT(LOG($CQ4,10)) -> 2 | DI4: =IF($CR4<5%,3,2) -> 3 | DJ4: =10^$DH4 -> 100 | DK4: =IF(3-LOG(DK$2)<$DI4,IF(1+$DI4-LOG(DK$2)>$DI4,"",INT($CQ4/$DJ4)),"") -> 1 | DL4: =IF(3-LOG(DL$2)<$DI4,IF(1+$DI4-LOG(DL$2)>$DI4,"",INT(10*$CQ4/$DJ4-10*$DK4)),"") -> 5 | DM4: =IF(3-LOG(DM$2)<$DI4,IF(1+$DI4-LOG(DM$2)>$DI4,"",INT(100*$CQ4-(100*$DK4*$DJ4+10*$DL4*$DJ4))/$DJ4),"") -> 0 | DN4: =1+$DH4-$DI4 -> 0 | DO4: =100*CR4 -> 1 | DP4: =IF($DK4="","",CHOOSE(3+$DK4,"SR","GD","BK","BN","RD","OR","YL","GN","BL","VT","GY","WT")) -> BN | DQ4: =IF($DL4="","",CHOOSE(3+$DL4,"SR","GD","BK","BN","RD","OR","YL","GN","BL","VT","GY","WT")) -> GN | DR4: =IF($DM4="","",CHOOSE(3+$DM4,"SR","GD","BK","BN","RD","OR","YL","GN","BL","VT","GY","WT")) -> BK | DS4: =IF($DN4="","",CHOOSE(3+$DN4,"SR","GD","BK","BN","RD","OR","YL","GN","BL","VT","GY","WT")) -> BK | DT4: =IF($DO4="","",IF($DO4<1,CHOOSE(20*$DO4,"GY","VT",,,"BL",,,,,"GN"),CHOOSE($DO4,"BN","RD",,,"GD",,,,,"SR",,,,,,,,,,""))) -> BN | DU4: =IF(DK4="","",CHOOSE(3+DK4,"SR","GD","BK","BN","RD","OR","YL","GN","BL","VT","GY","WT")) -> BN | DV4: =IF($DI4<2,$DS4,DQ4) -> GN | DW4: =IF($DI4<2,"",IF($DI4<3,$DS4,DR4)) -> BK | DX4: =IF($DI4<3,"",DS4) -> BK | DY4: =IF(DO4="","",IF(DO4<1,CHOOSE(20*DO4,"GY","VT",,,"BL",,,,,"GN"),CHOOSE(DO4,"BN","RD",,,"GD",,,,,"SR",,,,,,,,,,""))) -> BN
A5: =$DD5&" "&100*$CR5&"%"&" "&TEXT($DF5/1000,"0.0") -> 3K3 1% 0.4 | B5: ="Resistor"&" "&$DD5&" "&100*$CR5&"%"& " AXIAL-"&TEXT($DF5/1000,"0.0") -> Resistor 3K3 1% AXIAL-0.4 | C5: 5000268 | D5: Metal | E5: ="="&VLOOKUP($DG5,Sheet2!$B$2:$Q$9,MATCH(MID(E$2,8,LEN(E$2)-17),Sheet2!$B$1:$Q$1,0))&"mm" -> =6.8mm | F5: ="="&VLOOKUP($DG5,Sheet2!$B$2:$Q$9,MATCH(MID(F$2,8,LEN(F$2)-17),Sheet2!$B$1:$Q$1,0))&"mm" -> =2.5mm | G5: ="="&VLOOKUP($DG5,Sheet2!$B$2:$Q$9,MATCH(MID(G$2,8,LEN(G$2)-17),Sheet2!$B$1:$Q$1,0))&"mm" -> =2.13mm | H5: ="="&VLOOKUP($DG5,Sheet2!$B$2:$Q$9,MATCH(MID(H$2,8,LEN(H$2)-17),Sheet2!$B$1:$Q$1,0))&"mm" -> =0.5mm | I5: ="="&VLOOKUP($DG5,Sheet2!$B$2:$Q$9,MATCH(MID(I$2,8,LEN(I$2)-17),Sheet2!$B$1:$Q$1,0))&"mm" -> =2.7mm | J5: ="="&VLOOKUP($DG5,Sheet2!$B$2:$Q$9,MATCH(MID(J$2,8,LEN(J$2)-17),Sheet2!$B$1:$Q$1,0))&"mm" -> =0.4mm | K5: ="="&VLOOKUP($DG5,Sheet2!$B$2:$Q$9,MATCH(MID(K$2,8,LEN(K$2)-17),Sheet2!$B$1:$Q$1,0))&"mm" -> =0.8mm | L5: ="="&VLOOKUP($DG5,Sheet2!$B$2:$Q$9,MATCH(MID(L$2,8,LEN(L$2)-17),Sheet2!$B$1:$Q$1,0))&"mm" -> =0.54mm | M5: ="="&VLOOKUP($DG5,Sheet2!$B$2:$Q$9,MATCH(MID(M$2,8,LEN(M$2)-17),Sheet2!$B$1:$Q$1,0))&"mm" -> =10.16mm | N5: ="="&VLOOKUP($DI5+2,Sheet2!$U$1:$X$4,MATCH(MID(N$2,8,LEN(N$2)-17),Sheet2!$U$1:$X$1,0)) -> =0.22 | O5: ="="&VLOOKUP($DI5+2,Sheet2!$U$1:$X$4,MATCH(MID(O$2,8,LEN(O$2)-17),Sheet2!$U$1:$X$1,0)) -> =0.275 | P5: ="="&VLOOKUP($DG5,Sheet2!$B$2:$Q$9,MATCH(MID(P$2,8,LEN(P$2)-17),Sheet2!$B$1:$Q$1,0))&"mm" -> =0.04mm | Q5: ="="&ROUNDDOWN(MIN($CK5,$CM5),2)&"mm" -> =0.47mm | R5: $C | S5: =IF(INDEX($DU5:$DY5,1,MATCH(MID(S$2,8,5),$DU$2:$DY$2,0))=RIGHT(S$2,2),"U","S") -> S | T5: =IF(INDEX($DU5:$DY5,1,MATCH(MID(T$2,8,5),$DU$2:$DY$2,0))=RIGHT(T$2,2),"U","S") -> S | U5: =IF(INDEX($DU5:$DY5,1,MATCH(MID(U$2,8,5),$DU$2:$DY$2,0))=RIGHT(U$2,2),"U","S") -> S | V5: =IF(INDEX($DU5:$DY5,1,MATCH(MID(V$2,8,5),$DU$2:$DY$2,0))=RIGHT(V$2,2),"U","S") -> S | W5: =IF(INDEX($DU5:$DY5,1,MATCH(MID(W$2,8,5),$DU$2:$DY$2,0))=RIGHT(W$2,2),"U","S") -> S | X5: =IF(INDEX($DU5:$DY5,1,MATCH(MID(X$2,8,5),$DU$2:$DY$2,0))=RIGHT(X$2,2),"U","S") -> S | Y5: =IF(INDEX($DU5:$DY5,1,MATCH(MID(Y$2,8,5),$DU$2:$DY$2,0))=RIGHT(Y$2,2),"U","S") -> U | Z5: =IF(INDEX($DU5:$DY5,1,MATCH(MID(Z$2,8,5),$DU$2:$DY$2,0))=RIGHT(Z$2,2),"U","S") -> S | ... BZ5: =IF(INDEX($DU5:$DY5,1,MATCH(MID(BZ$2,8,5),$DU$2:$DY$2,0))=RIGHT(BZ$2,2),"U","S") -> S | CA5: S | CB5: S | CC5: S | CE5: =VLOOKUP($DI5+2,Sheet2!$U$1:$X$4,MATCH(CE$2,Sheet2!$U$1:$X$1,0)) -> 0.22 | CF5: =VLOOKUP($DI5+2,Sheet2!$U$1:$X$4,MATCH(CF$2,Sheet2!$U$1:$X$1,0)) -> 0.275 | CG5: =VLOOKUP($DG5,Sheet2!$B$2:$Q$9,MATCH(CG$2,Sheet2!$B$1:$Q$1,0)) -> 6.8 | CH5: =VLOOKUP($DG5,Sheet2!$B$2:$Q$9,MATCH(CH$2,Sheet2!$B$1:$Q$1,0)) -> 2.7 | CI5: =VLOOKUP($DG5,Sheet2!$B$2:$Q$9,MATCH(CI$2,Sheet2!$B$1:$Q$1,0)) -> 1.865 | CJ5: =VLOOKUP($DG5,Sheet2!$B$2:$Q$9,MATCH(CJ$2,Sheet2!$B$1:$Q$1,0)) -> 0.4 | CK5: =VLOOKUP($DG5,Sheet2!$B$2:$Q$9,MATCH(CK$2,Sheet2!$B$1:$Q$1,0)) -> 0.47 | CL5: =$CE5*($CG5-$CH5)/2 -> 0.451 | CM5: =$CI5-$CJ5-$CL5 -> 1.014 | CN5: E24 | CO5: 33 | CP5: 100 | CQ5: =CO5*CP5 -> 3300 | CR5: 0.01 | CS5: =$DH5/3=INT($DH5/3) -> TRUE | CT5: =IF($CS5,"0.0","GENERAL") -> 0.0 | CU5: =IF(CQ5<1000,1,IF(CQ5<1000000,1000,1000000)) -> 1000 | CV5: =INT($CQ5/$CU5) -> 3 | CW5: =INT(10*$CQ5/$CU5-10*$CV5) -> 3 | CX5: =INT(100*$CQ5/$CU5-100*$CV5-10*$CW5) -> 0 | CY5: =INT(1000*$CQ5/$CU5-1000*$CV5-100*$CW5-10*$CX5) -> 0 | CZ5: =CHOOSE(1+LOG($CU5)/3,"R","K","M") -> K | DA5: =IF(AND($CY5=0,$CX5=0,$CW5=0),"",$CW5) -> 3 | DB5: =IF(AND($CY5=0,$CX5=0),"",$CX5) | DC5: =IF($CY5=0,"",$CY5) | DD5: =$CV5&$CZ5&$DA5&$DB5&$DC5 -> 3K3 | DE5: =IF($CQ5<1000,TEXT($CQ5,$CT5)&"R",IF($CQ5<1000000,TEXT($CQ5/1000,$CT5)&"K",TEXT($CQ5/1000000,$CT5)&"M")) -> 3.3K | DF5: 400 | DG5: =VLOOKUP($DF5,Sheet2!$A$2:$B$15,2,0) -> 3 | DH5: =INT(LOG($CQ5,10)) -> 3 | DI5: =IF($CR5<5%,3,2) -> 3 | DJ5: =10^$DH5 -> 1000 | DK5: =IF(3-LOG(DK$2)<$DI5,IF(1+$DI5-LOG(DK$2)>$DI5,"",INT($CQ5/$DJ5)),"") -> 3 | DL5: =IF(3-LOG(DL$2)<$DI5,IF(1+$DI5-LOG(DL$2)>$DI5,"",INT(10*$CQ5/$DJ5-10*$DK5)),"") -> 3 | DM5: =IF(3-LOG(DM$2)<$DI5,IF(1+$DI5-LOG(DM$2)>$DI5,"",INT(100*$CQ5-(100*$DK5*$DJ5+10*$DL5*$DJ5))/$DJ5),"") -> 0 | DN5: =1+$DH5-$DI5 -> 1 | DO5: =100*CR5 -> 1 | DP5: =IF($DK5="","",CHOOSE(3+$DK5,"SR","GD","BK","BN","RD","OR","YL","GN","BL","VT","GY","WT")) -> OR | DQ5: =IF($DL5="","",CHOOSE(3+$DL5,"SR","GD","BK","BN","RD","OR","YL","GN","BL","VT","GY","WT")) -> OR | DR5: =IF($DM5="","",CHOOSE(3+$DM5,"SR","GD","BK","BN","RD","OR","YL","GN","BL","VT","GY","WT")) -> BK | DS5: =IF($DN5="","",CHOOSE(3+$DN5,"SR","GD","BK","BN","RD","OR","YL","GN","BL","VT","GY","WT")) -> BN | DT5: =IF($DO5="","",IF($DO5<1,CHOOSE(20*$DO5,"GY","VT",,,"BL",,,,,"GN"),CHOOSE($DO5,"BN","RD",,,"GD",,,,,"SR",,,,,,,,,,""))) -> BN | DU5: =IF(DK5="","",CHOOSE(3+DK5,"SR","GD","BK","BN","RD","OR","YL","GN","BL","VT","GY","WT")) -> OR | DV5: =IF($DI5<2,$DS5,DQ5) -> OR | DW5: =IF($DI5<2,"",IF($DI5<3,$DS5,DR5)) -> BK | DX5: =IF($DI5<3,"",DS5) -> BN | DY5: =IF(DO5="","",IF(DO5<1,CHOOSE(20*DO5,"GY","VT",,,"BL",,,,,"GN"),CHOOSE(DO5,"BN","RD",,,"GD",,,,,"SR",,,,,,,,,,""))) -> BN
A6: =$DD6&" "&100*$CR6&"%"&" "&TEXT($DF6/1000,"0.0") -> 47K 5% 0.5 | B6: ="Resistor"&" "&$DD6&" "&100*$CR6&"%"& " AXIAL-"&TEXT($DF6/1000,"0.0") -> Resistor 47K 5% AXIAL-0.5 | C6: 5000268 | D6: Metal | E6: ="="&VLOOKUP($DG6,Sheet2!$B$2:$Q$9,MATCH(MID(E$2,8,LEN(E$2)-17),Sheet2!$B$1:$Q$1,0))&"mm" -> =9mm | F6: ="="&VLOOKUP($DG6,Sheet2!$B$2:$Q$9,MATCH(MID(F$2,8,LEN(F$2)-17),Sheet2!$B$1:$Q$1,0))&"mm" -> =3mm | G6: ="="&VLOOKUP($DG6,Sheet2!$B$2:$Q$9,MATCH(MID(G$2,8,LEN(G$2)-17),Sheet2!$B$1:$Q$1,0))&"mm" -> =2.7mm | H6: ="="&VLOOKUP($DG6,Sheet2!$B$2:$Q$9,MATCH(MID(H$2,8,LEN(H$2)-17),Sheet2!$B$1:$Q$1,0))&"mm" -> =0.22mm | I6: ="="&VLOOKUP($DG6,Sheet2!$B$2:$Q$9,MATCH(MID(I$2,8,LEN(I$2)-17),Sheet2!$B$1:$Q$1,0))&"mm" -> =5.67mm | J6: ="="&VLOOKUP($DG6,Sheet2!$B$2:$Q$9,MATCH(MID(J$2,8,LEN(J$2)-17),Sheet2!$B$1:$Q$1,0))&"mm" -> =0.5mm | K6: ="="&VLOOKUP($DG6,Sheet2!$B$2:$Q$9,MATCH(MID(K$2,8,LEN(K$2)-17),Sheet2!$B$1:$Q$1,0))&"mm" -> =1mm | L6: ="="&VLOOKUP($DG6,Sheet2!$B$2:$Q$9,MATCH(MID(L$2,8,LEN(L$2)-17),Sheet2!$B$1:$Q$1,0))&"mm" -> =0.54mm | M6: ="="&VLOOKUP($DG6,Sheet2!$B$2:$Q$9,MATCH(MID(M$2,8,LEN(M$2)-17),Sheet2!$B$1:$Q$1,0))&"mm" -> =12.7mm | N6: ="="&VLOOKUP($DI6+2,Sheet2!$U$1:$X$4,MATCH(MID(N$2,8,LEN(N$2)-17),Sheet2!$U$1:$X$1,0)) -> =0.135 | O6: ="="&VLOOKUP($DI6+2,Sheet2!$U$1:$X$4,MATCH(MID(O$2,8,LEN(O$2)-17),Sheet2!$U$1:$X$1,0)) -> =0.07 | P6: ="="&VLOOKUP($DG6,Sheet2!$B$2:$Q$9,MATCH(MID(P$2,8,LEN(P$2)-17),Sheet2!$B$1:$Q$1,0))&"mm" -> =0.04mm | Q6: ="="&ROUNDDOWN(MIN($CK6,$CM6),2)&"mm" -> =0.59mm | R6: $C | S6: =IF(INDEX($DU6:$DY6,1,MATCH(MID(S$2,8,5),$DU$2:$DY$2,0))=RIGHT(S$2,2),"U","S") -> S | T6: =IF(INDEX($DU6:$DY6,1,MATCH(MID(T$2,8,5),$DU$2:$DY$2,0))=RIGHT(T$2,2),"U","S") -> S | U6: =IF(INDEX($DU6:$DY6,1,MATCH(MID(U$2,8,5),$DU$2:$DY$2,0))=RIGHT(U$2,2),"U","S") -> S | V6: =IF(INDEX($DU6:$DY6,1,MATCH(MID(V$2,8,5),$DU$2:$DY$2,0))=RIGHT(V$2,2),"U","S") -> S | W6: =IF(INDEX($DU6:$DY6,1,MATCH(MID(W$2,8,5),$DU$2:$DY$2,0))=RIGHT(W$2,2),"U","S") -> S | X6: =IF(INDEX($DU6:$DY6,1,MATCH(MID(X$2,8,5),$DU$2:$DY$2,0))=RIGHT(X$2,2),"U","S") -> S | Y6: =IF(INDEX($DU6:$DY6,1,MATCH(MID(Y$2,8,5),$DU$2:$DY$2,0))=RIGHT(Y$2,2),"U","S") -> S | Z6: =IF(INDEX($DU6:$DY6,1,MATCH(MID(Z$2,8,5),$DU$2:$DY$2,0))=RIGHT(Z$2,2),"U","S") -> S | ... BZ6: =IF(INDEX($DU6:$DY6,1,MATCH(MID(BZ$2,8,5),$DU$2:$DY$2,0))=RIGHT(BZ$2,2),"U","S") -> S | CA6: S | CB6: S | CC6: S | CE6: =VLOOKUP($DI6+2,Sheet2!$U$1:$X$4,MATCH(CE$2,Sheet2!$U$1:$X$1,0)) -> 0.135 | CF6: =VLOOKUP($DI6+2,Sheet2!$U$1:$X$4,MATCH(CF$2,Sheet2!$U$1:$X$1,0)) -> 0.07 | CG6: =VLOOKUP($DG6,Sheet2!$B$2:$Q$9,MATCH(CG$2,Sheet2!$B$1:$Q$1,0)) -> 9 | CH6: =VLOOKUP($DG6,Sheet2!$B$2:$Q$9,MATCH(CH$2,Sheet2!$B$1:$Q$1,0)) -> 5.67 | CI6: =VLOOKUP($DG6,Sheet2!$B$2:$Q$9,MATCH(CI$2,Sheet2!$B$1:$Q$1,0)) -> 1.3240909 | CJ6: =VLOOKUP($DG6,Sheet2!$B$2:$Q$9,MATCH(CJ$2,Sheet2!$B$1:$Q$1,0)) -> 0.5 | CK6: =VLOOKUP($DG6,Sheet2!$B$2:$Q$9,MATCH(CK$2,Sheet2!$B$1:$Q$1,0)) -> 0.595 | CL6: =$CE6*($CG6-$CH6)/2 -> 0.224775 | CM6: =$CI6-$CJ6-$CL6 -> 0.59931591 | CN6: E24 | CO6: 47 | CP6: 1000 | CQ6: =CO6*CP6 -> 47000 | CR6: 0.05 | CS6: =$DH6/3=INT($DH6/3) -> FALSE | CT6: =IF($CS6,"0.0","GENERAL") -> GENERAL | CU6: =IF(CQ6<1000,1,IF(CQ6<1000000,1000,1000000)) -> 1000 | CV6: =INT($CQ6/$CU6) -> 47 | CW6: =INT(10*$CQ6/$CU6-10*$CV6) -> 0 | CX6: =INT(100*$CQ6/$CU6-100*$CV6-10*$CW6) -> 0 | CY6: =INT(1000*$CQ6/$CU6-1000*$CV6-100*$CW6-10*$CX6) -> 0 | CZ6: =CHOOSE(1+LOG($CU6)/3,"R","K","M") -> K | DA6: =IF(AND($CY6=0,$CX6=0,$CW6=0),"",$CW6) | DB6: =IF(AND($CY6=0,$CX6=0),"",$CX6) | DC6: =IF($CY6=0,"",$CY6) | DD6: =$CV6&$CZ6&$DA6&$DB6&$DC6 -> 47K | DE6: =IF($CQ6<1000,TEXT($CQ6,$CT6)&"R",IF($CQ6<1000000,TEXT($CQ6/1000,$CT6)&"K",TEXT($CQ6/1000000,$CT6)&"M")) -> 47K | DF6: 500 | DG6: =VLOOKUP($DF6,Sheet2!$A$2:$B$15,2,0) -> 4 | DH6: =INT(LOG($CQ6,10)) -> 4 | DI6: =IF($CR6<5%,3,2) -> 2 | DJ6: =10^$DH6 -> 10000 | DK6: =IF(3-LOG(DK$2)<$DI6,IF(1+$DI6-LOG(DK$2)>$DI6,"",INT($CQ6/$DJ6)),"") -> 4 | DL6: =IF(3-LOG(DL$2)<$DI6,IF(1+$DI6-LOG(DL$2)>$DI6,"",INT(10*$CQ6/$DJ6-10*$DK6)),"") -> 7 | DM6: =IF(3-LOG(DM$2)<$DI6,IF(1+$DI6-LOG(DM$2)>$DI6,"",INT(100*$CQ6-(100*$DK6*$DJ6+10*$DL6*$DJ6))/$DJ6),"") | DN6: =1+$DH6-$DI6 -> 3 | DO6: =100*CR6 -> 5 | DP6: =IF($DK6="","",CHOOSE(3+$DK6,"SR","GD","BK","BN","RD","OR","YL","GN","BL","VT","GY","WT")) -> YL | DQ6: =IF($DL6="","",CHOOSE(3+$DL6,"SR","GD","BK","BN","RD","OR","YL","GN","BL","VT","GY","WT")) -> VT | DR6: =IF($DM6="","",CHOOSE(3+$DM6,"SR","GD","BK","BN","RD","OR","YL","GN","BL","VT","GY","WT")) | DS6: =IF($DN6="","",CHOOSE(3+$DN6,"SR","GD","BK","BN","RD","OR","YL","GN","BL","VT","GY","WT")) -> OR | DT6: =IF($DO6="","",IF($DO6<1,CHOOSE(20*$DO6,"GY","VT",,,"BL",,,,,"GN"),CHOOSE($DO6,"BN","RD",,,"GD",,,,,"SR",,,,,,,,,,""))) -> GD | DU6: =IF(DK6="","",CHOOSE(3+DK6,"SR","GD","BK","BN","RD","OR","YL","GN","BL","VT","GY","WT")) -> YL | DV6: =IF($DI6<2,$DS6,DQ6) -> VT | DW6: =IF($DI6<2,"",IF($DI6<3,$DS6,DR6)) -> OR | DX6: =IF($DI6<3,"",DS6) | DY6: =IF(DO6="","",IF(DO6<1,CHOOSE(20*DO6,"GY","VT",,,"BL",,,,,"GN"),CHOOSE(DO6,"BN","RD",,,"GD",,,,,"SR",,,,,,,,,,""))) -> GD
A7: =$DD7&" "&100*$CR7&"%"&" "&TEXT($DF7/1000,"0.0") -> 560K 5% 0.6 | B7: ="Resistor"&" "&$DD7&" "&100*$CR7&"%"& " AXIAL-"&TEXT($DF7/1000,"0.0") -> Resistor 560K 5% AXIAL-0.6 | C7: 5000268 | D7: Metal | E7: ="="&VLOOKUP($DG7,Sheet2!$B$2:$Q$9,MATCH(MID(E$2,8,LEN(E$2)-17),Sheet2!$B$1:$Q$1,0))&"mm" -> =12mm | F7: ="="&VLOOKUP($DG7,Sheet2!$B$2:$Q$9,MATCH(MID(F$2,8,LEN(F$2)-17),Sheet2!$B$1:$Q$1,0))&"mm" -> =5mm | G7: ="="&VLOOKUP($DG7,Sheet2!$B$2:$Q$9,MATCH(MID(G$2,8,LEN(G$2)-17),Sheet2!$B$1:$Q$1,0))&"mm" -> =4.5mm | H7: ="="&VLOOKUP($DG7,Sheet2!$B$2:$Q$9,MATCH(MID(H$2,8,LEN(H$2)-17),Sheet2!$B$1:$Q$1,0))&"mm" -> =0.22mm | I7: ="="&VLOOKUP($DG7,Sheet2!$B$2:$Q$9,MATCH(MID(I$2,8,LEN(I$2)-17),Sheet2!$B$1:$Q$1,0))&"mm" -> =7.56mm | J7: ="="&VLOOKUP($DG7,Sheet2!$B$2:$Q$9,MATCH(MID(J$2,8,LEN(J$2)-17),Sheet2!$B$1:$Q$1,0))&"mm" -> =0.7mm | K7: ="="&VLOOKUP($DG7,Sheet2!$B$2:$Q$9,MATCH(MID(K$2,8,LEN(K$2)-17),Sheet2!$B$1:$Q$1,0))&"mm" -> =1mm | L7: ="="&VLOOKUP($DG7,Sheet2!$B$2:$Q$9,MATCH(MID(L$2,8,LEN(L$2)-17),Sheet2!$B$1:$Q$1,0))&"mm" -> =0.7mm | M7: ="="&VLOOKUP($DG7,Sheet2!$B$2:$Q$9,MATCH(MID(M$2,8,LEN(M$2)-17),Sheet2!$B$1:$Q$1,0))&"mm" -> =15.24mm | N7: ="="&VLOOKUP($DI7+2,Sheet2!$U$1:$X$4,MATCH(MID(N$2,8,LEN(N$2)-17),Sheet2!$U$1:$X$1,0)) -> =0.135 | O7: ="="&VLOOKUP($DI7+2,Sheet2!$U$1:$X$4,MATCH(MID(O$2,8,LEN(O$2)-17),Sheet2!$U$1:$X$1,0)) -> =0.07 | P7: ="="&VLOOKUP($DG7,Sheet2!$B$2:$Q$9,MATCH(MID(P$2,8,LEN(P$2)-17),Sheet2!$B$1:$Q$1,0))&"mm" -> =0.04mm | Q7: ="="&ROUNDDOWN(MIN($CK7,$CM7),2)&"mm" -> =0.65mm | R7: $C | S7: =IF(INDEX($DU7:$DY7,1,MATCH(MID(S$2,8,5),$DU$2:$DY$2,0))=RIGHT(S$2,2),"U","S") -> S | T7: =IF(INDEX($DU7:$DY7,1,MATCH(MID(T$2,8,5),$DU$2:$DY$2,0))=RIGHT(T$2,2),"U","S") -> S | U7: =IF(INDEX($DU7:$DY7,1,MATCH(MID(U$2,8,5),$DU$2:$DY$2,0))=RIGHT(U$2,2),"U","S") -> S | V7: =IF(INDEX($DU7:$DY7,1,MATCH(MID(V$2,8,5),$DU$2:$DY$2,0))=RIGHT(V$2,2),"U","S") -> S | W7: =IF(INDEX($DU7:$DY7,1,MATCH(MID(W$2,8,5),$DU$2:$DY$2,0))=RIGHT(W$2,2),"U","S") -> U | X7: =IF(INDEX($DU7:$DY7,1,MATCH(MID(X$2,8,5),$DU$2:$DY$2,0))=RIGHT(X$2,2),"U","S") -> S | Y7: =IF(INDEX($DU7:$DY7,1,MATCH(MID(Y$2,8,5),$DU$2:$DY$2,0))=RIGHT(Y$2,2),"U","S") -> S | Z7: =IF(INDEX($DU7:$DY7,1,MATCH(MID(Z$2,8,5),$DU$2:$DY$2,0))=RIGHT(Z$2,2),"U","S") -> S | ... BZ7: =IF(INDEX($DU7:$DY7,1,MATCH(MID(BZ$2,8,5),$DU$2:$DY$2,0))=RIGHT(BZ$2,2),"U","S") -> S | CA7: S | CB7: S | CC7: S | CE7: =VLOOKUP($DI7+2,Sheet2!$U$1:$X$4,MATCH(CE$2,Sheet2!$U$1:$X$1,0)) -> 0.135 | CF7: =VLOOKUP($DI7+2,Sheet2!$U$1:$X$4,MATCH(CF$2,Sheet2!$U$1:$X$1,0)) -> 0.07 | CG7: =VLOOKUP($DG7,Sheet2!$B$2:$Q$9,MATCH(CG$2,Sheet2!$B$1:$Q$1,0)) -> 12 | CH7: =VLOOKUP($DG7,Sheet2!$B$2:$Q$9,MATCH(CH$2,Sheet2!$B$1:$Q$1,0)) -> 7.56 | CI7: =VLOOKUP($DG7,Sheet2!$B$2:$Q$9,MATCH(CI$2,Sheet2!$B$1:$Q$1,0)) -> 1.6518182 | CJ7: =VLOOKUP($DG7,Sheet2!$B$2:$Q$9,MATCH(CJ$2,Sheet2!$B$1:$Q$1,0)) -> 0.7 | CK7: =VLOOKUP($DG7,Sheet2!$B$2:$Q$9,MATCH(CK$2,Sheet2!$B$1:$Q$1,0)) -> 1.055 | CL7: =$CE7*($CG7-$CH7)/2 -> 0.2997 | CM7: =$CI7-$CJ7-$CL7 -> 0.65211818 | CN7: E24 | CO7: 56 | CP7: 10000 | CQ7: =CO7*CP7 -> 560000 | CR7: 0.05 | CS7: =$DH7/3=INT($DH7/3) -> FALSE | CT7: =IF($CS7,"0.0","GENERAL") -> GENERAL | CU7: =IF(CQ7<1000,1,IF(CQ7<1000000,1000,1000000)) -> 1000 | CV7: =INT($CQ7/$CU7) -> 560 | CW7: =INT(10*$CQ7/$CU7-10*$CV7) -> 0 | CX7: =INT(100*$CQ7/$CU7-100*$CV7-10*$CW7) -> 0 | CY7: =INT(1000*$CQ7/$CU7-1000*$CV7-100*$CW7-10*$CX7) -> 0 | CZ7: =CHOOSE(1+LOG($CU7)/3,"R","K","M") -> K | DA7: =IF(AND($CY7=0,$CX7=0,$CW7=0),"",$CW7) | DB7: =IF(AND($CY7=0,$CX7=0),"",$CX7) | DC7: =IF($CY7=0,"",$CY7) | DD7: =$CV7&$CZ7&$DA7&$DB7&$DC7 -> 560K | DE7: =IF($CQ7<1000,TEXT($CQ7,$CT7)&"R",IF($CQ7<1000000,TEXT($CQ7/1000,$CT7)&"K",TEXT($CQ7/1000000,$CT7)&"M")) -> 560K | DF7: 600 | DG7: =VLOOKUP($DF7,Sheet2!$A$2:$B$15,2,0) -> 5 | DH7: =INT(LOG($CQ7,10)) -> 5 | DI7: =IF($CR7<5%,3,2) -> 2 | DJ7: =10^$DH7 -> 100000 | DK7: =IF(3-LOG(DK$2)<$DI7,IF(1+$DI7-LOG(DK$2)>$DI7,"",INT($CQ7/$DJ7)),"") -> 5 | DL7: =IF(3-LOG(DL$2)<$DI7,IF(1+$DI7-LOG(DL$2)>$DI7,"",INT(10*$CQ7/$DJ7-10*$DK7)),"") -> 6 | DM7: =IF(3-LOG(DM$2)<$DI7,IF(1+$DI7-LOG(DM$2)>$DI7,"",INT(100*$CQ7-(100*$DK7*$DJ7+10*$DL7*$DJ7))/$DJ7),"") | DN7: =1+$DH7-$DI7 -> 4 | DO7: =100*CR7 -> 5 | DP7: =IF($DK7="","",CHOOSE(3+$DK7,"SR","GD","BK","BN","RD","OR","YL","GN","BL","VT","GY","WT")) -> GN | DQ7: =IF($DL7="","",CHOOSE(3+$DL7,"SR","GD","BK","BN","RD","OR","YL","GN","BL","VT","GY","WT")) -> BL | DR7: =IF($DM7="","",CHOOSE(3+$DM7,"SR","GD","BK","BN","RD","OR","YL","GN","BL","VT","GY","WT")) | DS7: =IF($DN7="","",CHOOSE(3+$DN7,"SR","GD","BK","BN","RD","OR","YL","GN","BL","VT","GY","WT")) -> YL | DT7: =IF($DO7="","",IF($DO7<1,CHOOSE(20*$DO7,"GY","VT",,,"BL",,,,,"GN"),CHOOSE($DO7,"BN","RD",,,"GD",,,,,"SR",,,,,,,,,,""))) -> GD | DU7: =IF(DK7="","",CHOOSE(3+DK7,"SR","GD","BK","BN","RD","OR","YL","GN","BL","VT","GY","WT")) -> GN | DV7: =IF($DI7<2,$DS7,DQ7) -> BL | DW7: =IF($DI7<2,"",IF($DI7<3,$DS7,DR7)) -> YL | DX7: =IF($DI7<3,"",DS7) | DY7: =IF(DO7="","",IF(DO7<1,CHOOSE(20*DO7,"GY","VT",,,"BL",,,,,"GN"),CHOOSE(DO7,"BN","RD",,,"GD",,,,,"SR",,,,,,,,,,""))) -> GD
A8: =$DD8&" "&100*$CR8&"%"&" "&TEXT($DF8/1000,"0.0") -> 8M2 5% 0.8 | B8: ="Resistor"&" "&$DD8&" "&100*$CR8&"%"& " AXIAL-"&TEXT($DF8/1000,"0.0") -> Resistor 8M2 5% AXIAL-0.8 | C8: 5000268 | D8: Metal | E8: ="="&VLOOKUP($DG8,Sheet2!$B$2:$Q$9,MATCH(MID(E$2,8,LEN(E$2)-17),Sheet2!$B$1:$Q$1,0))&"mm" -> =16mm | F8: ="="&VLOOKUP($DG8,Sheet2!$B$2:$Q$9,MATCH(MID(F$2,8,LEN(F$2)-17),Sheet2!$B$1:$Q$1,0))&"mm" -> =5.5mm | G8: ="="&VLOOKUP($DG8,Sheet2!$B$2:$Q$9,MATCH(MID(G$2,8,LEN(G$2)-17),Sheet2!$B$1:$Q$1,0))&"mm" -> =4.95mm | H8: ="="&VLOOKUP($DG8,Sheet2!$B$2:$Q$9,MATCH(MID(H$2,8,LEN(H$2)-17),Sheet2!$B$1:$Q$1,0))&"mm" -> =0.22mm | I8: ="="&VLOOKUP($DG8,Sheet2!$B$2:$Q$9,MATCH(MID(I$2,8,LEN(I$2)-17),Sheet2!$B$1:$Q$1,0))&"mm" -> =10.08mm | J8: ="="&VLOOKUP($DG8,Sheet2!$B$2:$Q$9,MATCH(MID(J$2,8,LEN(J$2)-17),Sheet2!$B$1:$Q$1,0))&"mm" -> =0.7mm | K8: ="="&VLOOKUP($DG8,Sheet2!$B$2:$Q$9,MATCH(MID(K$2,8,LEN(K$2)-17),Sheet2!$B$1:$Q$1,0))&"mm" -> =1mm | L8: ="="&VLOOKUP($DG8,Sheet2!$B$2:$Q$9,MATCH(MID(L$2,8,LEN(L$2)-17),Sheet2!$B$1:$Q$1,0))&"mm" -> =0.7mm | M8: ="="&VLOOKUP($DG8,Sheet2!$B$2:$Q$9,MATCH(MID(M$2,8,LEN(M$2)-17),Sheet2!$B$1:$Q$1,0))&"mm" -> =20.32mm | N8: ="="&VLOOKUP($DI8+2,Sheet2!$U$1:$X$4,MATCH(MID(N$2,8,LEN(N$2)-17),Sheet2!$U$1:$X$1,0)) -> =0.135 | O8: ="="&VLOOKUP($DI8+2,Sheet2!$U$1:$X$4,MATCH(MID(O$2,8,LEN(O$2)-17),Sheet2!$U$1:$X$1,0)) -> =0.07 | P8: ="="&VLOOKUP($DG8,Sheet2!$B$2:$Q$9,MATCH(MID(P$2,8,LEN(P$2)-17),Sheet2!$B$1:$Q$1,0))&"mm" -> =0.04mm | Q8: ="="&ROUNDDOWN(MIN($CK8,$CM8),2)&"mm" -> =1.18mm | R8: $C | S8: =IF(INDEX($DU8:$DY8,1,MATCH(MID(S$2,8,5),$DU$2:$DY$2,0))=RIGHT(S$2,2),"U","S") -> S | T8: =IF(INDEX($DU8:$DY8,1,MATCH(MID(T$2,8,5),$DU$2:$DY$2,0))=RIGHT(T$2,2),"U","S") -> S | U8: =IF(INDEX($DU8:$DY8,1,MATCH(MID(U$2,8,5),$DU$2:$DY$2,0))=RIGHT(U$2,2),"U","S") -> S | V8: =IF(INDEX($DU8:$DY8,1,MATCH(MID(V$2,8,5),$DU$2:$DY$2,0))=RIGHT(V$2,2),"U","S") -> S | W8: =IF(INDEX($DU8:$DY8,1,MATCH(MID(W$2,8,5),$DU$2:$DY$2,0))=RIGHT(W$2,2),"U","S") -> S | X8: =IF(INDEX($DU8:$DY8,1,MATCH(MID(X$2,8,5),$DU$2:$DY$2,0))=RIGHT(X$2,2),"U","S") -> U | Y8: =IF(INDEX($DU8:$DY8,1,MATCH(MID(Y$2,8,5),$DU$2:$DY$2,0))=RIGHT(Y$2,2),"U","S") -> S | Z8: =IF(INDEX($DU8:$DY8,1,MATCH(MID(Z$2,8,5),$DU$2:$DY$2,0))=RIGHT(Z$2,2),"U","S") -> S | ... BZ8: =IF(INDEX($DU8:$DY8,1,MATCH(MID(BZ$2,8,5),$DU$2:$DY$2,0))=RIGHT(BZ$2,2),"U","S") -> S | CA8: S | CB8: S | CC8: S | CE8: =VLOOKUP($DI8+2,Sheet2!$U$1:$X$4,MATCH(CE$2,Sheet2!$U$1:$X$1,0)) -> 0.135 | CF8: =VLOOKUP($DI8+2,Sheet2!$U$1:$X$4,MATCH(CF$2,Sheet2!$U$1:$X$1,0)) -> 0.07 | CG8: =VLOOKUP($DG8,Sheet2!$B$2:$Q$9,MATCH(CG$2,Sheet2!$B$1:$Q$1,0)) -> 16 | CH8: =VLOOKUP($DG8,Sheet2!$B$2:$Q$9,MATCH(CH$2,Sheet2!$B$1:$Q$1,0)) -> 10.08 | CI8: =VLOOKUP($DG8,Sheet2!$B$2:$Q$9,MATCH(CI$2,Sheet2!$B$1:$Q$1,0)) -> 2.335 | CJ8: =VLOOKUP($DG8,Sheet2!$B$2:$Q$9,MATCH(CJ$2,Sheet2!$B$1:$Q$1,0)) -> 0.7 | CK8: =VLOOKUP($DG8,Sheet2!$B$2:$Q$9,MATCH(CK$2,Sheet2!$B$1:$Q$1,0)) -> 1.18 | CL8: =$CE8*($CG8-$CH8)/2 -> 0.3996 | CM8: =$CI8-$CJ8-$CL8 -> 1.2354 | CN8: E24 | CO8: 82 | CP8: 100000 | CQ8: =CO8*CP8 -> 8200000 | CR8: 0.05 | CS8: =$DH8/3=INT($DH8/3) -> TRUE | CT8: =IF($CS8,"0.0","GENERAL") -> 0.0 | CU8: =IF(CQ8<1000,1,IF(CQ8<1000000,1000,1000000)) -> 1000000 | CV8: =INT($CQ8/$CU8) -> 8 | CW8: =INT(10*$CQ8/$CU8-10*$CV8) -> 2 | CX8: =INT(100*$CQ8/$CU8-100*$CV8-10*$CW8) -> 0 | CY8: =INT(1000*$CQ8/$CU8-1000*$CV8-100*$CW8-10*$CX8) -> 0 | CZ8: =CHOOSE(1+LOG($CU8)/3,"R","K","M") -> M | DA8: =IF(AND($CY8=0,$CX8=0,$CW8=0),"",$CW8) -> 2 | DB8: =IF(AND($CY8=0,$CX8=0),"",$CX8) | DC8: =IF($CY8=0,"",$CY8) | DD8: =$CV8&$CZ8&$DA8&$DB8&$DC8 -> 8M2 | DE8: =IF($CQ8<1000,TEXT($CQ8,$CT8)&"R",IF($CQ8<1000000,TEXT($CQ8/1000,$CT8)&"K",TEXT($CQ8/1000000,$CT8)&"M")) -> 8.2M | DF8: 800 | DG8: =VLOOKUP($DF8,Sheet2!$A$2:$B$15,2,0) -> 6 | DH8: =INT(LOG($CQ8,10)) -> 6 | DI8: =IF($CR8<5%,3,2) -> 2 | DJ8: =10^$DH8 -> 1000000 | DK8: =IF(3-LOG(DK$2)<$DI8,IF(1+$DI8-LOG(DK$2)>$DI8,"",INT($CQ8/$DJ8)),"") -> 8 | DL8: =IF(3-LOG(DL$2)<$DI8,IF(1+$DI8-LOG(DL$2)>$DI8,"",INT(10*$CQ8/$DJ8-10*$DK8)),"") -> 2 | DM8: =IF(3-LOG(DM$2)<$DI8,IF(1+$DI8-LOG(DM$2)>$DI8,"",INT(100*$CQ8-(100*$DK8*$DJ8+10*$DL8*$DJ8))/$DJ8),"") | DN8: =1+$DH8-$DI8 -> 5 | DO8: =100*CR8 -> 5 | DP8: =IF($DK8="","",CHOOSE(3+$DK8,"SR","GD","BK","BN","RD","OR","YL","GN","BL","VT","GY","WT")) -> GY | DQ8: =IF($DL8="","",CHOOSE(3+$DL8,"SR","GD","BK","BN","RD","OR","YL","GN","BL","VT","GY","WT")) -> RD | DR8: =IF($DM8="","",CHOOSE(3+$DM8,"SR","GD","BK","BN","RD","OR","YL","GN","BL","VT","GY","WT")) | DS8: =IF($DN8="","",CHOOSE(3+$DN8,"SR","GD","BK","BN","RD","OR","YL","GN","BL","VT","GY","WT")) -> GN | DT8: =IF($DO8="","",IF($DO8<1,CHOOSE(20*$DO8,"GY","VT",,,"BL",,,,,"GN"),CHOOSE($DO8,"BN","RD",,,"GD",,,,,"SR",,,,,,,,,,""))) -> GD | DU8: =IF(DK8="","",CHOOSE(3+DK8,"SR","GD","BK","BN","RD","OR","YL","GN","BL","VT","GY","WT")) -> GY | DV8: =IF($DI8<2,$DS8,DQ8) -> RD | DW8: =IF($DI8<2,"",IF($DI8<3,$DS8,DR8)) -> GN | DX8: =IF($DI8<3,"",DS8) | DY8: =IF(DO8="","",IF(DO8<1,CHOOSE(20*DO8,"GY","VT",,,"BL",,,,,"GN"),CHOOSE(DO8,"BN","RD",,,"GD",,,,,"SR",,,,,,,,,,""))) -> GD

Sheet Sheet2
A1: Design Table for: Resistor | B1: Casing | C1: Body Length | D1: Body Diameter Ends | E1: Body Diameter | F1: Body Inner Slope | G1: Body Length Middle | H1: Colour Band Width | I1: Wire Bend Radius | J1: Wire Diameter | K1: Wire Spacing (mils) | L1: Wire Spacing | M1: HS Flat End Width | N1: Paint Thickness | O1: Max End Fillet Radius (V) | Q1: Approx Power Rating | U1: #Bands | V1: First Band Offset | W1: Last Band Offset
A2: 200 | B2: 1 | C2: 3.5 | D2: 1.85 | E2: =ROUND(85%*$D2,2) -> 1.57 | F2: 0.5 | G2: =ROUND($G$4/$C$4*C2,2) -> 1.39 | H2: =ROUND($H$4/$G$4*G2,2) -> 0.21 | I2: 0.6 | J2: 0.45 | K2: 200 | L2: =$K2*25.4/1000 -> 5.08 | M2: =($C2-$G2-($D2-$E2)/$F2/2)/2 -> 0.915 | N2: 0.04 | O2: =($D2-$J2)/4-$N2/2 -> 0.33 | Q2: 0.25 | U2: 4 | V2: 0.135 | W2: 0.07
A3: 300 | B3: 2 | C3: 3.5 | D3: 1.85 | E3: =ROUND(85%*$D3,2) -> 1.57 | F3: 0.5 | G3: =ROUND($G$4/$C$4*C3,2) -> 1.39 | H3: =ROUND($H$4/$G$4*G3,2) -> 0.21 | I3: 0.6 | J3: 0.45 | K3: 300 | L3: =$K3*25.4/1000 -> 7.62 | M3: =($C3-$G3-($D3-$E3)/$F3/2)/2 -> 0.915 | N3: 0.04 | O3: =($D3-$J3)/4-$N3/2 -> 0.33 | Q3: 0.25 | U3: 5 | V3: 0.22 | W3: 0.275
A4: 400 | B4: 3 | C4: 6.8 | D4: 2.5 | E4: =ROUND(85%*$D4,2) -> 2.13 | F4: 0.5 | G4: 2.7 | H4: 0.4 | I4: 0.8 | J4: 0.54 | K4: 400 | L4: =$K4*25.4/1000 -> 10.16 | M4: =($C4-$G4-($D4-$E4)/$F4/2)/2 -> 1.865 | N4: 0.04 | O4: =($D4-$J4)/4-$N4/2 -> 0.47 | Q4: 0.33
A5: 500 | B5: 4 | C5: 9 | D5: 3 | E5: =ROUND(90%*$D5,2) -> 2.7 | F5: 0.22 | G5: =ROUND(0.63*C5,2) -> 5.67 | H5: 0.5 | I5: 1 | J5: 0.54 | K5: 500 | L5: =$K5*25.4/1000 -> 12.7 | M5: =($C5-$G5-($D5-$E5)/$F5/2)/2 -> 1.3240909 | N5: 0.04 | O5: =($D5-$J5)/4-$N5/2 -> 0.595 | Q5: 0.5
A6: 600 | B6: 5 | C6: 12 | D6: 5 | E6: =ROUND(90%*$D6,2) -> 4.5 | F6: 0.22 | G6: =ROUND(0.63*C6,2) -> 7.56 | H6: 0.7 | I6: 1 | J6: 0.7 | K6: 600 | L6: =$K6*25.4/1000 -> 15.24 | M6: =($C6-$G6-($D6-$E6)/$F6/2)/2 -> 1.6518182 | N6: 0.04 | O6: =($D6-$J6)/4-$N6/2 -> 1.055 | Q6: 1
A7: 800 | B7: 6 | C7: 16 | D7: 5.5 | E7: =ROUND(90%*$D7,2) -> 4.95 | F7: 0.22 | G7: =ROUND(0.63*C7,2) -> 10.08 | H7: 0.7 | I7: 1 | J7: 0.7 | K7: 800 | L7: =$K7*25.4/1000 -> 20.32 | M7: =($C7-$G7-($D7-$E7)/$F7/2)/2 -> 2.335 | N7: 0.04 | O7: =($D7-$J7)/4-$N7/2 -> 1.18 | Q7: 2
O11: =0.4*(("Body Diameter Ends"-"Wire Diameter")/2-"Paint Thickness")
I12: =0.3*(("Body Diameter Ends"-"Wire Diameter")/2-"Paint Thickness")
