Workbook
Name HitanoLeadTable: 'Lead Tables'!$A$2:$K$4
Name HitanoLeadTableHeaders: 'Lead Tables'!$A$2:$K$2
Name JamiconLeadTable: 'Lead Tables'!$A$8:$K$11
Name JamiconLeadTableHeaders: 'Lead Tables'!$A$8:$K$8
Name PackageHeaders: Packages!$A$1:$AW$1
Name PackageValues: Packages!$A$2:$AW$61
Name rptMinNumberOfTimes: Validate!$A$15
Name rptMinNumberOfTimesOfLineNo: Validate!$A$16
Name rptMinOverExtent: Validate!$A$13
Name rptMinOverExtentThenFit: Validate!$A$14
Name rptMinUntilExtent: Validate!$A$11
Name rptMinUntilExtentThenFit: Validate!$A$12
Name rptNone: Validate!$A$2
Name rptNumberIsMinimum: Validate!$A$10
Name rptNumberOfTimes: Validate!$A$7
Name rptNumberOfTimesOfLineNo: Validate!$A$8
Name rptOverExtent: Validate!$A$5
Name rptOverExtentThenFit: Validate!$A$6
Name rptTextMASK: Validate!$A$9
Name rptUntilExtent: Validate!$A$3
Name rptUntilExtentThenFit: Validate!$A$4
Name TextRepeatTypes: Validate!$B$2:$B$8

Sheet Capacitors
A1: Manufacturer | B1: Series | C1: Value | D1: Voltage | E1: Datasheet Dimensions | F1: Mount Type | G1: Lead Configuration | H1: Text Direction | I1: Text Line 1 | J1: Text Line 2 | K1: Text Line 3 | L1: Text Line 4 | M1: Case Diameter | N1: Case Height | O1: Appearance Key | P1: Package | Q1: DValue | R1: DVoltage | S1: ID | T1: #ID Instances | U1: Package Exist?
A2: HEC | B2: LS | C2: 1200 | D2: 200 | E2: 25x51 | F2: RADIAL | H2: Circular | I2: =$A2 -> HEC | J2: =$B2 -> LS | K2: =$Q2&" "&$R2 -> 1200µF 200v | M2: =VALUE(LEFT($E2,SEARCH("x",$E2)-1)) -> 25 | N2: =VALUE(RIGHT($E2,LEN($E2)-SEARCH("x",$E2))) -> 51 | O2: =$A2&"-"&$B2 -> HEC-LS | P2: =$A2&" "&LEFT($F2,1)&"-"&TEXT(ROUND($M2,0),"00.0")&"x"&TEXT(ROUND($N2,0),"00.0") -> HEC R-25.0x51.0 | Q2: =TEXT($C2,"General"&CHAR(34)&"µF"&CHAR(34)) -> 1200µF | R2: =TEXT($D2,"General"&CHAR(34)&"v"&CHAR(34)) -> 200v | S2: =$Q2&" "&$R2&" - "&LEFT($F2,1)&TEXT($M2,"00.0")&"-"&TEXT($N2,"00.0")&" "&A2&" ("&B2&")"&IF(ISBLANK($G2),""," "&$G2) -> 1200µF 200v - R25.0-51.0 HEC (LS) | T2: =COUNTIF($S:$S,$S2) -> 1 | U2: =NOT(ISNA(MATCH($P2,Packages!$A:$A,0))) -> TRUE
A3: Hitano | B3: ECR | C3: 100 | D3: 6.3 | E3: 5x11 | F3: RADIAL | H3: Length | I3: =UPPER($A3) -> HITANO | J3: =$Q3&" "&$R3 -> 100µF 6.3v | L3: =$B3 -> ECR | M3: =VALUE(LEFT($E3,SEARCH("x",$E3)-1)) -> 5 | N3: =VALUE(RIGHT($E3,LEN($E3)-SEARCH("x",$E3))) -> 11 | O3: =$A3&"-"&$B3 -> Hitano-ECR | P3: =$A3&" "&LEFT($F3,1)&"-"&TEXT(ROUND($M3,0),"00.0")&"x"&TEXT(ROUND($N3,0),"00.0") -> Hitano R-05.0x11.0 | Q3: =TEXT($C3,"General"&CHAR(34)&"µF"&CHAR(34)) -> 100µF | R3: =TEXT($D3,"General"&CHAR(34)&"v"&CHAR(34)) -> 6.3v | S3: =$Q3&" "&$R3&" - "&LEFT($F3,1)&TEXT($M3,"00.0")&"-"&TEXT($N3,"00.0")&" "&A3&" ("&B3&")"&IF(ISBLANK($G3),""," "&$G3) -> 100µF 6.3v - R05.0-11.0 Hitano (ECR) | T3: =COUNTIF($S:$S,$S3) -> 1 | U3: =NOT(ISNA(MATCH($P3,Packages!$A:$A,0))) -> TRUE
A4: Hitano | B4: ECR | C4: 220 | D4: 6.3 | E4: 5x11 | F4: RADIAL | H4: Length | I4: =UPPER($A4) -> HITANO | J4: =$Q4&" "&$R4 -> 220µF 6.3v | L4: =$B4 -> ECR | M4: =VALUE(LEFT($E4,SEARCH("x",$E4)-1)) -> 5 | N4: =VALUE(RIGHT($E4,LEN($E4)-SEARCH("x",$E4))) -> 11 | O4: =$A4&"-"&$B4 -> Hitano-ECR | P4: =$A4&" "&LEFT($F4,1)&"-"&TEXT(ROUND($M4,0),"00.0")&"x"&TEXT(ROUND($N4,0),"00.0") -> Hitano R-05.0x11.0 | Q4: =TEXT($C4,"General"&CHAR(34)&"µF"&CHAR(34)) -> 220µF | R4: =TEXT($D4,"General"&CHAR(34)&"v"&CHAR(34)) -> 6.3v | S4: =$Q4&" "&$R4&" - "&LEFT($F4,1)&TEXT($M4,"00.0")&"-"&TEXT($N4,"00.0")&" "&A4&" ("&B4&")"&IF(ISBLANK($G4),""," "&$G4) -> 220µF 6.3v - R05.0-11.0 Hitano (ECR) | T4: =COUNTIF($S:$S,$S4) -> 1 | U4: =NOT(ISNA(MATCH($P4,Packages!$A:$A,0))) -> TRUE
A5: Hitano | B5: ECR | C5: 330 | D5: 6.3 | E5: 6.3x11 | F5: RADIAL | H5: Length | I5: =UPPER($A5) -> HITANO | J5: =$Q5&" "&$R5 -> 330µF 6.3v | L5: =$B5 -> ECR | M5: =VALUE(LEFT($E5,SEARCH("x",$E5)-1)) -> 6.3 | N5: =VALUE(RIGHT($E5,LEN($E5)-SEARCH("x",$E5))) -> 11 | O5: =$A5&"-"&$B5 -> Hitano-ECR | P5: =$A5&" "&LEFT($F5,1)&"-"&TEXT(ROUND($M5,0),"00.0")&"x"&TEXT(ROUND($N5,0),"00.0") -> Hitano R-06.0x11.0 | Q5: =TEXT($C5,"General"&CHAR(34)&"µF"&CHAR(34)) -> 330µF | R5: =TEXT($D5,"General"&CHAR(34)&"v"&CHAR(34)) -> 6.3v | S5: =$Q5&" "&$R5&" - "&LEFT($F5,1)&TEXT($M5,"00.0")&"-"&TEXT($N5,"00.0")&" "&A5&" ("&B5&")"&IF(ISBLANK($G5),""," "&$G5) -> 330µF 6.3v - R06.3-11.0 Hitano (ECR) | T5: =COUNTIF($S:$S,$S5) -> 1 | U5: =NOT(ISNA(MATCH($P5,Packages!$A:$A,0))) -> TRUE
A6: Hitano | B6: ECR | C6: 470 | D6: 6.3 | E6: 6.3x11 | F6: RADIAL | H6: Length | I6: =UPPER($A6) -> HITANO | J6: =$Q6&" "&$R6 -> 470µF 6.3v | L6: =$B6 -> ECR | M6: =VALUE(LEFT($E6,SEARCH("x",$E6)-1)) -> 6.3 | N6: =VALUE(RIGHT($E6,LEN($E6)-SEARCH("x",$E6))) -> 11 | O6: =$A6&"-"&$B6 -> Hitano-ECR | P6: =$A6&" "&LEFT($F6,1)&"-"&TEXT(ROUND($M6,0),"00.0")&"x"&TEXT(ROUND($N6,0),"00.0") -> Hitano R-06.0x11.0 | Q6: =TEXT($C6,"General"&CHAR(34)&"µF"&CHAR(34)) -> 470µF | R6: =TEXT($D6,"General"&CHAR(34)&"v"&CHAR(34)) -> 6.3v | S6: =$Q6&" "&$R6&" - "&LEFT($F6,1)&TEXT($M6,"00.0")&"-"&TEXT($N6,"00.0")&" "&A6&" ("&B6&")"&IF(ISBLANK($G6),""," "&$G6) -> 470µF 6.3v - R06.3-11.0 Hitano (ECR) | T6: =COUNTIF($S:$S,$S6) -> 1 | U6: =NOT(ISNA(MATCH($P6,Packages!$A:$A,0))) -> TRUE
A7: Hitano | B7: ECR | C7: 1000 | D7: 6.3 | E7: 8x12 | F7: RADIAL | H7: Length | I7: =UPPER($A7) -> HITANO | J7: =$Q7&" "&$R7 -> 1000µF 6.3v | L7: =$B7 -> ECR | M7: =VALUE(LEFT($E7,SEARCH("x",$E7)-1)) -> 8 | N7: =VALUE(RIGHT($E7,LEN($E7)-SEARCH("x",$E7))) -> 12 | O7: =$A7&"-"&$B7 -> Hitano-ECR | P7: =$A7&" "&LEFT($F7,1)&"-"&TEXT(ROUND($M7,0),"00.0")&"x"&TEXT(ROUND($N7,0),"00.0") -> Hitano R-08.0x12.0 | Q7: =TEXT($C7,"General"&CHAR(34)&"µF"&CHAR(34)) -> 1000µF | R7: =TEXT($D7,"General"&CHAR(34)&"v"&CHAR(34)) -> 6.3v | S7: =$Q7&" "&$R7&" - "&LEFT($F7,1)&TEXT($M7,"00.0")&"-"&TEXT($N7,"00.0")&" "&A7&" ("&B7&")"&IF(ISBLANK($G7),""," "&$G7) -> 1000µF 6.3v - R08.0-12.0 Hitano (ECR) | T7: =COUNTIF($S:$S,$S7) -> 1 | U7: =NOT(ISNA(MATCH($P7,Packages!$A:$A,0))) -> TRUE
A8: Hitano | B8: ECR | C8: 2200 | D8: 6.3 | E8: 10x16 | F8: RADIAL | H8: Length | I8: =UPPER($A8) -> HITANO | J8: =$Q8&" "&$R8 -> 2200µF 6.3v | L8: =$B8 -> ECR | M8: =VALUE(LEFT($E8,SEARCH("x",$E8)-1)) -> 10 | N8: =VALUE(RIGHT($E8,LEN($E8)-SEARCH("x",$E8))) -> 16 | O8: =$A8&"-"&$B8 -> Hitano-ECR | P8: =$A8&" "&LEFT($F8,1)&"-"&TEXT(ROUND($M8,0),"00.0")&"x"&TEXT(ROUND($N8,0),"00.0") -> Hitano R-10.0x16.0 | Q8: =TEXT($C8,"General"&CHAR(34)&"µF"&CHAR(34)) -> 2200µF | R8: =TEXT($D8,"General"&CHAR(34)&"v"&CHAR(34)) -> 6.3v | S8: =$Q8&" "&$R8&" - "&LEFT($F8,1)&TEXT($M8,"00.0")&"-"&TEXT($N8,"00.0")&" "&A8&" ("&B8&")"&IF(ISBLANK($G8),""," "&$G8) -> 2200µF 6.3v - R10.0-16.0 Hitano (ECR) | T8: =COUNTIF($S:$S,$S8) -> 1 | U8: =NOT(ISNA(MATCH($P8,Packages!$A:$A,0))) -> TRUE
A9: Hitano | B9: ECR | C9: 3300 | D9: 6.3 | E9: 10x21 | F9: RADIAL | H9: Length | I9: =UPPER($A9) -> HITANO | J9: =$Q9&" "&$R9 -> 3300µF 6.3v | L9: =$B9 -> ECR | M9: =VALUE(LEFT($E9,SEARCH("x",$E9)-1)) -> 10 | N9: =VALUE(RIGHT($E9,LEN($E9)-SEARCH("x",$E9))) -> 21 | O9: =$A9&"-"&$B9 -> Hitano-ECR | P9: =$A9&" "&LEFT($F9,1)&"-"&TEXT(ROUND($M9,0),"00.0")&"x"&TEXT(ROUND($N9,0),"00.0") -> Hitano R-10.0x21.0 | Q9: =TEXT($C9,"General"&CHAR(34)&"µF"&CHAR(34)) -> 3300µF | R9: =TEXT($D9,"General"&CHAR(34)&"v"&CHAR(34)) -> 6.3v | S9: =$Q9&" "&$R9&" - "&LEFT($F9,1)&TEXT($M9,"00.0")&"-"&TEXT($N9,"00.0")&" "&A9&" ("&B9&")"&IF(ISBLANK($G9),""," "&$G9) -> 3300µF 6.3v - R10.0-21.0 Hitano (ECR) | T9: =COUNTIF($S:$S,$S9) -> 1 | U9: =NOT(ISNA(MATCH($P9,Packages!$A:$A,0))) -> TRUE
A10: Hitano | B10: ECR | C10: 4700 | D10: 6.3 | E10: 13x21 | F10: RADIAL | H10: Length | I10: =UPPER($A10) -> HITANO | J10: =$Q10&" "&$R10 -> 4700µF 6.3v | L10: =$B10 -> ECR | M10: =VALUE(LEFT($E10,SEARCH("x",$E10)-1)) -> 13 | N10: =VALUE(RIGHT($E10,LEN($E10)-SEARCH("x",$E10))) -> 21 | O10: =$A10&"-"&$B10 -> Hitano-ECR | P10: =$A10&" "&LEFT($F10,1)&"-"&TEXT(ROUND($M10,0),"00.0")&"x"&TEXT(ROUND($N10,0),"00.0") -> Hitano R-13.0x21.0 | Q10: =TEXT($C10,"General"&CHAR(34)&"µF"&CHAR(34)) -> 4700µF | R10: =TEXT($D10,"General"&CHAR(34)&"v"&CHAR(34)) -> 6.3v | S10: =$Q10&" "&$R10&" - "&LEFT($F10,1)&TEXT($M10,"00.0")&"-"&TEXT($N10,"00.0")&" "&A10&" ("&B10&")"&IF(ISBLANK($G10),""," "&$G10) -> 4700µF 6.3v - R13.0-21.0 Hitano (ECR) | T10: =COUNTIF($S:$S,$S10) -> 1 | U10: =NOT(ISNA(MATCH($P10,Packages!$A:$A,0))) -> TRUE
A11: Hitano | B11: ECR | C11: 6800 | D11: 6.3 | E11: 13x26 | F11: RADIAL | H11: Length | I11: =UPPER($A11) -> HITANO | J11: =$Q11&" "&$R11 -> 6800µF 6.3v | L11: =$B11 -> ECR | M11: =VALUE(LEFT($E11,SEARCH("x",$E11)-1)) -> 13 | N11: =VALUE(RIGHT($E11,LEN($E11)-SEARCH("x",$E11))) -> 26 | O11: =$A11&"-"&$B11 -> Hitano-ECR | P11: =$A11&" "&LEFT($F11,1)&"-"&TEXT(ROUND($M11,0),"00.0")&"x"&TEXT(ROUND($N11,0),"00.0") -> Hitano R-13.0x26.0 | Q11: =TEXT($C11,"General"&CHAR(34)&"µF"&CHAR(34)) -> 6800µF | R11: =TEXT($D11,"General"&CHAR(34)&"v"&CHAR(34)) -> 6.3v | S11: =$Q11&" "&$R11&" - "&LEFT($F11,1)&TEXT($M11,"00.0")&"-"&TEXT($N11,"00.0")&" "&A11&" ("&B11&")"&IF(ISBLANK($G11),""," "&$G11) -> 6800µF 6.3v - R13.0-26.0 Hitano (ECR) | T11: =COUNTIF($S:$S,$S11) -> 1 | U11: =NOT(ISNA(MATCH($P11,Packages!$A:$A,0))) -> TRUE
A12: Hitano | B12: ECR | C12: 10000 | D12: 6.3 | E12: 16x26 | F12: RADIAL | H12: Length | I12: =UPPER($A12) -> HITANO | J12: =$Q12&" "&$R12 -> 10000µF 6.3v | L12: =$B12 -> ECR | M12: =VALUE(LEFT($E12,SEARCH("x",$E12)-1)) -> 16 | N12: =VALUE(RIGHT($E12,LEN($E12)-SEARCH("x",$E12))) -> 26 | O12: =$A12&"-"&$B12 -> Hitano-ECR | P12: =$A12&" "&LEFT($F12,1)&"-"&TEXT(ROUND($M12,0),"00.0")&"x"&TEXT(ROUND($N12,0),"00.0") -> Hitano R-16.0x26.0 | Q12: =TEXT($C12,"General"&CHAR(34)&"µF"&CHAR(34)) -> 10000µF | R12: =TEXT($D12,"General"&CHAR(34)&"v"&CHAR(34)) -> 6.3v | S12: =$Q12&" "&$R12&" - "&LEFT($F12,1)&TEXT($M12,"00.0")&"-"&TEXT($N12,"00.0")&" "&A12&" ("&B12&")"&IF(ISBLANK($G12),""," "&$G12) -> 10000µF 6.3v - R16.0-26.0 Hitano (ECR) | T12: =COUNTIF($S:$S,$S12) -> 1 | U12: =NOT(ISNA(MATCH($P12,Packages!$A:$A,0))) -> TRUE
A13: Hitano | B13: ECR | C13: 100 | D13: 10 | E13: 5x11 | F13: RADIAL | H13: Length | I13: =UPPER($A13) -> HITANO | J13: =$Q13&" "&$R13 -> 100µF 10v | L13: =$B13 -> ECR | M13: =VALUE(LEFT($E13,SEARCH("x",$E13)-1)) -> 5 | N13: =VALUE(RIGHT($E13,LEN($E13)-SEARCH("x",$E13))) -> 11 | O13: =$A13&"-"&$B13 -> Hitano-ECR | P13: =$A13&" "&LEFT($F13,1)&"-"&TEXT(ROUND($M13,0),"00.0")&"x"&TEXT(ROUND($N13,0),"00.0") -> Hitano R-05.0x11.0 | Q13: =TEXT($C13,"General"&CHAR(34)&"µF"&CHAR(34)) -> 100µF | R13: =TEXT($D13,"General"&CHAR(34)&"v"&CHAR(34)) -> 10v | S13: =$Q13&" "&$R13&" - "&LEFT($F13,1)&TEXT($M13,"00.0")&"-"&TEXT($N13,"00.0")&" "&A13&" ("&B13&")"&IF(ISBLANK($G13),""," "&$G13) -> 100µF 10v - R05.0-11.0 Hitano (ECR) | T13: =COUNTIF($S:$S,$S13) -> 1 | U13: =NOT(ISNA(MATCH($P13,Packages!$A:$A,0))) -> TRUE
A14: Hitano | B14: ECR | C14: 220 | D14: 10 | E14: 6.3x11 | F14: RADIAL | H14: Length | I14: =UPPER($A14) -> HITANO | J14: =$Q14&" "&$R14 -> 220µF 10v | L14: =$B14 -> ECR | M14: =VALUE(LEFT($E14,SEARCH("x",$E14)-1)) -> 6.3 | N14: =VALUE(RIGHT($E14,LEN($E14)-SEARCH("x",$E14))) -> 11 | O14: =$A14&"-"&$B14 -> Hitano-ECR | P14: =$A14&" "&LEFT($F14,1)&"-"&TEXT(ROUND($M14,0),"00.0")&"x"&TEXT(ROUND($N14,0),"00.0") -> Hitano R-06.0x11.0 | Q14: =TEXT($C14,"General"&CHAR(34)&"µF"&CHAR(34)) -> 220µF | R14: =TEXT($D14,"General"&CHAR(34)&"v"&CHAR(34)) -> 10v | S14: =$Q14&" "&$R14&" - "&LEFT($F14,1)&TEXT($M14,"00.0")&"-"&TEXT($N14,"00.0")&" "&A14&" ("&B14&")"&IF(ISBLANK($G14),""," "&$G14) -> 220µF 10v - R06.3-11.0 Hitano (ECR) | T14: =COUNTIF($S:$S,$S14) -> 1 | U14: =NOT(ISNA(MATCH($P14,Packages!$A:$A,0))) -> TRUE
... A198: Hitano | B198: ECR | C198: 47 | D198: 450 | E198: 16x36 | F198: RADIAL | H198: Length | I198: =UPPER($A198) -> HITANO | J198: =$Q198&" "&$R198 -> 47µF 450v | L198: =$B198 -> ECR | M198: =VALUE(LEFT($E198,SEARCH("x",$E198)-1)) -> 16 | N198: =VALUE(RIGHT($E198,LEN($E198)-SEARCH("x",$E198))) -> 36 | O198: =$A198&"-"&$B198 -> Hitano-ECR | P198: =$A198&" "&LEFT($F198,1)&"-"&TEXT(ROUND($M198,0),"00.0")&"x"&TEXT(ROUND($N198,0),"00.0") -> Hitano R-16.0x36.0 | Q198: =TEXT($C198,"General"&CHAR(34)&"µF"&CHAR(34)) -> 47µF | R198: =TEXT($D198,"General"&CHAR(34)&"v"&CHAR(34)) -> 450v | S198: =$Q198&" "&$R198&" - "&LEFT($F198,1)&TEXT($M198,"00.0")&"-"&TEXT($N198,"00.0")&" "&A198&" ("&B198&")"&IF(ISBLANK($G198),""," "&$G198) -> 47µF 450v - R16.0-36.0 Hitano (ECR) | T198: =COUNTIF($S:$S,$S198) -> 1 | U198: =NOT(ISNA(MATCH($P198,Packages!$A:$A,0))) -> TRUE
A199: Hitano | B199: EXR | C199: 220 | D199: 6.3 | E199: 6.3x11 | F199: RADIAL | H199: Circular | I199: =UPPER($A199) -> HITANO | J199: =Q199 -> 220µF | K199: =R199 -> 6.3v | L199: =B199 -> EXR | M199: =VALUE(LEFT($E199,SEARCH("x",$E199)-1)) -> 6.3 | N199: =VALUE(RIGHT($E199,LEN($E199)-SEARCH("x",$E199))) -> 11 | O199: =$A199&"-"&$B199 -> Hitano-EXR | P199: =$A199&" "&LEFT($F199,1)&"-"&TEXT(ROUND($M199,0),"00.0")&"x"&TEXT(ROUND($N199,0),"00.0") -> Hitano R-06.0x11.0 | Q199: =TEXT($C199,"General"&CHAR(34)&"µF"&CHAR(34)) -> 220µF | R199: =TEXT($D199,"General"&CHAR(34)&"v"&CHAR(34)) -> 6.3v | S199: =$Q199&" "&$R199&" - "&LEFT($F199,1)&TEXT($M199,"00.0")&"-"&TEXT($N199,"00.0")&" "&A199&" ("&B199&")"&IF(ISBLANK($G199),""," "&$G199) -> 220µF 6.3v - R06.3-11.0 Hitano (EXR) | T199: =COUNTIF($S:$S,$S199) -> 1 | U199: =NOT(ISNA(MATCH($P199,Packages!$A:$A,0))) -> TRUE
A200: Hitano | B200: EXR | C200: 330 | D200: 6.3 | E200: 8x12 | F200: RADIAL | H200: Circular | I200: =UPPER($A200) -> HITANO | J200: =Q200 -> 330µF | K200: =R200 -> 6.3v | L200: =B200 -> EXR | M200: =VALUE(LEFT($E200,SEARCH("x",$E200)-1)) -> 8 | N200: =VALUE(RIGHT($E200,LEN($E200)-SEARCH("x",$E200))) -> 12 | O200: =$A200&"-"&$B200 -> Hitano-EXR | P200: =$A200&" "&LEFT($F200,1)&"-"&TEXT(ROUND($M200,0),"00.0")&"x"&TEXT(ROUND($N200,0),"00.0") -> Hitano R-08.0x12.0 | Q200: =TEXT($C200,"General"&CHAR(34)&"µF"&CHAR(34)) -> 330µF | R200: =TEXT($D200,"General"&CHAR(34)&"v"&CHAR(34)) -> 6.3v | S200: =$Q200&" "&$R200&" - "&LEFT($F200,1)&TEXT($M200,"00.0")&"-"&TEXT($N200,"00.0")&" "&A200&" ("&B200&")"&IF(ISBLANK($G200),""," "&$G200) -> 330µF 6.3v - R08.0-12.0 Hitano (EXR) | T200: =COUNTIF($S:$S,$S200) -> 1 | U200: =NOT(ISNA(MATCH($P200,Packages!$A:$A,0))) -> TRUE
A201: Hitano | B201: EXR | C201: 470 | D201: 6.3 | E201: 8x12 | F201: RADIAL | H201: Circular | I201: =UPPER($A201) -> HITANO | J201: =Q201 -> 470µF | K201: =R201 -> 6.3v | L201: =B201 -> EXR | M201: =VALUE(LEFT($E201,SEARCH("x",$E201)-1)) -> 8 | N201: =VALUE(RIGHT($E201,LEN($E201)-SEARCH("x",$E201))) -> 12 | O201: =$A201&"-"&$B201 -> Hitano-EXR | P201: =$A201&" "&LEFT($F201,1)&"-"&TEXT(ROUND($M201,0),"00.0")&"x"&TEXT(ROUND($N201,0),"00.0") -> Hitano R-08.0x12.0 | Q201: =TEXT($C201,"General"&CHAR(34)&"µF"&CHAR(34)) -> 470µF | R201: =TEXT($D201,"General"&CHAR(34)&"v"&CHAR(34)) -> 6.3v | S201: =$Q201&" "&$R201&" - "&LEFT($F201,1)&TEXT($M201,"00.0")&"-"&TEXT($N201,"00.0")&" "&A201&" ("&B201&")"&IF(ISBLANK($G201),""," "&$G201) -> 470µF 6.3v - R08.0-12.0 Hitano (EXR) | T201: =COUNTIF($S:$S,$S201) -> 1 | U201: =NOT(ISNA(MATCH($P201,Packages!$A:$A,0))) -> TRUE
A202: Hitano | B202: EXR | C202: 680 | D202: 6.3 | E202: 8x14 | F202: RADIAL | H202: Circular | I202: =UPPER($A202) -> HITANO | J202: =Q202 -> 680µF | K202: =R202 -> 6.3v | L202: =B202 -> EXR | M202: =VALUE(LEFT($E202,SEARCH("x",$E202)-1)) -> 8 | N202: =VALUE(RIGHT($E202,LEN($E202)-SEARCH("x",$E202))) -> 14 | O202: =$A202&"-"&$B202 -> Hitano-EXR | P202: =$A202&" "&LEFT($F202,1)&"-"&TEXT(ROUND($M202,0),"00.0")&"x"&TEXT(ROUND($N202,0),"00.0") -> Hitano R-08.0x14.0 | Q202: =TEXT($C202,"General"&CHAR(34)&"µF"&CHAR(34)) -> 680µF | R202: =TEXT($D202,"General"&CHAR(34)&"v"&CHAR(34)) -> 6.3v | S202: =$Q202&" "&$R202&" - "&LEFT($F202,1)&TEXT($M202,"00.0")&"-"&TEXT($N202,"00.0")&" "&A202&" ("&B202&")"&IF(ISBLANK($G202),""," "&$G202) -> 680µF 6.3v - R08.0-14.0 Hitano (EXR) | T202: =COUNTIF($S:$S,$S202) -> 1 | U202: =NOT(ISNA(MATCH($P202,Packages!$A:$A,0))) -> TRUE
A203: Hitano | B203: EXR | C203: 1000 | D203: 6.3 | E203: 8x12 | F203: RADIAL | H203: Circular | I203: =UPPER($A203) -> HITANO | J203: =Q203 -> 1000µF | K203: =R203 -> 6.3v | L203: =B203 -> EXR | M203: =VALUE(LEFT($E203,SEARCH("x",$E203)-1)) -> 8 | N203: =VALUE(RIGHT($E203,LEN($E203)-SEARCH("x",$E203))) -> 12 | O203: =$A203&"-"&$B203 -> Hitano-EXR | P203: =$A203&" "&LEFT($F203,1)&"-"&TEXT(ROUND($M203,0),"00.0")&"x"&TEXT(ROUND($N203,0),"00.0") -> Hitano R-08.0x12.0 | Q203: =TEXT($C203,"General"&CHAR(34)&"µF"&CHAR(34)) -> 1000µF | R203: =TEXT($D203,"General"&CHAR(34)&"v"&CHAR(34)) -> 6.3v | S203: =$Q203&" "&$R203&" - "&LEFT($F203,1)&TEXT($M203,"00.0")&"-"&TEXT($N203,"00.0")&" "&A203&" ("&B203&")"&IF(ISBLANK($G203),""," "&$G203) -> 1000µF 6.3v - R08.0-12.0 Hitano (EXR) | T203: =COUNTIF($S:$S,$S203) -> 1 | U203: =NOT(ISNA(MATCH($P203,Packages!$A:$A,0))) -> TRUE
A204: Hitano | B204: EXR | C204: 1000 | D204: 6.3 | E204: 10x12.5 | F204: RADIAL | H204: Circular | I204: =UPPER($A204) -> HITANO | J204: =Q204 -> 1000µF | K204: =R204 -> 6.3v | L204: =B204 -> EXR | M204: =VALUE(LEFT($E204,SEARCH("x",$E204)-1)) -> 10 | N204: =VALUE(RIGHT($E204,LEN($E204)-SEARCH("x",$E204))) -> 12.5 | O204: =$A204&"-"&$B204 -> Hitano-EXR | P204: =$A204&" "&LEFT($F204,1)&"-"&TEXT(ROUND($M204,0),"00.0")&"x"&TEXT(ROUND($N204,0),"00.0") -> Hitano R-10.0x13.0 | Q204: =TEXT($C204,"General"&CHAR(34)&"µF"&CHAR(34)) -> 1000µF | R204: =TEXT($D204,"General"&CHAR(34)&"v"&CHAR(34)) -> 6.3v | S204: =$Q204&" "&$R204&" - "&LEFT($F204,1)&TEXT($M204,"00.0")&"-"&TEXT($N204,"00.0")&" "&A204&" ("&B204&")"&IF(ISBLANK($G204),""," "&$G204) -> 1000µF 6.3v - R10.0-12.5 Hitano (EXR) | T204: =COUNTIF($S:$S,$S204) -> 1 | U204: =NOT(ISNA(MATCH($P204,Packages!$A:$A,0))) -> TRUE
A205: Hitano | B205: EXR | C205: 1500 | D205: 6.3 | E205: 8x16 | F205: RADIAL | H205: Circular | I205: =UPPER($A205) -> HITANO | J205: =Q205 -> 1500µF | K205: =R205 -> 6.3v | L205: =B205 -> EXR | M205: =VALUE(LEFT($E205,SEARCH("x",$E205)-1)) -> 8 | N205: =VALUE(RIGHT($E205,LEN($E205)-SEARCH("x",$E205))) -> 16 | O205: =$A205&"-"&$B205 -> Hitano-EXR | P205: =$A205&" "&LEFT($F205,1)&"-"&TEXT(ROUND($M205,0),"00.0")&"x"&TEXT(ROUND($N205,0),"00.0") -> Hitano R-08.0x16.0 | Q205: =TEXT($C205,"General"&CHAR(34)&"µF"&CHAR(34)) -> 1500µF | R205: =TEXT($D205,"General"&CHAR(34)&"v"&CHAR(34)) -> 6.3v | S205: =$Q205&" "&$R205&" - "&LEFT($F205,1)&TEXT($M205,"00.0")&"-"&TEXT($N205,"00.0")&" "&A205&" ("&B205&")"&IF(ISBLANK($G205),""," "&$G205) -> 1500µF 6.3v - R08.0-16.0 Hitano (EXR) | T205: =COUNTIF($S:$S,$S205) -> 1 | U205: =NOT(ISNA(MATCH($P205,Packages!$A:$A,0))) -> TRUE
A206: Hitano | B206: EXR | C206: 1500 | D206: 6.3 | E206: 10x16 | F206: RADIAL | H206: Circular | I206: =UPPER($A206) -> HITANO | J206: =Q206 -> 1500µF | K206: =R206 -> 6.3v | L206: =B206 -> EXR | M206: =VALUE(LEFT($E206,SEARCH("x",$E206)-1)) -> 10 | N206: =VALUE(RIGHT($E206,LEN($E206)-SEARCH("x",$E206))) -> 16 | O206: =$A206&"-"&$B206 -> Hitano-EXR | P206: =$A206&" "&LEFT($F206,1)&"-"&TEXT(ROUND($M206,0),"00.0")&"x"&TEXT(ROUND($N206,0),"00.0") -> Hitano R-10.0x16.0 | Q206: =TEXT($C206,"General"&CHAR(34)&"µF"&CHAR(34)) -> 1500µF | R206: =TEXT($D206,"General"&CHAR(34)&"v"&CHAR(34)) -> 6.3v | S206: =$Q206&" "&$R206&" - "&LEFT($F206,1)&TEXT($M206,"00.0")&"-"&TEXT($N206,"00.0")&" "&A206&" ("&B206&")"&IF(ISBLANK($G206),""," "&$G206) -> 1500µF 6.3v - R10.0-16.0 Hitano (EXR) | T206: =COUNTIF($S:$S,$S206) -> 1 | U206: =NOT(ISNA(MATCH($P206,Packages!$A:$A,0))) -> TRUE
A207: Hitano | B207: EXR | C207: 2200 | D207: 6.3 | E207: 10x21 | F207: RADIAL | H207: Circular | I207: =UPPER($A207) -> HITANO | J207: =Q207 -> 2200µF | K207: =R207 -> 6.3v | L207: =B207 -> EXR | M207: =VALUE(LEFT($E207,SEARCH("x",$E207)-1)) -> 10 | N207: =VALUE(RIGHT($E207,LEN($E207)-SEARCH("x",$E207))) -> 21 | O207: =$A207&"-"&$B207 -> Hitano-EXR | P207: =$A207&" "&LEFT($F207,1)&"-"&TEXT(ROUND($M207,0),"00.0")&"x"&TEXT(ROUND($N207,0),"00.0") -> Hitano R-10.0x21.0 | Q207: =TEXT($C207,"General"&CHAR(34)&"µF"&CHAR(34)) -> 2200µF | R207: =TEXT($D207,"General"&CHAR(34)&"v"&CHAR(34)) -> 6.3v | S207: =$Q207&" "&$R207&" - "&LEFT($F207,1)&TEXT($M207,"00.0")&"-"&TEXT($N207,"00.0")&" "&A207&" ("&B207&")"&IF(ISBLANK($G207),""," "&$G207) -> 2200µF 6.3v - R10.0-21.0 Hitano (EXR) | T207: =COUNTIF($S:$S,$S207) -> 1 | U207: =NOT(ISNA(MATCH($P207,Packages!$A:$A,0))) -> TRUE
A208: Hitano | B208: EXR | C208: 3300 | D208: 6.3 | E208: 10x21 | F208: RADIAL | H208: Circular | I208: =UPPER($A208) -> HITANO | J208: =Q208 -> 3300µF | K208: =R208 -> 6.3v | L208: =B208 -> EXR | M208: =VALUE(LEFT($E208,SEARCH("x",$E208)-1)) -> 10 | N208: =VALUE(RIGHT($E208,LEN($E208)-SEARCH("x",$E208))) -> 21 | O208: =$A208&"-"&$B208 -> Hitano-EXR | P208: =$A208&" "&LEFT($F208,1)&"-"&TEXT(ROUND($M208,0),"00.0")&"x"&TEXT(ROUND($N208,0),"00.0") -> Hitano R-10.0x21.0 | Q208: =TEXT($C208,"General"&CHAR(34)&"µF"&CHAR(34)) -> 3300µF | R208: =TEXT($D208,"General"&CHAR(34)&"v"&CHAR(34)) -> 6.3v | S208: =$Q208&" "&$R208&" - "&LEFT($F208,1)&TEXT($M208,"00.0")&"-"&TEXT($N208,"00.0")&" "&A208&" ("&B208&")"&IF(ISBLANK($G208),""," "&$G208) -> 3300µF 6.3v - R10.0-21.0 Hitano (EXR) | T208: =COUNTIF($S:$S,$S208) -> 1 | U208: =NOT(ISNA(MATCH($P208,Packages!$A:$A,0))) -> TRUE
A209: Hitano | B209: EXR | C209: 3300 | D209: 6.3 | E209: 13x21 | F209: RADIAL | H209: Circular | I209: =UPPER($A209) -> HITANO | J209: =Q209 -> 3300µF | K209: =R209 -> 6.3v | L209: =B209 -> EXR | M209: =VALUE(LEFT($E209,SEARCH("x",$E209)-1)) -> 13 | N209: =VALUE(RIGHT($E209,LEN($E209)-SEARCH("x",$E209))) -> 21 | O209: =$A209&"-"&$B209 -> Hitano-EXR | P209: =$A209&" "&LEFT($F209,1)&"-"&TEXT(ROUND($M209,0),"00.0")&"x"&TEXT(ROUND($N209,0),"00.0") -> Hitano R-13.0x21.0 | Q209: =TEXT($C209,"General"&CHAR(34)&"µF"&CHAR(34)) -> 3300µF | R209: =TEXT($D209,"General"&CHAR(34)&"v"&CHAR(34)) -> 6.3v | S209: =$Q209&" "&$R209&" - "&LEFT($F209,1)&TEXT($M209,"00.0")&"-"&TEXT($N209,"00.0")&" "&A209&" ("&B209&")"&IF(ISBLANK($G209),""," "&$G209) -> 3300µF 6.3v - R13.0-21.0 Hitano (EXR) | T209: =COUNTIF($S:$S,$S209) -> 1 | U209: =NOT(ISNA(MATCH($P209,Packages!$A:$A,0))) -> TRUE
A210: Hitano | B210: EXR | C210: 4700 | D210: 6.3 | E210: 13x21 | F210: RADIAL | H210: Circular | I210: =UPPER($A210) -> HITANO | J210: =Q210 -> 4700µF | K210: =R210 -> 6.3v | L210: =B210 -> EXR | M210: =VALUE(LEFT($E210,SEARCH("x",$E210)-1)) -> 13 | N210: =VALUE(RIGHT($E210,LEN($E210)-SEARCH("x",$E210))) -> 21 | O210: =$A210&"-"&$B210 -> Hitano-EXR | P210: =$A210&" "&LEFT($F210,1)&"-"&TEXT(ROUND($M210,0),"00.0")&"x"&TEXT(ROUND($N210,0),"00.0") -> Hitano R-13.0x21.0 | Q210: =TEXT($C210,"General"&CHAR(34)&"µF"&CHAR(34)) -> 4700µF | R210: =TEXT($D210,"General"&CHAR(34)&"v"&CHAR(34)) -> 6.3v | S210: =$Q210&" "&$R210&" - "&LEFT($F210,1)&TEXT($M210,"00.0")&"-"&TEXT($N210,"00.0")&" "&A210&" ("&B210&")"&IF(ISBLANK($G210),""," "&$G210) -> 4700µF 6.3v - R13.0-21.0 Hitano (EXR) | T210: =COUNTIF($S:$S,$S210) -> 1 | U210: =NOT(ISNA(MATCH($P210,Packages!$A:$A,0))) -> TRUE
... A386: Hitano | B386: EXR | C386: 68 | D386: 450 | E386: 18x36 | F386: RADIAL | H386: Circular | I386: =UPPER($A386) -> HITANO | J386: =Q386 -> 68µF | K386: =R386 -> 450v | L386: =B386 -> EXR | M386: =VALUE(LEFT($E386,SEARCH("x",$E386)-1)) -> 18 | N386: =VALUE(RIGHT($E386,LEN($E386)-SEARCH("x",$E386))) -> 36 | O386: =$A386&"-"&$B386 -> Hitano-EXR | P386: =$A386&" "&LEFT($F386,1)&"-"&TEXT(ROUND($M386,0),"00.0")&"x"&TEXT(ROUND($N386,0),"00.0") -> Hitano R-18.0x36.0 | Q386: =TEXT($C386,"General"&CHAR(34)&"µF"&CHAR(34)) -> 68µF | R386: =TEXT($D386,"General"&CHAR(34)&"v"&CHAR(34)) -> 450v | S386: =$Q386&" "&$R386&" - "&LEFT($F386,1)&TEXT($M386,"00.0")&"-"&TEXT($N386,"00.0")&" "&A386&" ("&B386&")"&IF(ISBLANK($G386),""," "&$G386) -> 68µF 450v - R18.0-36.0 Hitano (EXR) | T386: =COUNTIF($S:$S,$S386) -> 1 | U386: =NOT(ISNA(MATCH($P386,Packages!$A:$A,0))) -> TRUE
A387: Jamicon | B387: SK | C387: 100 | D387: 6.3 | E387: 5x11 | F387: RADIAL | H387: Length | J387: =UPPER($A387) -> JAMICON | K387: =$Q387&" "&$R387 -> 100µF 6.3v | L387: =B387 -> SK | M387: =VALUE(LEFT($E387,SEARCH("x",$E387)-1)) -> 5 | N387: =VALUE(RIGHT($E387,LEN($E387)-SEARCH("x",$E387))) -> 11 | O387: =$A387&"-"&$B387 -> Jamicon-SK | P387: =$A387&" "&LEFT($F387,1)&"-"&TEXT(ROUND($M387,0),"00.0")&"x"&TEXT(ROUND($N387,0),"00.0") -> Jamicon R-05.0x11.0 | Q387: =TEXT($C387,"General"&CHAR(34)&"µF"&CHAR(34)) -> 100µF | R387: =TEXT($D387,"General"&CHAR(34)&"v"&CHAR(34)) -> 6.3v | S387: =$Q387&" "&$R387&" - "&LEFT($F387,1)&TEXT($M387,"00.0")&"-"&TEXT($N387,"00.0")&" "&A387&" ("&B387&")"&IF(ISBLANK($G387),""," "&$G387) -> 100µF 6.3v - R05.0-11.0 Jamicon (SK) | T387: =COUNTIF($S:$S,$S387) -> 1 | U387: =NOT(ISNA(MATCH($P387,Packages!$A:$A,0))) -> TRUE
A388: Jamicon | B388: SK | C388: 220 | D388: 6.3 | E388: 5x11 | F388: RADIAL | H388: Length | J388: =UPPER($A388) -> JAMICON | K388: =$Q388&" "&$R388 -> 220µF 6.3v | L388: =B388 -> SK | M388: =VALUE(LEFT($E388,SEARCH("x",$E388)-1)) -> 5 | N388: =VALUE(RIGHT($E388,LEN($E388)-SEARCH("x",$E388))) -> 11 | O388: =$A388&"-"&$B388 -> Jamicon-SK | P388: =$A388&" "&LEFT($F388,1)&"-"&TEXT(ROUND($M388,0),"00.0")&"x"&TEXT(ROUND($N388,0),"00.0") -> Jamicon R-05.0x11.0 | Q388: =TEXT($C388,"General"&CHAR(34)&"µF"&CHAR(34)) -> 220µF | R388: =TEXT($D388,"General"&CHAR(34)&"v"&CHAR(34)) -> 6.3v | S388: =$Q388&" "&$R388&" - "&LEFT($F388,1)&TEXT($M388,"00.0")&"-"&TEXT($N388,"00.0")&" "&A388&" ("&B388&")"&IF(ISBLANK($G388),""," "&$G388) -> 220µF 6.3v - R05.0-11.0 Jamicon (SK) | T388: =COUNTIF($S:$S,$S388) -> 1 | U388: =NOT(ISNA(MATCH($P388,Packages!$A:$A,0))) -> TRUE
A389: Jamicon | B389: SK | C389: 220 | D389: 6.3 | E389: 6.3x11 | F389: RADIAL | H389: Length | J389: =UPPER($A389) -> JAMICON | K389: =$Q389&" "&$R389 -> 220µF 6.3v | L389: =B389 -> SK | M389: =VALUE(LEFT($E389,SEARCH("x",$E389)-1)) -> 6.3 | N389: =VALUE(RIGHT($E389,LEN($E389)-SEARCH("x",$E389))) -> 11 | O389: =$A389&"-"&$B389 -> Jamicon-SK | P389: =$A389&" "&LEFT($F389,1)&"-"&TEXT(ROUND($M389,0),"00.0")&"x"&TEXT(ROUND($N389,0),"00.0") -> Jamicon R-06.0x11.0 | Q389: =TEXT($C389,"General"&CHAR(34)&"µF"&CHAR(34)) -> 220µF | R389: =TEXT($D389,"General"&CHAR(34)&"v"&CHAR(34)) -> 6.3v | S389: =$Q389&" "&$R389&" - "&LEFT($F389,1)&TEXT($M389,"00.0")&"-"&TEXT($N389,"00.0")&" "&A389&" ("&B389&")"&IF(ISBLANK($G389),""," "&$G389) -> 220µF 6.3v - R06.3-11.0 Jamicon (SK) | T389: =COUNTIF($S:$S,$S389) -> 1 | U389: =NOT(ISNA(MATCH($P389,Packages!$A:$A,0))) -> TRUE
A390: Jamicon | B390: SK | C390: 330 | D390: 6.3 | E390: 6.3x11 | F390: RADIAL | H390: Length | J390: =UPPER($A390) -> JAMICON | K390: =$Q390&" "&$R390 -> 330µF 6.3v | L390: =B390 -> SK | M390: =VALUE(LEFT($E390,SEARCH("x",$E390)-1)) -> 6.3 | N390: =VALUE(RIGHT($E390,LEN($E390)-SEARCH("x",$E390))) -> 11 | O390: =$A390&"-"&$B390 -> Jamicon-SK | P390: =$A390&" "&LEFT($F390,1)&"-"&TEXT(ROUND($M390,0),"00.0")&"x"&TEXT(ROUND($N390,0),"00.0") -> Jamicon R-06.0x11.0 | Q390: =TEXT($C390,"General"&CHAR(34)&"µF"&CHAR(34)) -> 330µF | R390: =TEXT($D390,"General"&CHAR(34)&"v"&CHAR(34)) -> 6.3v | S390: =$Q390&" "&$R390&" - "&LEFT($F390,1)&TEXT($M390,"00.0")&"-"&TEXT($N390,"00.0")&" "&A390&" ("&B390&")"&IF(ISBLANK($G390),""," "&$G390) -> 330µF 6.3v - R06.3-11.0 Jamicon (SK) | T390: =COUNTIF($S:$S,$S390) -> 1 | U390: =NOT(ISNA(MATCH($P390,Packages!$A:$A,0))) -> TRUE
A391: Jamicon | B391: SK | C391: 330 | D391: 6.3 | E391: 8x11.5 | F391: RADIAL | H391: Length | J391: =UPPER($A391) -> JAMICON | K391: =$Q391&" "&$R391 -> 330µF 6.3v | L391: =B391 -> SK | M391: =VALUE(LEFT($E391,SEARCH("x",$E391)-1)) -> 8 | N391: =VALUE(RIGHT($E391,LEN($E391)-SEARCH("x",$E391))) -> 11.5 | O391: =$A391&"-"&$B391 -> Jamicon-SK | P391: =$A391&" "&LEFT($F391,1)&"-"&TEXT(ROUND($M391,0),"00.0")&"x"&TEXT(ROUND($N391,0),"00.0") -> Jamicon R-08.0x12.0 | Q391: =TEXT($C391,"General"&CHAR(34)&"µF"&CHAR(34)) -> 330µF | R391: =TEXT($D391,"General"&CHAR(34)&"v"&CHAR(34)) -> 6.3v | S391: =$Q391&" "&$R391&" - "&LEFT($F391,1)&TEXT($M391,"00.0")&"-"&TEXT($N391,"00.0")&" "&A391&" ("&B391&")"&IF(ISBLANK($G391),""," "&$G391) -> 330µF 6.3v - R08.0-11.5 Jamicon (SK) | T391: =COUNTIF($S:$S,$S391) -> 1 | U391: =NOT(ISNA(MATCH($P391,Packages!$A:$A,0))) -> TRUE
A392: Jamicon | B392: SK | C392: 470 | D392: 6.3 | E392: 6.3x11 | F392: RADIAL | H392: Length | J392: =UPPER($A392) -> JAMICON | K392: =$Q392&" "&$R392 -> 470µF 6.3v | L392: =B392 -> SK | M392: =VALUE(LEFT($E392,SEARCH("x",$E392)-1)) -> 6.3 | N392: =VALUE(RIGHT($E392,LEN($E392)-SEARCH("x",$E392))) -> 11 | O392: =$A392&"-"&$B392 -> Jamicon-SK | P392: =$A392&" "&LEFT($F392,1)&"-"&TEXT(ROUND($M392,0),"00.0")&"x"&TEXT(ROUND($N392,0),"00.0") -> Jamicon R-06.0x11.0 | Q392: =TEXT($C392,"General"&CHAR(34)&"µF"&CHAR(34)) -> 470µF | R392: =TEXT($D392,"General"&CHAR(34)&"v"&CHAR(34)) -> 6.3v | S392: =$Q392&" "&$R392&" - "&LEFT($F392,1)&TEXT($M392,"00.0")&"-"&TEXT($N392,"00.0")&" "&A392&" ("&B392&")"&IF(ISBLANK($G392),""," "&$G392) -> 470µF 6.3v - R06.3-11.0 Jamicon (SK) | T392: =COUNTIF($S:$S,$S392) -> 1 | U392: =NOT(ISNA(MATCH($P392,Packages!$A:$A,0))) -> TRUE
A393: Jamicon | B393: SK | C393: 470 | D393: 6.3 | E393: 8x11.5 | F393: RADIAL | H393: Length | J393: =UPPER($A393) -> JAMICON | K393: =$Q393&" "&$R393 -> 470µF 6.3v | L393: =B393 -> SK | M393: =VALUE(LEFT($E393,SEARCH("x",$E393)-1)) -> 8 | N393: =VALUE(RIGHT($E393,LEN($E393)-SEARCH("x",$E393))) -> 11.5 | O393: =$A393&"-"&$B393 -> Jamicon-SK | P393: =$A393&" "&LEFT($F393,1)&"-"&TEXT(ROUND($M393,0),"00.0")&"x"&TEXT(ROUND($N393,0),"00.0") -> Jamicon R-08.0x12.0 | Q393: =TEXT($C393,"General"&CHAR(34)&"µF"&CHAR(34)) -> 470µF | R393: =TEXT($D393,"General"&CHAR(34)&"v"&CHAR(34)) -> 6.3v | S393: =$Q393&" "&$R393&" - "&LEFT($F393,1)&TEXT($M393,"00.0")&"-"&TEXT($N393,"00.0")&" "&A393&" ("&B393&")"&IF(ISBLANK($G393),""," "&$G393) -> 470µF 6.3v - R08.0-11.5 Jamicon (SK) | T393: =COUNTIF($S:$S,$S393) -> 1 | U393: =NOT(ISNA(MATCH($P393,Packages!$A:$A,0))) -> TRUE
A394: Jamicon | B394: SK | C394: 1000 | D394: 6.3 | E394: 8x11.5 | F394: RADIAL | H394: Length | J394: =UPPER($A394) -> JAMICON | K394: =$Q394&" "&$R394 -> 1000µF 6.3v | L394: =B394 -> SK | M394: =VALUE(LEFT($E394,SEARCH("x",$E394)-1)) -> 8 | N394: =VALUE(RIGHT($E394,LEN($E394)-SEARCH("x",$E394))) -> 11.5 | O394: =$A394&"-"&$B394 -> Jamicon-SK | P394: =$A394&" "&LEFT($F394,1)&"-"&TEXT(ROUND($M394,0),"00.0")&"x"&TEXT(ROUND($N394,0),"00.0") -> Jamicon R-08.0x12.0 | Q394: =TEXT($C394,"General"&CHAR(34)&"µF"&CHAR(34)) -> 1000µF | R394: =TEXT($D394,"General"&CHAR(34)&"v"&CHAR(34)) -> 6.3v | S394: =$Q394&" "&$R394&" - "&LEFT($F394,1)&TEXT($M394,"00.0")&"-"&TEXT($N394,"00.0")&" "&A394&" ("&B394&")"&IF(ISBLANK($G394),""," "&$G394) -> 1000µF 6.3v - R08.0-11.5 Jamicon (SK) | T394: =COUNTIF($S:$S,$S394) -> 1 | U394: =NOT(ISNA(MATCH($P394,Packages!$A:$A,0))) -> TRUE
A395: Jamicon | B395: SK | C395: 1000 | D395: 6.3 | E395: 10x12.5 | F395: RADIAL | H395: Length | J395: =UPPER($A395) -> JAMICON | K395: =$Q395&" "&$R395 -> 1000µF 6.3v | L395: =B395 -> SK | M395: =VALUE(LEFT($E395,SEARCH("x",$E395)-1)) -> 10 | N395: =VALUE(RIGHT($E395,LEN($E395)-SEARCH("x",$E395))) -> 12.5 | O395: =$A395&"-"&$B395 -> Jamicon-SK | P395: =$A395&" "&LEFT($F395,1)&"-"&TEXT(ROUND($M395,0),"00.0")&"x"&TEXT(ROUND($N395,0),"00.0") -> Jamicon R-10.0x13.0 | Q395: =TEXT($C395,"General"&CHAR(34)&"µF"&CHAR(34)) -> 1000µF | R395: =TEXT($D395,"General"&CHAR(34)&"v"&CHAR(34)) -> 6.3v | S395: =$Q395&" "&$R395&" - "&LEFT($F395,1)&TEXT($M395,"00.0")&"-"&TEXT($N395,"00.0")&" "&A395&" ("&B395&")"&IF(ISBLANK($G395),""," "&$G395) -> 1000µF 6.3v - R10.0-12.5 Jamicon (SK) | T395: =COUNTIF($S:$S,$S395) -> 1 | U395: =NOT(ISNA(MATCH($P395,Packages!$A:$A,0))) -> TRUE
A396: Jamicon | B396: SK | C396: 2200 | D396: 6.3 | E396: 10x16 | F396: RADIAL | H396: Length | J396: =UPPER($A396) -> JAMICON | K396: =$Q396&" "&$R396 -> 2200µF 6.3v | L396: =B396 -> SK | M396: =VALUE(LEFT($E396,SEARCH("x",$E396)-1)) -> 10 | N396: =VALUE(RIGHT($E396,LEN($E396)-SEARCH("x",$E396))) -> 16 | O396: =$A396&"-"&$B396 -> Jamicon-SK | P396: =$A396&" "&LEFT($F396,1)&"-"&TEXT(ROUND($M396,0),"00.0")&"x"&TEXT(ROUND($N396,0),"00.0") -> Jamicon R-10.0x16.0 | Q396: =TEXT($C396,"General"&CHAR(34)&"µF"&CHAR(34)) -> 2200µF | R396: =TEXT($D396,"General"&CHAR(34)&"v"&CHAR(34)) -> 6.3v | S396: =$Q396&" "&$R396&" - "&LEFT($F396,1)&TEXT($M396,"00.0")&"-"&TEXT($N396,"00.0")&" "&A396&" ("&B396&")"&IF(ISBLANK($G396),""," "&$G396) -> 2200µF 6.3v - R10.0-16.0 Jamicon (SK) | T396: =COUNTIF($S:$S,$S396) -> 1 | U396: =NOT(ISNA(MATCH($P396,Packages!$A:$A,0))) -> TRUE
A397: Jamicon | B397: SK | C397: 2200 | D397: 6.3 | E397: 10x20 | F397: RADIAL | H397: Length | J397: =UPPER($A397) -> JAMICON | K397: =$Q397&" "&$R397 -> 2200µF 6.3v | L397: =B397 -> SK | M397: =VALUE(LEFT($E397,SEARCH("x",$E397)-1)) -> 10 | N397: =VALUE(RIGHT($E397,LEN($E397)-SEARCH("x",$E397))) -> 20 | O397: =$A397&"-"&$B397 -> Jamicon-SK | P397: =$A397&" "&LEFT($F397,1)&"-"&TEXT(ROUND($M397,0),"00.0")&"x"&TEXT(ROUND($N397,0),"00.0") -> Jamicon R-10.0x20.0 | Q397: =TEXT($C397,"General"&CHAR(34)&"µF"&CHAR(34)) -> 2200µF | R397: =TEXT($D397,"General"&CHAR(34)&"v"&CHAR(34)) -> 6.3v | S397: =$Q397&" "&$R397&" - "&LEFT($F397,1)&TEXT($M397,"00.0")&"-"&TEXT($N397,"00.0")&" "&A397&" ("&B397&")"&IF(ISBLANK($G397),""," "&$G397) -> 2200µF 6.3v - R10.0-20.0 Jamicon (SK) | T397: =COUNTIF($S:$S,$S397) -> 1 | U397: =NOT(ISNA(MATCH($P397,Packages!$A:$A,0))) -> TRUE
A398: Jamicon | B398: SK | C398: 3300 | D398: 6.3 | E398: 10x20 | F398: RADIAL | H398: Length | J398: =UPPER($A398) -> JAMICON | K398: =$Q398&" "&$R398 -> 3300µF 6.3v | L398: =B398 -> SK | M398: =VALUE(LEFT($E398,SEARCH("x",$E398)-1)) -> 10 | N398: =VALUE(RIGHT($E398,LEN($E398)-SEARCH("x",$E398))) -> 20 | O398: =$A398&"-"&$B398 -> Jamicon-SK | P398: =$A398&" "&LEFT($F398,1)&"-"&TEXT(ROUND($M398,0),"00.0")&"x"&TEXT(ROUND($N398,0),"00.0") -> Jamicon R-10.0x20.0 | Q398: =TEXT($C398,"General"&CHAR(34)&"µF"&CHAR(34)) -> 3300µF | R398: =TEXT($D398,"General"&CHAR(34)&"v"&CHAR(34)) -> 6.3v | S398: =$Q398&" "&$R398&" - "&LEFT($F398,1)&TEXT($M398,"00.0")&"-"&TEXT($N398,"00.0")&" "&A398&" ("&B398&")"&IF(ISBLANK($G398),""," "&$G398) -> 3300µF 6.3v - R10.0-20.0 Jamicon (SK) | T398: =COUNTIF($S:$S,$S398) -> 1 | U398: =NOT(ISNA(MATCH($P398,Packages!$A:$A,0))) -> TRUE
...

Sheet Packages
A1: ID | B1: Manufacturer | C1: Mount Type | D1: Datasheet Dimensions | E1: Stand Off | F1: Lead Extend Length | G1: Case Thickness | H1: Lead Length Negative | I1: Case Diameter | J1: Case Height | K1: Lead Spacing | L1: Lead Length Positive | M1: Lead Diameter | N1: Sleeve Thickness | O1: Bottom Indent Width | P1: Bottom Indent Offset | Q1: Text Count Type Value | R1: Text Count Type Manufacturer | S1: Text Count Type Series | T1: Text Count Value | U1: Text Count Manufacturer | V1: Text Count Series | W1: Text Count Value Max | X1: Text Count Manufacturer Max | Y1: Text Count Series Max | Z1: Text Separation Spaces | AA1: Text Height Value | AB1: Text Height Manufacturer | AC1: Text Height Series | AD1: Lead Spacing (tbl) | AE1: Text Vertical Pitch | AF1: Lead Spacing (mm) | AG1: Lead Table Row | AH1: Lead Table | AI1: Lead Table Header | AJ1: Tolerance | AK1: #Instances
A2: =$B2&" "&LEFT($C2,1)&"-"&TEXT(ROUND($I2,0),"00.0")&"x"&TEXT(ROUND($J2,0),"00.0") -> HEC R-25.0x51.0 | B2: HEC | C2: RADIAL | D2: 25.2x51.4 | E2: 0.5 | F2: 2 | G2: 0.3 | H2: 4 | I2: =VALUE(LEFT($D2,SEARCH("x",$D2)-1)) -> 25.2 | J2: =VALUE(RIGHT($D2,LEN($D2)-SEARCH("x",$D2))) -> 51.4 | K2: =1000*ROUND($AD2/25.4,2) -> 400 | L2: 4 | M2: 1.5 | N2: 0.2 | O2: 4.7 | P2: 3.5 | Q2: =rptNone -> 0 | R2: =rptNone -> 0 | S2: =rptNone -> 0 | T2: 0 | U2: 0 | V2: 0 | W2: 0 | X2: =W2 -> 0 | Y2: 8 | Z2: =IF(B2="Hitano",5,4) -> 4 | AA2: 4.9 | AB2: =AA2/1.4 -> 3.5 | AC2: =AA2/1.324 -> 3.7009063 | AD2: 10.2 | AE2: =AA2/1.2 -> 4.0833333 | AF2: =K2/1000 * 25.4 -> 10.16 | AG2: =1+MATCH($B2,'Lead Tables'!$A:$A,0) -> #N/A | AH2: =ADDRESS($AG2,1,TRUE,TRUE,"Lead Tables")&":"&ADDRESS($AG2+3,COLUMN('Lead Tables'!$K:$K),TRUE,TRUE) -> #N/A | AI2: =ADDRESS($AG2,1,TRUE,TRUE,"Lead Tables")&":"&ADDRESS($AG2,COLUMN('Lead Tables'!$K:$K),TRUE,TRUE) -> #N/A | AJ2: 0.1 | AK2: =COUNTIF(A:A,A2) -> 1 | AN2: =MAX(AA2:AC64) -> 4.9
A3: =$B3&" "&LEFT($C3,1)&"-"&TEXT(ROUND($I3,0),"00.0")&"x"&TEXT(ROUND($J3,0),"00.0") -> Hitano R-05.0x11.0 | B3: Hitano | C3: RADIAL | D3: 5x11 | E3: 0.5 | F3: 2 | G3: 0.3 | H3: 20.7 | I3: =VALUE(LEFT($D3,SEARCH("x",$D3)-1)) -> 5 | J3: =VALUE(RIGHT($D3,LEN($D3)-SEARCH("x",$D3))) -> 11 | K3: =1000*ROUNDUP($AD3/25.4,2) -> 80 | L3: =H3+5.6 -> 26.3 | M3: =INDEX(INDIRECT($AH3),3,MATCH($I3,INDIRECT($AI3),0)) -> 0.5 | N3: =IF($I3<8,0.12,IF($I3<10,0.15,0.2)) -> 0.12 | O3: 2 | P3: 1.5 | Q3: =rptMinUntilExtent -> 17 | R3: =rptNumberOfTimesOfLineNo -> 6 | S3: =rptUntilExtentThenFit -> 2 | T3: 1 | U3: 0 | V3: 0 | W3: 3 | X3: =W3 -> 3 | Y3: 8 | Z3: =IF(B3="Hitano",5,4) -> 5 | AA3: =IF(ROUND(5.509253+(1.199745-5.509253)/(1+($I3/16.61827)^13.04355),1)>3,3,ROUND(5.509253+(1.199745-5.509253)/(1+($I3/16.61827)^13.04355),1)) -> 1.2 | AB3: =AA3*1.5 -> 1.8 | AC3: =IF(AA3/1.949>0.7,0.7,AA3/1.949)/1.3 -> 0.47361566 | AD3: =INDEX(INDIRECT($AH3),2,MATCH($I3,INDIRECT($AI3),0)) -> 2 | AE3: =AA3/3 -> 0.4 | AF3: =K3/1000 * 25.4 -> 2.032 | AG3: =1+MATCH($B3,'Lead Tables'!$A:$A,0) -> 2 | AH3: =ADDRESS($AG3,1,TRUE,TRUE,"Lead Tables")&":"&ADDRESS($AG3+3,COLUMN('Lead Tables'!$K:$K),TRUE,TRUE) -> 'Lead Tables'!$A$2:$K$5 | AI3: =ADDRESS($AG3,1,TRUE,TRUE,"Lead Tables")&":"&ADDRESS($AG3,COLUMN('Lead Tables'!$K:$K),TRUE,TRUE) -> 'Lead Tables'!$A$2:$K$2 | AJ3: 0.1 | AK3: =COUNTIF(A:A,A3) -> 1 | AM3: =AL3*1.261 -> 0 | AN3: =72 / 18.49189453 -> 3.8935978
A4: =$B4&" "&LEFT($C4,1)&"-"&TEXT(ROUND($I4,0),"00.0")&"x"&TEXT(ROUND($J4,0),"00.0") -> Hitano R-06.0x11.0 | B4: Hitano | C4: RADIAL | D4: 6.3x11 | E4: 0.5 | F4: 2 | G4: 0.3 | H4: 20.7 | I4: =VALUE(LEFT($D4,SEARCH("x",$D4)-1)) -> 6.3 | J4: =VALUE(RIGHT($D4,LEN($D4)-SEARCH("x",$D4))) -> 11 | K4: =1000*ROUNDUP($AD4/25.4,2) -> 100 | L4: =H4+5.6 -> 26.3 | M4: =INDEX(INDIRECT($AH4),3,MATCH($I4,INDIRECT($AI4),0)) -> 0.5 | N4: =IF($I4<8,0.12,IF($I4<10,0.15,0.2)) -> 0.12 | O4: 2 | P4: 1.5 | Q4: =rptMinUntilExtent -> 17 | R4: =rptNumberOfTimesOfLineNo -> 6 | S4: =rptUntilExtentThenFit -> 2 | T4: 1 | U4: 0 | V4: 0 | W4: 3 | X4: =W4 -> 3 | Y4: 8 | Z4: =IF(B4="Hitano",5,4) -> 5 | AA4: =IF(ROUND(5.509253+(1.199745-5.509253)/(1+($I4/16.61827)^13.04355),1)>3,3,ROUND(5.509253+(1.199745-5.509253)/(1+($I4/16.61827)^13.04355),1)) -> 1.2 | AB4: =AA4*1.5 -> 1.8 | AC4: =IF(AA4/1.949>0.7,0.7,AA4/1.949)/1.3 -> 0.47361566 | AD4: =INDEX(INDIRECT($AH4),2,MATCH($I4,INDIRECT($AI4),0)) -> 2.5 | AE4: =AA4/3 -> 0.4 | AF4: =K4/1000 * 25.4 -> 2.54 | AG4: =1+MATCH($B4,'Lead Tables'!$A:$A,0) -> 2 | AH4: =ADDRESS($AG4,1,TRUE,TRUE,"Lead Tables")&":"&ADDRESS($AG4+3,COLUMN('Lead Tables'!$K:$K),TRUE,TRUE) -> 'Lead Tables'!$A$2:$K$5 | AI4: =ADDRESS($AG4,1,TRUE,TRUE,"Lead Tables")&":"&ADDRESS($AG4,COLUMN('Lead Tables'!$K:$K),TRUE,TRUE) -> 'Lead Tables'!$A$2:$K$2 | AJ4: 0.1 | AK4: =COUNTIF(A:A,A4) -> 1 | AM4: =AL4*1.261 -> 0 | AN4: =2000/(AN2*AN3) -> 104.82933
A5: =$B5&" "&LEFT($C5,1)&"-"&TEXT(ROUND($I5,0),"00.0")&"x"&TEXT(ROUND($J5,0),"00.0") -> Hitano R-08.0x12.0 | B5: Hitano | C5: RADIAL | D5: 8x12 | E5: 0.5 | F5: 2 | G5: 0.3 | H5: 20.7 | I5: =VALUE(LEFT($D5,SEARCH("x",$D5)-1)) -> 8 | J5: =VALUE(RIGHT($D5,LEN($D5)-SEARCH("x",$D5))) -> 12 | K5: =1000*ROUNDUP($AD5/25.4,2) -> 140 | L5: =H5+5.6 -> 26.3 | M5: =INDEX(INDIRECT($AH5),3,MATCH($I5,INDIRECT($AI5),0)) -> 0.5 | N5: =IF($I5<8,0.12,IF($I5<10,0.15,0.2)) -> 0.15 | O5: 2 | P5: 1.5 | Q5: =rptMinUntilExtent -> 17 | R5: =rptNumberOfTimesOfLineNo -> 6 | S5: =rptUntilExtentThenFit -> 2 | T5: 1 | U5: 0 | V5: 0 | W5: 3 | X5: =W5 -> 3 | Y5: 8 | Z5: =IF(B5="Hitano",5,4) -> 5 | AA5: =IF(ROUND(5.509253+(1.199745-5.509253)/(1+($I5/16.61827)^13.04355),1)>3,3,ROUND(5.509253+(1.199745-5.509253)/(1+($I5/16.61827)^13.04355),1)) -> 1.2 | AB5: =AA5*1.5 -> 1.8 | AC5: =IF(AA5/1.949>0.7,0.7,AA5/1.949)/1.3 -> 0.47361566 | AD5: =INDEX(INDIRECT($AH5),2,MATCH($I5,INDIRECT($AI5),0)) -> 3.5 | AE5: =AA5/3 -> 0.4 | AF5: =K5/1000 * 25.4 -> 3.556 | AG5: =1+MATCH($B5,'Lead Tables'!$A:$A,0) -> 2 | AH5: =ADDRESS($AG5,1,TRUE,TRUE,"Lead Tables")&":"&ADDRESS($AG5+3,COLUMN('Lead Tables'!$K:$K),TRUE,TRUE) -> 'Lead Tables'!$A$2:$K$5 | AI5: =ADDRESS($AG5,1,TRUE,TRUE,"Lead Tables")&":"&ADDRESS($AG5,COLUMN('Lead Tables'!$K:$K),TRUE,TRUE) -> 'Lead Tables'!$A$2:$K$2 | AJ5: 0.1 | AK5: =COUNTIF(A:A,A5) -> 1 | AM5: =AL5*1.261 -> 0 | AN5: =AN4/46.23 -> 2.2675608
A6: =$B6&" "&LEFT($C6,1)&"-"&TEXT(ROUND($I6,0),"00.0")&"x"&TEXT(ROUND($J6,0),"00.0") -> Hitano R-08.0x14.0 | B6: Hitano | C6: RADIAL | D6: 8x14 | E6: 0.5 | F6: 2 | G6: 0.3 | H6: 20.7 | I6: =VALUE(LEFT($D6,SEARCH("x",$D6)-1)) -> 8 | J6: =VALUE(RIGHT($D6,LEN($D6)-SEARCH("x",$D6))) -> 14 | K6: =1000*ROUNDUP($AD6/25.4,2) -> 140 | L6: =H6+5.6 -> 26.3 | M6: =INDEX(INDIRECT($AH6),3,MATCH($I6,INDIRECT($AI6),0)) -> 0.5 | N6: =IF($I6<8,0.12,IF($I6<10,0.15,0.2)) -> 0.15 | O6: =4.925363+(2.443075-4.925363)/(1+($I6/16.01491)^7.997158) -> 2.4526811 | P6: =10.44333+(1.945487-10.44333)/(1+($I6/34.36317)^4.867813) -> 1.9525276 | Q6: =rptMinUntilExtent -> 17 | R6: =rptNumberOfTimesOfLineNo -> 6 | S6: =rptUntilExtentThenFit -> 2 | T6: 1 | U6: 0 | V6: 0 | W6: 3 | X6: =W6 -> 3 | Y6: 8 | Z6: =IF(B6="Hitano",5,4) -> 5 | AA6: =IF(ROUND(5.509253+(1.199745-5.509253)/(1+($I6/16.61827)^13.04355),1)>3,3,ROUND(5.509253+(1.199745-5.509253)/(1+($I6/16.61827)^13.04355),1)) -> 1.2 | AB6: =AA6*1.5 -> 1.8 | AC6: =IF(AA6/1.949>0.7,0.7,AA6/1.949)/1.3 -> 0.47361566 | AD6: =INDEX(INDIRECT($AH6),2,MATCH($I6,INDIRECT($AI6),0)) -> 3.5 | AE6: =AA6/3 -> 0.4 | AF6: =K6/1000 * 25.4 -> 3.556 | AG6: =1+MATCH($B6,'Lead Tables'!$A:$A,0) -> 2 | AH6: =ADDRESS($AG6,1,TRUE,TRUE,"Lead Tables")&":"&ADDRESS($AG6+3,COLUMN('Lead Tables'!$K:$K),TRUE,TRUE) -> 'Lead Tables'!$A$2:$K$5 | AI6: =ADDRESS($AG6,1,TRUE,TRUE,"Lead Tables")&":"&ADDRESS($AG6,COLUMN('Lead Tables'!$K:$K),TRUE,TRUE) -> 'Lead Tables'!$A$2:$K$2 | AJ6: 0.1 | AK6: =COUNTIF(A:A,A6) -> 1 | AM6: =AL6*1.261 -> 0
A7: =$B7&" "&LEFT($C7,1)&"-"&TEXT(ROUND($I7,0),"00.0")&"x"&TEXT(ROUND($J7,0),"00.0") -> Hitano R-08.0x16.0 | B7: Hitano | C7: RADIAL | D7: 8x16 | E7: 0.5 | F7: 2 | G7: 0.3 | H7: 20.7 | I7: =VALUE(LEFT($D7,SEARCH("x",$D7)-1)) -> 8 | J7: =VALUE(RIGHT($D7,LEN($D7)-SEARCH("x",$D7))) -> 16 | K7: =1000*ROUNDUP($AD7/25.4,2) -> 140 | L7: =H7+5.6 -> 26.3 | M7: =INDEX(INDIRECT($AH7),3,MATCH($I7,INDIRECT($AI7),0)) -> 0.5 | N7: =IF($I7<8,0.12,IF($I7<10,0.15,0.2)) -> 0.15 | O7: =4.925363+(2.443075-4.925363)/(1+($I7/16.01491)^7.997158) -> 2.4526811 | P7: =10.44333+(1.945487-10.44333)/(1+($I7/34.36317)^4.867813) -> 1.9525276 | Q7: =rptMinUntilExtent -> 17 | R7: =rptNumberOfTimesOfLineNo -> 6 | S7: =rptUntilExtentThenFit -> 2 | T7: 1 | U7: 0 | V7: 0 | W7: 3 | X7: =W7 -> 3 | Y7: 8 | Z7: =IF(B7="Hitano",5,4) -> 5 | AA7: =IF(ROUND(5.509253+(1.199745-5.509253)/(1+($I7/16.61827)^13.04355),1)>3,3,ROUND(5.509253+(1.199745-5.509253)/(1+($I7/16.61827)^13.04355),1)) -> 1.2 | AB7: =AA7*1.5 -> 1.8 | AC7: =IF(AA7/1.949>0.7,0.7,AA7/1.949)/1.3 -> 0.47361566 | AD7: =INDEX(INDIRECT($AH7),2,MATCH($I7,INDIRECT($AI7),0)) -> 3.5 | AE7: =AA7/3 -> 0.4 | AF7: =K7/1000 * 25.4 -> 3.556 | AG7: =1+MATCH($B7,'Lead Tables'!$A:$A,0) -> 2 | AH7: =ADDRESS($AG7,1,TRUE,TRUE,"Lead Tables")&":"&ADDRESS($AG7+3,COLUMN('Lead Tables'!$K:$K),TRUE,TRUE) -> 'Lead Tables'!$A$2:$K$5 | AI7: =ADDRESS($AG7,1,TRUE,TRUE,"Lead Tables")&":"&ADDRESS($AG7,COLUMN('Lead Tables'!$K:$K),TRUE,TRUE) -> 'Lead Tables'!$A$2:$K$2 | AJ7: 0.1 | AK7: =COUNTIF(A:A,A7) -> 1 | AM7: =AL7*1.261 -> 0 | AN7: 18.491895
A8: =$B8&" "&LEFT($C8,1)&"-"&TEXT(ROUND($I8,0),"00.0")&"x"&TEXT(ROUND($J8,0),"00.0") -> Hitano R-10.0x13.0 | B8: Hitano | C8: RADIAL | D8: 10x13 | E8: 0.5 | F8: 2 | G8: 0.3 | H8: 20.7 | I8: =VALUE(LEFT($D8,SEARCH("x",$D8)-1)) -> 10 | J8: =VALUE(RIGHT($D8,LEN($D8)-SEARCH("x",$D8))) -> 13 | K8: =1000*ROUNDUP($AD8/25.4,2) -> 200 | L8: =H8+5.6 -> 26.3 | M8: =INDEX(INDIRECT($AH8),3,MATCH($I8,INDIRECT($AI8),0)) -> 0.6 | N8: =IF($I8<8,0.12,IF($I8<10,0.15,0.2)) -> 0.2 | O8: =4.925363+(2.443075-4.925363)/(1+($I8/16.01491)^7.997158) -> 2.4992188 | P8: =10.44333+(1.945487-10.44333)/(1+($I8/34.36317)^4.867813) -> 1.9663147 | Q8: =rptMinUntilExtent -> 17 | R8: =rptNumberOfTimesOfLineNo -> 6 | S8: =rptUntilExtentThenFit -> 2 | T8: 1 | U8: 0 | V8: 0 | W8: 3 | X8: =W8 -> 3 | Y8: 8 | Z8: =IF(B8="Hitano",5,4) -> 5 | AA8: =IF(ROUND(5.509253+(1.199745-5.509253)/(1+($I8/16.61827)^13.04355),1)>3,3,ROUND(5.509253+(1.199745-5.509253)/(1+($I8/16.61827)^13.04355),1)) -> 1.2 | AB8: =AA8*1.5 -> 1.8 | AC8: =IF(AA8/1.949>0.7,0.7,AA8/1.949)/1.3 -> 0.47361566 | AD8: =INDEX(INDIRECT($AH8),2,MATCH($I8,INDIRECT($AI8),0)) -> 5 | AE8: =AA8/3 -> 0.4 | AF8: =K8/1000 * 25.4 -> 5.08 | AG8: =1+MATCH($B8,'Lead Tables'!$A:$A,0) -> 2 | AH8: =ADDRESS($AG8,1,TRUE,TRUE,"Lead Tables")&":"&ADDRESS($AG8+3,COLUMN('Lead Tables'!$K:$K),TRUE,TRUE) -> 'Lead Tables'!$A$2:$K$5 | AI8: =ADDRESS($AG8,1,TRUE,TRUE,"Lead Tables")&":"&ADDRESS($AG8,COLUMN('Lead Tables'!$K:$K),TRUE,TRUE) -> 'Lead Tables'!$A$2:$K$2 | AJ8: 0.1 | AK8: =COUNTIF(A:A,A8) -> 1 | AM8: =AL8*1.261 -> 0 | AN8: 6.055002
A9: =$B9&" "&LEFT($C9,1)&"-"&TEXT(ROUND($I9,0),"00.0")&"x"&TEXT(ROUND($J9,0),"00.0") -> Hitano R-10.0x16.0 | B9: Hitano | C9: RADIAL | D9: 10x16 | E9: 0.5 | F9: 2 | G9: 0.3 | H9: 20.7 | I9: =VALUE(LEFT($D9,SEARCH("x",$D9)-1)) -> 10 | J9: =VALUE(RIGHT($D9,LEN($D9)-SEARCH("x",$D9))) -> 16 | K9: =1000*ROUNDUP($AD9/25.4,2) -> 200 | L9: =H9+5.6 -> 26.3 | M9: =INDEX(INDIRECT($AH9),3,MATCH($I9,INDIRECT($AI9),0)) -> 0.6 | N9: =IF($I9<8,0.12,IF($I9<10,0.15,0.2)) -> 0.2 | O9: =4.925363+(2.443075-4.925363)/(1+($I9/16.01491)^7.997158) -> 2.4992188 | P9: =10.44333+(1.945487-10.44333)/(1+($I9/34.36317)^4.867813) -> 1.9663147 | Q9: =rptMinUntilExtent -> 17 | R9: =rptNumberOfTimesOfLineNo -> 6 | S9: =rptUntilExtentThenFit -> 2 | T9: 1 | U9: 0 | V9: 0 | W9: 3 | X9: =W9 -> 3 | Y9: 8 | Z9: =IF(B9="Hitano",5,4) -> 5 | AA9: =IF(ROUND(5.509253+(1.199745-5.509253)/(1+($I9/16.61827)^13.04355),1)>3,3,ROUND(5.509253+(1.199745-5.509253)/(1+($I9/16.61827)^13.04355),1)) -> 1.2 | AB9: =AA9*1.5 -> 1.8 | AC9: =IF(AA9/1.949>0.7,0.7,AA9/1.949)/1.3 -> 0.47361566 | AD9: =INDEX(INDIRECT($AH9),2,MATCH($I9,INDIRECT($AI9),0)) -> 5 | AE9: =AA9/3 -> 0.4 | AF9: =K9/1000 * 25.4 -> 5.08 | AG9: =1+MATCH($B9,'Lead Tables'!$A:$A,0) -> 2 | AH9: =ADDRESS($AG9,1,TRUE,TRUE,"Lead Tables")&":"&ADDRESS($AG9+3,COLUMN('Lead Tables'!$K:$K),TRUE,TRUE) -> 'Lead Tables'!$A$2:$K$5 | AI9: =ADDRESS($AG9,1,TRUE,TRUE,"Lead Tables")&":"&ADDRESS($AG9,COLUMN('Lead Tables'!$K:$K),TRUE,TRUE) -> 'Lead Tables'!$A$2:$K$2 | AJ9: 0.1 | AK9: =COUNTIF(A:A,A9) -> 1 | AM9: =AL9*1.261 -> 0
A10: =$B10&" "&LEFT($C10,1)&"-"&TEXT(ROUND($I10,0),"00.0")&"x"&TEXT(ROUND($J10,0),"00.0") -> Hitano R-10.0x21.0 | B10: Hitano | C10: RADIAL | D10: 10x21 | E10: 0.5 | F10: 2 | G10: 0.3 | H10: 20.7 | I10: =VALUE(LEFT($D10,SEARCH("x",$D10)-1)) -> 10 | J10: =VALUE(RIGHT($D10,LEN($D10)-SEARCH("x",$D10))) -> 21 | K10: =1000*ROUNDUP($AD10/25.4,2) -> 200 | L10: =H10+5.6 -> 26.3 | M10: =INDEX(INDIRECT($AH10),3,MATCH($I10,INDIRECT($AI10),0)) -> 0.6 | N10: =IF($I10<8,0.12,IF($I10<10,0.15,0.2)) -> 0.2 | O10: =4.925363+(2.443075-4.925363)/(1+($I10/16.01491)^7.997158) -> 2.4992188 | P10: =10.44333+(1.945487-10.44333)/(1+($I10/34.36317)^4.867813) -> 1.9663147 | Q10: =rptMinUntilExtent -> 17 | R10: =rptNumberOfTimesOfLineNo -> 6 | S10: =rptUntilExtentThenFit -> 2 | T10: 1 | U10: 0 | V10: 0 | W10: 3 | X10: =W10 -> 3 | Y10: 8 | Z10: =IF(B10="Hitano",5,4) -> 5 | AA10: =IF(ROUND(5.509253+(1.199745-5.509253)/(1+($I10/16.61827)^13.04355),1)>3,3,ROUND(5.509253+(1.199745-5.509253)/(1+($I10/16.61827)^13.04355),1)) -> 1.2 | AB10: =AA10*1.5 -> 1.8 | AC10: =IF(AA10/1.949>0.7,0.7,AA10/1.949)/1.3 -> 0.47361566 | AD10: =INDEX(INDIRECT($AH10),2,MATCH($I10,INDIRECT($AI10),0)) -> 5 | AE10: =AA10/3 -> 0.4 | AF10: =K10/1000 * 25.4 -> 5.08 | AG10: =1+MATCH($B10,'Lead Tables'!$A:$A,0) -> 2 | AH10: =ADDRESS($AG10,1,TRUE,TRUE,"Lead Tables")&":"&ADDRESS($AG10+3,COLUMN('Lead Tables'!$K:$K),TRUE,TRUE) -> 'Lead Tables'!$A$2:$K$5 | AI10: =ADDRESS($AG10,1,TRUE,TRUE,"Lead Tables")&":"&ADDRESS($AG10,COLUMN('Lead Tables'!$K:$K),TRUE,TRUE) -> 'Lead Tables'!$A$2:$K$2 | AJ10: 0.1 | AK10: =COUNTIF(A:A,A10) -> 1 | AM10: =AL10*1.261 -> 0
A11: =$B11&" "&LEFT($C11,1)&"-"&TEXT(ROUND($I11,0),"00.0")&"x"&TEXT(ROUND($J11,0),"00.0") -> Hitano R-13.0x21.0 | B11: Hitano | C11: RADIAL | D11: 13x21 | E11: 0.5 | F11: 2 | G11: 0.3 | H11: 20.7 | I11: =VALUE(LEFT($D11,SEARCH("x",$D11)-1)) -> 13 | J11: =VALUE(RIGHT($D11,LEN($D11)-SEARCH("x",$D11))) -> 21 | K11: =1000*ROUNDUP($AD11/25.4,2) -> 200 | L11: =H11+5.6 -> 26.3 | M11: =INDEX(INDIRECT($AH11),3,MATCH($I11,INDIRECT($AI11),0)) -> 0.6 | N11: =IF($I11<8,0.12,IF($I11<10,0.15,0.2)) -> 0.2 | O11: =4.925363+(2.443075-4.925363)/(1+($I11/16.01491)^7.997158) -> 2.8370005 | P11: =10.44333+(1.945487-10.44333)/(1+($I11/34.36317)^4.867813) -> 2.0197123 | Q11: =rptMinUntilExtent -> 17 | R11: =rptNumberOfTimesOfLineNo -> 6 | S11: =rptUntilExtentThenFit -> 2 | T11: 1 | U11: 0 | V11: 0 | W11: 3 | X11: =W11 -> 3 | Y11: 8 | Z11: =IF(B11="Hitano",5,4) -> 5 | AA11: =IF(ROUND(5.509253+(1.199745-5.509253)/(1+($I11/16.61827)^13.04355),1)>3,3,ROUND(5.509253+(1.199745-5.509253)/(1+($I11/16.61827)^13.04355),1)) -> 1.4 | AB11: =AA11*1.5 -> 2.1 | AC11: =IF(AA11/1.949>0.7,0.7,AA11/1.949)/1.3 -> 0.53846154 | AD11: =INDEX(INDIRECT($AH11),2,MATCH($I11,INDIRECT($AI11),0)) -> 5 | AE11: =AA11/3 -> 0.46666667 | AF11: =K11/1000 * 25.4 -> 5.08 | AG11: =1+MATCH($B11,'Lead Tables'!$A:$A,0) -> 2 | AH11: =ADDRESS($AG11,1,TRUE,TRUE,"Lead Tables")&":"&ADDRESS($AG11+3,COLUMN('Lead Tables'!$K:$K),TRUE,TRUE) -> 'Lead Tables'!$A$2:$K$5 | AI11: =ADDRESS($AG11,1,TRUE,TRUE,"Lead Tables")&":"&ADDRESS($AG11,COLUMN('Lead Tables'!$K:$K),TRUE,TRUE) -> 'Lead Tables'!$A$2:$K$2 | AJ11: 0.1 | AK11: =COUNTIF(A:A,A11) -> 1 | AM11: =AL11*1.261 -> 0 | AN11: =AN8*AN7 -> 111.96846
A12: =$B12&" "&LEFT($C12,1)&"-"&TEXT(ROUND($I12,0),"00.0")&"x"&TEXT(ROUND($J12,0),"00.0") -> Hitano R-13.0x26.0 | B12: Hitano | C12: RADIAL | D12: 13x26 | E12: 0.5 | F12: 2 | G12: 0.3 | H12: 20.7 | I12: =VALUE(LEFT($D12,SEARCH("x",$D12)-1)) -> 13 | J12: =VALUE(RIGHT($D12,LEN($D12)-SEARCH("x",$D12))) -> 26 | K12: =1000*ROUNDUP($AD12/25.4,2) -> 200 | L12: =H12+5.6 -> 26.3 | M12: =INDEX(INDIRECT($AH12),3,MATCH($I12,INDIRECT($AI12),0)) -> 0.6 | N12: =IF($I12<8,0.12,IF($I12<10,0.15,0.2)) -> 0.2 | O12: =4.925363+(2.443075-4.925363)/(1+($I12/16.01491)^7.997158) -> 2.8370005 | P12: =10.44333+(1.945487-10.44333)/(1+($I12/34.36317)^4.867813) -> 2.0197123 | Q12: =rptMinUntilExtent -> 17 | R12: =rptNumberOfTimesOfLineNo -> 6 | S12: =rptUntilExtentThenFit -> 2 | T12: 1 | U12: 0 | V12: 0 | W12: 3 | X12: =W12 -> 3 | Y12: 8 | Z12: =IF(B12="Hitano",5,4) -> 5 | AA12: =IF(ROUND(5.509253+(1.199745-5.509253)/(1+($I12/16.61827)^13.04355),1)>3,3,ROUND(5.509253+(1.199745-5.509253)/(1+($I12/16.61827)^13.04355),1)) -> 1.4 | AB12: =AA12*1.5 -> 2.1 | AC12: =IF(AA12/1.949>0.7,0.7,AA12/1.949)/1.3 -> 0.53846154 | AD12: =INDEX(INDIRECT($AH12),2,MATCH($I12,INDIRECT($AI12),0)) -> 5 | AE12: =AA12/3 -> 0.46666667 | AF12: =K12/1000 * 25.4 -> 5.08 | AG12: =1+MATCH($B12,'Lead Tables'!$A:$A,0) -> 2 | AH12: =ADDRESS($AG12,1,TRUE,TRUE,"Lead Tables")&":"&ADDRESS($AG12+3,COLUMN('Lead Tables'!$K:$K),TRUE,TRUE) -> 'Lead Tables'!$A$2:$K$5 | AI12: =ADDRESS($AG12,1,TRUE,TRUE,"Lead Tables")&":"&ADDRESS($AG12,COLUMN('Lead Tables'!$K:$K),TRUE,TRUE) -> 'Lead Tables'!$A$2:$K$2 | AJ12: 0.1 | AK12: =COUNTIF(A:A,A12) -> 1 | AM12: =AL12*1.261 -> 0
A13: =$B13&" "&LEFT($C13,1)&"-"&TEXT(ROUND($I13,0),"00.0")&"x"&TEXT(ROUND($J13,0),"00.0") -> Hitano R-16.0x26.0 | B13: Hitano | C13: RADIAL | D13: 16x26 | E13: 0.5 | F13: 2 | G13: 0.3 | H13: 20.7 | I13: =VALUE(LEFT($D13,SEARCH("x",$D13)-1)) -> 16 | J13: =VALUE(RIGHT($D13,LEN($D13)-SEARCH("x",$D13))) -> 26 | K13: =1000*ROUNDUP($AD13/25.4,2) -> 300 | L13: =H13+5.6 -> 26.3 | M13: =INDEX(INDIRECT($AH13),3,MATCH($I13,INDIRECT($AI13),0)) -> 0.8 | N13: =IF($I13<8,0.12,IF($I13<10,0.15,0.2)) -> 0.2 | O13: =4.925363+(2.443075-4.925363)/(1+($I13/16.01491)^7.997158) -> 3.6795965 | P13: =10.44333+(1.945487-10.44333)/(1+($I13/34.36317)^4.867813) -> 2.1463665 | Q13: =rptMinUntilExtent -> 17 | R13: =rptNumberOfTimesOfLineNo -> 6 | S13: =rptUntilExtentThenFit -> 2 | T13: 1 | U13: 0 | V13: 0 | W13: 3 | X13: =W13 -> 3 | Y13: 8 | Z13: =IF(B13="Hitano",5,4) -> 5 | AA13: =IF(ROUND(5.509253+(1.199745-5.509253)/(1+($I13/16.61827)^13.04355),1)>3,3,ROUND(5.509253+(1.199745-5.509253)/(1+($I13/16.61827)^13.04355),1)) -> 2.8 | AB13: =AA13*1.5 -> 4.2 | AC13: =IF(AA13/1.949>0.7,0.7,AA13/1.949)/1.3 -> 0.53846154 | AD13: =INDEX(INDIRECT($AH13),2,MATCH($I13,INDIRECT($AI13),0)) -> 7.5 | AE13: =AA13/3 -> 0.93333333 | AF13: =K13/1000 * 25.4 -> 7.62 | AG13: =1+MATCH($B13,'Lead Tables'!$A:$A,0) -> 2 | AH13: =ADDRESS($AG13,1,TRUE,TRUE,"Lead Tables")&":"&ADDRESS($AG13+3,COLUMN('Lead Tables'!$K:$K),TRUE,TRUE) -> 'Lead Tables'!$A$2:$K$5 | AI13: =ADDRESS($AG13,1,TRUE,TRUE,"Lead Tables")&":"&ADDRESS($AG13,COLUMN('Lead Tables'!$K:$K),TRUE,TRUE) -> 'Lead Tables'!$A$2:$K$2 | AJ13: 0.1 | AK13: =COUNTIF(A:A,A13) -> 1 | AM13: =AL13*1.261 -> 0
A14: =$B14&" "&LEFT($C14,1)&"-"&TEXT(ROUND($I14,0),"00.0")&"x"&TEXT(ROUND($J14,0),"00.0") -> Hitano R-16.0x32.0 | B14: Hitano | C14: RADIAL | D14: 16x32 | E14: 0.5 | F14: 2 | G14: 0.3 | H14: 20.7 | I14: =VALUE(LEFT($D14,SEARCH("x",$D14)-1)) -> 16 | J14: =VALUE(RIGHT($D14,LEN($D14)-SEARCH("x",$D14))) -> 32 | K14: =1000*ROUNDUP($AD14/25.4,2) -> 300 | L14: =H14+5.6 -> 26.3 | M14: =INDEX(INDIRECT($AH14),3,MATCH($I14,INDIRECT($AI14),0)) -> 0.8 | N14: =IF($I14<8,0.12,IF($I14<10,0.15,0.2)) -> 0.2 | O14: =4.925363+(2.443075-4.925363)/(1+($I14/16.01491)^7.997158) -> 3.6795965 | P14: =10.44333+(1.945487-10.44333)/(1+($I14/34.36317)^4.867813) -> 2.1463665 | Q14: =rptMinUntilExtent -> 17 | R14: =rptNumberOfTimesOfLineNo -> 6 | S14: =rptUntilExtentThenFit -> 2 | T14: 1 | U14: 0 | V14: 0 | W14: 3 | X14: =W14 -> 3 | Y14: 8 | Z14: =IF(B14="Hitano",5,4) -> 5 | AA14: =IF(ROUND(5.509253+(1.199745-5.509253)/(1+($I14/16.61827)^13.04355),1)>3,3,ROUND(5.509253+(1.199745-5.509253)/(1+($I14/16.61827)^13.04355),1)) -> 2.8 | AB14: =AA14*1.5 -> 4.2 | AC14: =IF(AA14/1.949>0.7,0.7,AA14/1.949)/1.3 -> 0.53846154 | AD14: =INDEX(INDIRECT($AH14),2,MATCH($I14,INDIRECT($AI14),0)) -> 7.5 | AE14: =AA14/3 -> 0.93333333 | AF14: =K14/1000 * 25.4 -> 7.62 | AG14: =1+MATCH($B14,'Lead Tables'!$A:$A,0) -> 2 | AH14: =ADDRESS($AG14,1,TRUE,TRUE,"Lead Tables")&":"&ADDRESS($AG14+3,COLUMN('Lead Tables'!$K:$K),TRUE,TRUE) -> 'Lead Tables'!$A$2:$K$5 | AI14: =ADDRESS($AG14,1,TRUE,TRUE,"Lead Tables")&":"&ADDRESS($AG14,COLUMN('Lead Tables'!$K:$K),TRUE,TRUE) -> 'Lead Tables'!$A$2:$K$2 | AJ14: 0.1 | AK14: =COUNTIF(A:A,A14) -> 1 | AM14: =AL14*1.261 -> 0
A15: =$B15&" "&LEFT($C15,1)&"-"&TEXT(ROUND($I15,0),"00.0")&"x"&TEXT(ROUND($J15,0),"00.0") -> Hitano R-16.0x36.0 | B15: Hitano | C15: RADIAL | D15: 16x36 | E15: 0.5 | F15: 2 | G15: 0.3 | H15: 20.7 | I15: =VALUE(LEFT($D15,SEARCH("x",$D15)-1)) -> 16 | J15: =VALUE(RIGHT($D15,LEN($D15)-SEARCH("x",$D15))) -> 36 | K15: =1000*ROUNDUP($AD15/25.4,2) -> 300 | L15: =H15+5.6 -> 26.3 | M15: =INDEX(INDIRECT($AH15),3,MATCH($I15,INDIRECT($AI15),0)) -> 0.8 | N15: =IF($I15<8,0.12,IF($I15<10,0.15,0.2)) -> 0.2 | O15: =4.925363+(2.443075-4.925363)/(1+($I15/16.01491)^7.997158) -> 3.6795965 | P15: =10.44333+(1.945487-10.44333)/(1+($I15/34.36317)^4.867813) -> 2.1463665 | Q15: =rptMinUntilExtent -> 17 | R15: =rptNumberOfTimesOfLineNo -> 6 | S15: =rptUntilExtentThenFit -> 2 | T15: 1 | U15: 0 | V15: 0 | W15: 3 | X15: =W15 -> 3 | Y15: 8 | Z15: =IF(B15="Hitano",5,4) -> 5 | AA15: =IF(ROUND(5.509253+(1.199745-5.509253)/(1+($I15/16.61827)^13.04355),1)>3,3,ROUND(5.509253+(1.199745-5.509253)/(1+($I15/16.61827)^13.04355),1)) -> 2.8 | AB15: =AA15*1.5 -> 4.2 | AC15: =IF(AA15/1.949>0.7,0.7,AA15/1.949)/1.3 -> 0.53846154 | AD15: =INDEX(INDIRECT($AH15),2,MATCH($I15,INDIRECT($AI15),0)) -> 7.5 | AE15: =AA15/3 -> 0.93333333 | AF15: =K15/1000 * 25.4 -> 7.62 | AG15: =1+MATCH($B15,'Lead Tables'!$A:$A,0) -> 2 | AH15: =ADDRESS($AG15,1,TRUE,TRUE,"Lead Tables")&":"&ADDRESS($AG15+3,COLUMN('Lead Tables'!$K:$K),TRUE,TRUE) -> 'Lead Tables'!$A$2:$K$5 | AI15: =ADDRESS($AG15,1,TRUE,TRUE,"Lead Tables")&":"&ADDRESS($AG15,COLUMN('Lead Tables'!$K:$K),TRUE,TRUE) -> 'Lead Tables'!$A$2:$K$2 | AJ15: 0.1 | AK15: =COUNTIF(A:A,A15) -> 1 | AM15: =AL15*1.261 -> 0
A16: =$B16&" "&LEFT($C16,1)&"-"&TEXT(ROUND($I16,0),"00.0")&"x"&TEXT(ROUND($J16,0),"00.0") -> Hitano R-18.0x32.0 | B16: Hitano | C16: RADIAL | D16: 18x32 | E16: 0.5 | F16: 2 | G16: 0.3 | H16: 20.7 | I16: =VALUE(LEFT($D16,SEARCH("x",$D16)-1)) -> 18 | J16: =VALUE(RIGHT($D16,LEN($D16)-SEARCH("x",$D16))) -> 32 | K16: =1000*ROUNDUP($AD16/25.4,2) -> 300 | L16: =H16+5.6 -> 26.3 | M16: =INDEX(INDIRECT($AH16),3,MATCH($I16,INDIRECT($AI16),0)) -> 0.8 | N16: =IF($I16<8,0.12,IF($I16<10,0.15,0.2)) -> 0.2 | O16: =4.925363+(2.443075-4.925363)/(1+($I16/16.01491)^7.997158) -> 4.2253167 | P16: =10.44333+(1.945487-10.44333)/(1+($I16/34.36317)^4.867813) -> 2.2954807 | Q16: =rptMinUntilExtent -> 17 | R16: =rptNumberOfTimesOfLineNo -> 6 | S16: =rptUntilExtentThenFit -> 2 | T16: 1 | U16: 0 | V16: 0 | W16: 3 | X16: =W16 -> 3 | Y16: 8 | Z16: =IF(B16="Hitano",5,4) -> 5 | AA16: =IF(ROUND(5.509253+(1.199745-5.509253)/(1+($I16/16.61827)^13.04355),1)>3,3,ROUND(5.509253+(1.199745-5.509253)/(1+($I16/16.61827)^13.04355),1)) -> 3 | AB16: =AA16*1.5 -> 4.5 | AC16: =IF(AA16/1.949>0.7,0.7,AA16/1.949)/1.3 -> 0.53846154 | AD16: =INDEX(INDIRECT($AH16),2,MATCH($I16,INDIRECT($AI16),0)) -> 7.5 | AE16: =AA16/3 -> 1 | AF16: =K16/1000 * 25.4 -> 7.62 | AG16: =1+MATCH($B16,'Lead Tables'!$A:$A,0) -> 2 | AH16: =ADDRESS($AG16,1,TRUE,TRUE,"Lead Tables")&":"&ADDRESS($AG16+3,COLUMN('Lead Tables'!$K:$K),TRUE,TRUE) -> 'Lead Tables'!$A$2:$K$5 | AI16: =ADDRESS($AG16,1,TRUE,TRUE,"Lead Tables")&":"&ADDRESS($AG16,COLUMN('Lead Tables'!$K:$K),TRUE,TRUE) -> 'Lead Tables'!$A$2:$K$2 | AJ16: 0.1 | AK16: =COUNTIF(A:A,A16) -> 1 | AM16: =AL16*1.261 -> 0
A17: =$B17&" "&LEFT($C17,1)&"-"&TEXT(ROUND($I17,0),"00.0")&"x"&TEXT(ROUND($J17,0),"00.0") -> Hitano R-18.0x36.0 | B17: Hitano | C17: RADIAL | D17: 18x36 | E17: 0.5 | F17: 2 | G17: 0.3 | H17: 20.7 | I17: =VALUE(LEFT($D17,SEARCH("x",$D17)-1)) -> 18 | J17: =VALUE(RIGHT($D17,LEN($D17)-SEARCH("x",$D17))) -> 36 | K17: =1000*ROUNDUP($AD17/25.4,2) -> 300 | L17: =H17+5.6 -> 26.3 | M17: =INDEX(INDIRECT($AH17),3,MATCH($I17,INDIRECT($AI17),0)) -> 0.8 | N17: =IF($I17<8,0.12,IF($I17<10,0.15,0.2)) -> 0.2 | O17: =4.925363+(2.443075-4.925363)/(1+($I17/16.01491)^7.997158) -> 4.2253167 | P17: =10.44333+(1.945487-10.44333)/(1+($I17/34.36317)^4.867813) -> 2.2954807 | Q17: =rptMinUntilExtent -> 17 | R17: =rptNumberOfTimesOfLineNo -> 6 | S17: =rptUntilExtentThenFit -> 2 | T17: 1 | U17: 0 | V17: 0 | W17: 3 | X17: =W17 -> 3 | Y17: 8 | Z17: =IF(B17="Hitano",5,4) -> 5 | AA17: =IF(ROUND(5.509253+(1.199745-5.509253)/(1+($I17/16.61827)^13.04355),1)>3,3,ROUND(5.509253+(1.199745-5.509253)/(1+($I17/16.61827)^13.04355),1)) -> 3 | AB17: =AA17*1.5 -> 4.5 | AC17: =IF(AA17/1.949>0.7,0.7,AA17/1.949)/1.3 -> 0.53846154 | AD17: =INDEX(INDIRECT($AH17),2,MATCH($I17,INDIRECT($AI17),0)) -> 7.5 | AE17: =AA17/3 -> 1 | AF17: =K17/1000 * 25.4 -> 7.62 | AG17: =1+MATCH($B17,'Lead Tables'!$A:$A,0) -> 2 | AH17: =ADDRESS($AG17,1,TRUE,TRUE,"Lead Tables")&":"&ADDRESS($AG17+3,COLUMN('Lead Tables'!$K:$K),TRUE,TRUE) -> 'Lead Tables'!$A$2:$K$5 | AI17: =ADDRESS($AG17,1,TRUE,TRUE,"Lead Tables")&":"&ADDRESS($AG17,COLUMN('Lead Tables'!$K:$K),TRUE,TRUE) -> 'Lead Tables'!$A$2:$K$2 | AJ17: 0.1 | AK17: =COUNTIF(A:A,A17) -> 1 | AM17: =AL17*1.261 -> 0
