Workbook
Name HitanoLeadTable: 'Lead Tables'!$A$2:$K$4
Name HitanoLeadTableHeaders: 'Lead Tables'!$A$2:$K$2
Name JamiconLeadTable: 'Lead Tables'!$A$8:$K$11
Name JamiconLeadTableHeaders: 'Lead Tables'!$A$8:$K$8
Name PackageHeaders: Packages!$A$1:$AW$1
Name PackageValues: Packages!$A$2:$AW$61
Name rptMinNumberOfTimes: Validate!$A$15
Name rptMinNumberOfTimesOfLineNo: Validate!$A$16
Name rptMinOverExtent: Validate!$A$13
Name rptMinOverExtentThenFit: Validate!$A$14
Name rptMinUntilExtent: Validate!$A$11
Name rptMinUntilExtentThenFit: Validate!$A$12
Name rptNone: Validate!$A$2
Name rptNumberIsMinimum: Validate!$A$10
Name rptNumberOfTimes: Validate!$A$7
Name rptNumberOfTimesOfLineNo: Validate!$A$8
Name rptOverExtent: Validate!$A$5
Name rptOverExtentThenFit: Validate!$A$6
Name rptTextMASK: Validate!$A$9
Name rptUntilExtent: Validate!$A$3
Name rptUntilExtentThenFit: Validate!$A$4
Name TextRepeatTypes: Validate!$B$2:$B$8

Sheet Capacitors
A1: Manufacturer | B1: Series | C1: Value | D1: Voltage | E1: Datasheet Dimensions | F1: Mount Type | G1: Lead Configuration | H1: Text Direction | I1: Text Line 1 | J1: Text Line 2 | K1: Text Line 3 | L1: Text Line 4 | M1: Case Diameter | N1: Case Height | O1: Appearance Key | P1: Package | Q1: DValue | R1: DVoltage | S1: ID | T1: #ID Instances | U1: Package Exist?
A2: HEC | B2: LS | C2: 1200 | D2: 200 | E2: 25x51 | F2: RADIAL | H2: Circular | I2: =$A2 -> HEC | J2: =$B2 -> LS | K2: =$Q2&" "&$R2 -> 1200µF 200v | M2: =VALUE(LEFT($E2,SEARCH("x",$E2)-1)) -> 25 | N2: =VALUE(RIGHT($E2,LEN($E2)-SEARCH("x",$E2))) -> 51 | O2: =$A2&"-"&$B2 -> HEC-LS | P2: =$A2&" "&LEFT($F2,1)&"-"&TEXT(ROUND($M2,0),"00.0")&"x"&TEXT(ROUND($N2,0),"00.0") -> HEC R-25.0x51.0 | Q2: =TEXT($C2,"General"&CHAR(34)&"µF"&CHAR(34)) -> 1200µF | R2: =TEXT($D2,"General"&CHAR(34)&"v"&CHAR(34)) -> 200v | S2: =$Q2&" "&$R2&" - "&LEFT($F2,1)&TEXT($M2,"00.0")&"-"&TEXT($N2,"00.0")&" "&A2&" ("&B2&")"&IF(ISBLANK($G2),""," "&$G2) -> 1200µF 200v - R25.0-51.0 HEC (LS) | T2: =COUNTIF($S:$S,$S2) -> 1 | U2: =NOT(ISNA(MATCH($P2,Packages!$A:$A,0))) -> TRUE
A3: Hitano | B3: ECR | C3: 100 | D3: 6.3 | E3: 5x11 | F3: RADIAL | H3: Length | I3: =UPPER($A3) -> HITANO | J3: =$Q3&" "&$R3 -> 100µF 6.3v | L3: =$B3 -> ECR | M3: =VALUE(LEFT($E3,SEARCH("x",$E3)-1)) -> 5 | N3: =VALUE(RIGHT($E3,LEN($E3)-SEARCH("x",$E3))) -> 11 | O3: =$A3&"-"&$B3 -> Hitano-ECR | P3: =$A3&" "&LEFT($F3,1)&"-"&TEXT(ROUND($M3,0),"00.0")&"x"&TEXT(ROUND($N3,0),"00.0") -> Hitano R-05.0x11.0 | Q3: =TEXT($C3,"General"&CHAR(34)&"µF"&CHAR(34)) -> 100µF | R3: =TEXT($D3,"General"&CHAR(34)&"v"&CHAR(34)) -> 6.3v | S3: =$Q3&" "&$R3&" - "&LEFT($F3,1)&TEXT($M3,"00.0")&"-"&TEXT($N3,"00.0")&" "&A3&" ("&B3&")"&IF(ISBLANK($G3),""," "&$G3) -> 100µF 6.3v - R05.0-11.0 Hitano (ECR) | T3: =COUNTIF($S:$S,$S3) -> 1 | U3: =NOT(ISNA(MATCH($P3,Packages!$A:$A,0))) -> TRUE
A4: Hitano | B4: ECR | C4: 220 | D4: 6.3 | E4: 5x11 | F4: RADIAL | H4: Length | I4: =UPPER($A4) -> HITANO | J4: =$Q4&" "&$R4 -> 220µF 6.3v | L4: =$B4 -> ECR | M4: =VALUE(LEFT($E4,SEARCH("x",$E4)-1)) -> 5 | N4: =VALUE(RIGHT($E4,LEN($E4)-SEARCH("x",$E4))) -> 11 | O4: =$A4&"-"&$B4 -> Hitano-ECR | P4: =$A4&" "&LEFT($F4,1)&"-"&TEXT(ROUND($M4,0),"00.0")&"x"&TEXT(ROUND($N4,0),"00.0") -> Hitano R-05.0x11.0 | Q4: =TEXT($C4,"General"&CHAR(34)&"µF"&CHAR(34)) -> 220µF | R4: =TEXT($D4,"General"&CHAR(34)&"v"&CHAR(34)) -> 6.3v | S4: =$Q4&" "&$R4&" - "&LEFT($F4,1)&TEXT($M4,"00.0")&"-"&TEXT($N4,"00.0")&" "&A4&" ("&B4&")"&IF(ISBLANK($G4),""," "&$G4) -> 220µF 6.3v - R05.0-11.0 Hitano (ECR) | T4: =COUNTIF($S:$S,$S4) -> 1 | U4: =NOT(ISNA(MATCH($P4,Packages!$A:$A,0))) -> TRUE
A5: Hitano | B5: ECR | C5: 330 | D5: 6.3 | E5: 6.3x11 | F5: RADIAL | H5: Length | I5: =UPPER($A5) -> HITANO | J5: =$Q5&" "&$R5 -> 330µF 6.3v | L5: =$B5 -> ECR | M5: =VALUE(LEFT($E5,SEARCH("x",$E5)-1)) -> 6.3 | N5: =VALUE(RIGHT($E5,LEN($E5)-SEARCH("x",$E5))) -> 11 | O5: =$A5&"-"&$B5 -> Hitano-ECR | P5: =$A5&" "&LEFT($F5,1)&"-"&TEXT(ROUND($M5,0),"00.0")&"x"&TEXT(ROUND($N5,0),"00.0") -> Hitano R-06.0x11.0 | Q5: =TEXT($C5,"General"&CHAR(34)&"µF"&CHAR(34)) -> 330µF | R5: =TEXT($D5,"General"&CHAR(34)&"v"&CHAR(34)) -> 6.3v | S5: =$Q5&" "&$R5&" - "&LEFT($F5,1)&TEXT($M5,"00.0")&"-"&TEXT($N5,"00.0")&" "&A5&" ("&B5&")"&IF(ISBLANK($G5),""," "&$G5) -> 330µF 6.3v - R06.3-11.0 Hitano (ECR) | T5: =COUNTIF($S:$S,$S5) -> 1 | U5: =NOT(ISNA(MATCH($P5,Packages!$A:$A,0))) -> TRUE
A6: Hitano | B6: ECR | C6: 470 | D6: 6.3 | E6: 6.3x11 | F6: RADIAL | H6: Length | I6: =UPPER($A6) -> HITANO | J6: =$Q6&" "&$R6 -> 470µF 6.3v | L6: =$B6 -> ECR | M6: =VALUE(LEFT($E6,SEARCH("x",$E6)-1)) -> 6.3 | N6: =VALUE(RIGHT($E6,LEN($E6)-SEARCH("x",$E6))) -> 11 | O6: =$A6&"-"&$B6 -> Hitano-ECR | P6: =$A6&" "&LEFT($F6,1)&"-"&TEXT(ROUND($M6,0),"00.0")&"x"&TEXT(ROUND($N6,0),"00.0") -> Hitano R-06.0x11.0 | Q6: =TEXT($C6,"General"&CHAR(34)&"µF"&CHAR(34)) -> 470µF | R6: =TEXT($D6,"General"&CHAR(34)&"v"&CHAR(34)) -> 6.3v | S6: =$Q6&" "&$R6&" - "&LEFT($F6,1)&TEXT($M6,"00.0")&"-"&TEXT($N6,"00.0")&" "&A6&" ("&B6&")"&IF(ISBLANK($G6),""," "&$G6) -> 470µF 6.3v - R06.3-11.0 Hitano (ECR) | T6: =COUNTIF($S:$S,$S6) -> 1 | U6: =NOT(ISNA(MATCH($P6,Packages!$A:$A,0))) -> TRUE
A7: Hitano | B7: ECR | C7: 1000 | D7: 6.3 | E7: 8x12 | F7: RADIAL | H7: Length | I7: =UPPER($A7) -> HITANO | J7: =$Q7&" "&$R7 -> 1000µF 6.3v | L7: =$B7 -> ECR | M7: =VALUE(LEFT($E7,SEARCH("x",$E7)-1)) -> 8 | N7: =VALUE(RIGHT($E7,LEN($E7)-SEARCH("x",$E7))) -> 12 | O7: =$A7&"-"&$B7 -> Hitano-ECR | P7: =$A7&" "&LEFT($F7,1)&"-"&TEXT(ROUND($M7,0),"00.0")&"x"&TEXT(ROUND($N7,0),"00.0") -> Hitano R-08.0x12.0 | Q7: =TEXT($C7,"General"&CHAR(34)&"µF"&CHAR(34)) -> 1000µF | R7: =TEXT($D7,"General"&CHAR(34)&"v"&CHAR(34)) -> 6.3v | S7: =$Q7&" "&$R7&" - "&LEFT($F7,1)&TEXT($M7,"00.0")&"-"&TEXT($N7,"00.0")&" "&A7&" ("&B7&")"&IF(ISBLANK($G7),""," "&$G7) -> 1000µF 6.3v - R08.0-12.0 Hitano (ECR) | T7: =COUNTIF($S:$S,$S7) -> 1 | U7: =NOT(ISNA(MATCH($P7,Packages!$A:$A,0))) -> TRUE
A8: Hitano | B8: ECR | C8: 2200 | D8: 6.3 | E8: 10x16 | F8: RADIAL | H8: Length | I8: =UPPER($A8) -> HITANO | J8: =$Q8&" "&$R8 -> 2200µF 6.3v | L8: =$B8 -> ECR | M8: =VALUE(LEFT($E8,SEARCH("x",$E8)-1)) -> 10 | N8: =VALUE(RIGHT($E8,LEN($E8)-SEARCH("x",$E8))) -> 16 | O8: =$A8&"-"&$B8 -> Hitano-ECR | P8: =$A8&" "&LEFT($F8,1)&"-"&TEXT(ROUND($M8,0),"00.0")&"x"&TEXT(ROUND($N8,0),"00.0") -> Hitano R-10.0x16.0 | Q8: =TEXT($C8,"General"&CHAR(34)&"µF"&CHAR(34)) -> 2200µF | R8: =TEXT($D8,"General"&CHAR(34)&"v"&CHAR(34)) -> 6.3v | S8: =$Q8&" "&$R8&" - "&LEFT($F8,1)&TEXT($M8,"00.0")&"-"&TEXT($N8,"00.0")&" "&A8&" ("&B8&")"&IF(ISBLANK($G8),""," "&$G8) -> 2200µF 6.3v - R10.0-16.0 Hitano (ECR) | T8: =COUNTIF($S:$S,$S8) -> 1 | U8: =NOT(ISNA(MATCH($P8,Packages!$A:$A,0))) -> TRUE
A9: Hitano | B9: ECR | C9: 3300 | D9: 6.3 | E9: 10x21 | F9: RADIAL | H9: Length | I9: =UPPER($A9) -> HITANO | J9: =$Q9&" "&$R9 -> 3300µF 6.3v | L9: =$B9 -> ECR | M9: =VALUE(LEFT($E9,SEARCH("x",$E9)-1)) -> 10 | N9: =VALUE(RIGHT($E9,LEN($E9)-SEARCH("x",$E9))) -> 21 | O9: =$A9&"-"&$B9 -> Hitano-ECR | P9: =$A9&" "&LEFT($F9,1)&"-"&TEXT(ROUND($M9,0),"00.0")&"x"&TEXT(ROUND($N9,0),"00.0") -> Hitano R-10.0x21.0 | Q9: =TEXT($C9,"General"&CHAR(34)&"µF"&CHAR(34)) -> 3300µF | R9: =TEXT($D9,"General"&CHAR(34)&"v"&CHAR(34)) -> 6.3v | S9: =$Q9&" "&$R9&" - "&LEFT($F9,1)&TEXT($M9,"00.0")&"-"&TEXT($N9,"00.0")&" "&A9&" ("&B9&")"&IF(ISBLANK($G9),""," "&$G9) -> 3300µF 6.3v - R10.0-21.0 Hitano (ECR) | T9: =COUNTIF($S:$S,$S9) -> 1 | U9: =NOT(ISNA(MATCH($P9,Packages!$A:$A,0))) -> TRUE
A10: Hitano | B10: ECR | C10: 4700 | D10: 6.3 | E10: 13x21 | F10: RADIAL | H10: Length | I10: =UPPER($A10) -> HITANO | J10: =$Q10&" "&$R10 -> 4700µF 6.3v | L10: =$B10 -> ECR | M10: =VALUE(LEFT($E10,SEARCH("x",$E10)-1)) -> 13 | N10: =VALUE(RIGHT($E10,LEN($E10)-SEARCH("x",$E10))) -> 21 | O10: =$A10&"-"&$B10 -> Hitano-ECR | P10: =$A10&" "&LEFT($F10,1)&"-"&TEXT(ROUND($M10,0),"00.0")&"x"&TEXT(ROUND($N10,0),"00.0") -> Hitano R-13.0x21.0 | Q10: =TEXT($C10,"General"&CHAR(34)&"µF"&CHAR(34)) -> 4700µF | R10: =TEXT($D10,"General"&CHAR(34)&"v"&CHAR(34)) -> 6.3v | S10: =$Q10&" "&$R10&" - "&LEFT($F10,1)&TEXT($M10,"00.0")&"-"&TEXT($N10,"00.0")&" "&A10&" ("&B10&")"&IF(ISBLANK($G10),""," "&$G10) -> 4700µF 6.3v - R13.0-21.0 Hitano (ECR) | T10: =COUNTIF($S:$S,$S10) -> 1 | U10: =NOT(ISNA(MATCH($P10,Packages!$A:$A,0))) -> TRUE
A11: Hitano | B11: ECR | C11: 6800 | D11: 6.3 | E11: 13x26 | F11: RADIAL | H11: Length | I11: =UPPER($A11) -> HITANO | J11: =$Q11&" "&$R11 -> 6800µF 6.3v | L11: =$B11 -> ECR | M11: =VALUE(LEFT($E11,SEARCH("x",$E11)-1)) -> 13 | N11: =VALUE(RIGHT($E11,LEN($E11)-SEARCH("x",$E11))) -> 26 | O11: =$A11&"-"&$B11 -> Hitano-ECR | P11: =$A11&" "&LEFT($F11,1)&"-"&TEXT(ROUND($M11,0),"00.0")&"x"&TEXT(ROUND($N11,0),"00.0") -> Hitano R-13.0x26.0 | Q11: =TEXT($C11,"General"&CHAR(34)&"µF"&CHAR(34)) -> 6800µF | R11: =TEXT($D11,"General"&CHAR(34)&"v"&CHAR(34)) -> 6.3v | S11: =$Q11&" "&$R11&" - "&LEFT($F11,1)&TEXT($M11,"00.0")&"-"&TEXT($N11,"00.0")&" "&A11&" ("&B11&")"&IF(ISBLANK($G11),""," "&$G11) -> 6800µF 6.3v - R13.0-26.0 Hitano (ECR) | T11: =COUNTIF($S:$S,$S11) -> 1 | U11: =NOT(ISNA(MATCH($P11,Packages!$A:$A,0))) -> TRUE
A12: Hitano | B12: ECR | C12: 10000 | D12: 6.3 | E12: 16x26 | F12: RADIAL | H12: Length | I12: =UPPER($A12) -> HITANO | J12: =$Q12&" "&$R12 -> 10000µF 6.3v | L12: =$B12 -> ECR | M12: =VALUE(LEFT($E12,SEARCH("x",$E12)-1)) -> 16 | N12: =VALUE(RIGHT($E12,LEN($E12)-SEARCH("x",$E12))) -> 26 | O12: =$A12&"-"&$B12 -> Hitano-ECR | P12: =$A12&" "&LEFT($F12,1)&"-"&TEXT(ROUND($M12,0),"00.0")&"x"&TEXT(ROUND($N12,0),"00.0") -> Hitano R-16.0x26.0 | Q12: =TEXT($C12,"General"&CHAR(34)&"µF"&CHAR(34)) -> 10000µF | R12: =TEXT($D12,"General"&CHAR(34)&"v"&CHAR(34)) -> 6.3v | S12: =$Q12&" "&$R12&" - "&LEFT($F12,1)&TEXT($M12,"00.0")&"-"&TEXT($N12,"00.0")&" "&A12&" ("&B12&")"&IF(ISBLANK($G12),""," "&$G12) -> 10000µF 6.3v - R16.0-26.0 Hitano (ECR) | T12: =COUNTIF($S:$S,$S12) -> 1 | U12: =NOT(ISNA(MATCH($P12,Packages!$A:$A,0))) -> TRUE
A13: Hitano | B13: ECR | C13: 100 | D13: 10 | E13: 5x11 | F13: RADIAL | H13: Length | I13: =UPPER($A13) -> HITANO | J13: =$Q13&" "&$R13 -> 100µF 10v | L13: =$B13 -> ECR | M13: =VALUE(LEFT($E13,SEARCH("x",$E13)-1)) -> 5 | N13: =VALUE(RIGHT($E13,LEN($E13)-SEARCH("x",$E13))) -> 11 | O13: =$A13&"-"&$B13 -> Hitano-ECR | P13: =$A13&" "&LEFT($F13,1)&"-"&TEXT(ROUND($M13,0),"00.0")&"x"&TEXT(ROUND($N13,0),"00.0") -> Hitano R-05.0x11.0 | Q13: =TEXT($C13,"General"&CHAR(34)&"µF"&CHAR(34)) -> 100µF | R13: =TEXT($D13,"General"&CHAR(34)&"v"&CHAR(34)) -> 10v | S13: =$Q13&" "&$R13&" - "&LEFT($F13,1)&TEXT($M13,"00.0")&"-"&TEXT($N13,"00.0")&" "&A13&" ("&B13&")"&IF(ISBLANK($G13),""," "&$G13) -> 100µF 10v - R05.0-11.0 Hitano (ECR) | T13: =COUNTIF($S:$S,$S13) -> 1 | U13: =NOT(ISNA(MATCH($P13,Packages!$A:$A,0))) -> TRUE
A14: Hitano | B14: ECR | C14: 220 | D14: 10 | E14: 6.3x11 | F14: RADIAL | H14: Length | I14: =UPPER($A14) -> HITANO | J14: =$Q14&" "&$R14 -> 220µF 10v | L14: =$B14 -> ECR | M14: =VALUE(LEFT($E14,SEARCH("x",$E14)-1)) -> 6.3 | N14: =VALUE(RIGHT($E14,LEN($E14)-SEARCH("x",$E14))) -> 11 | O14: =$A14&"-"&$B14 -> Hitano-ECR | P14: =$A14&" "&LEFT($F14,1)&"-"&TEXT(ROUND($M14,0),"00.0")&"x"&TEXT(ROUND($N14,0),"00.0") -> Hitano R-06.0x11.0 | Q14: =TEXT($C14,"General"&CHAR(34)&"µF"&CHAR(34)) -> 220µF | R14: =TEXT($D14,"General"&CHAR(34)&"v"&CHAR(34)) -> 10v | S14: =$Q14&" "&$R14&" - "&LEFT($F14,1)&TEXT($M14,"00.0")&"-"&TEXT($N14,"00.0")&" "&A14&" ("&B14&")"&IF(ISBLANK($G14),""," "&$G14) -> 220µF 10v - R06.3-11.0 Hitano (ECR) | T14: =COUNTIF($S:$S,$S14) -> 1 | U14: =NOT(ISNA(MATCH($P14,Packages!$A:$A,0))) -> TRUE
... A198: Hitano | B198: ECR | C198: 47 | D198: 450 | E198: 16x36 | F198: RADIAL | H198: Length | I198: =UPPER($A198) -> HITANO | J198: =$Q198&" "&$R198 -> 47µF 450v | L198: =$B198 -> ECR | M198: =VALUE(LEFT($E198,SEARCH("x",$E198)-1)) -> 16 | N198: =VALUE(RIGHT($E198,LEN($E198)-SEARCH("x",$E198))) -> 36 | O198: =$A198&"-"&$B198 -> Hitano-ECR | P198: =$A198&" "&LEFT($F198,1)&"-"&TEXT(ROUND($M198,0),"00.0")&"x"&TEXT(ROUND($N198,0),"00.0") -> Hitano R-16.0x36.0 | Q198: =TEXT($C198,"General"&CHAR(34)&"µF"&CHAR(34)) -> 47µF | R198: =TEXT($D198,"General"&CHAR(34)&"v"&CHAR(34)) -> 450v | S198: =$Q198&" "&$R198&" - "&LEFT($F198,1)&TEXT($M198,"00.0")&"-"&TEXT($N198,"00.0")&" "&A198&" ("&B198&")"&IF(ISBLANK($G198),""," "&$G198) -> 47µF 450v - R16.0-36.0 Hitano (ECR) | T198: =COUNTIF($S:$S,$S198) -> 1 | U198: =NOT(ISNA(MATCH($P198,Packages!$A:$A,0))) -> TRUE
A199: Hitano | B199: EXR | C199: 220 | D199: 6.3 | E199: 6.3x11 | F199: RADIAL | H199: Circular | I199: =UPPER($A199) -> HITANO | J199: =Q199 -> 220µF | K199: =R199 -> 6.3v | L199: =B199 -> EXR | M199: =VALUE(LEFT($E199,SEARCH("x",$E199)-1)) -> 6.3 | N199: =VALUE(RIGHT($E199,LEN($E199)-SEARCH("x",$E199))) -> 11 | O199: =$A199&"-"&$B199 -> Hitano-EXR | P199: =$A199&" "&LEFT($F199,1)&"-"&TEXT(ROUND($M199,0),"00.0")&"x"&TEXT(ROUND($N199,0),"00.0") -> Hitano R-06.0x11.0 | Q199: =TEXT($C199,"General"&CHAR(34)&"µF"&CHAR(34)) -> 220µF | R199: =TEXT($D199,"General"&CHAR(34)&"v"&CHAR(34)) -> 6.3v | S199: =$Q199&" "&$R199&" - "&LEFT($F199,1)&TEXT($M199,"00.0")&"-"&TEXT($N199,"00.0")&" "&A199&" ("&B199&")"&IF(ISBLANK($G199),""," "&$G199) -> 220µF 6.3v - R06.3-11.0 Hitano (EXR) | T199: =COUNTIF($S:$S,$S199) -> 1 | U199: =NOT(ISNA(MATCH($P199,Packages!$A:$A,0))) -> TRUE
A200: Hitano | B200: EXR | C200: 330 | D200: 6.3 | E200: 8x12 | F200: RADIAL | H200: Circular | I200: =UPPER($A200) -> HITANO | J200: =Q200 -> 330µF | K200: =R200 -> 6.3v | L200: =B200 -> EXR | M200: =VALUE(LEFT($E200,SEARCH("x",$E200)-1)) -> 8 | N200: =VALUE(RIGHT($E200,LEN($E200)-SEARCH("x",$E200))) -> 12 | O200: =$A200&"-"&$B200 -> Hitano-EXR | P200: =$A200&" "&LEFT($F200,1)&"-"&TEXT(ROUND($M200,0),"00.0")&"x"&TEXT(ROUND($N200,0),"00.0") -> Hitano R-08.0x12.0 | Q200: =TEXT($C200,"General"&CHAR(34)&"µF"&CHAR(34)) -> 330µF | R200: =TEXT($D200,"General"&CHAR(34)&"v"&CHAR(34)) -> 6.3v | S200: =$Q200&" "&$R200&" - "&LEFT($F200,1)&TEXT($M200,"00.0")&"-"&TEXT($N200,"00.0")&" "&A200&" ("&B200&")"&IF(ISBLANK($G200),""," "&$G200) -> 330µF 6.3v - R08.0-12.0 Hitano (EXR) | T200: =COUNTIF($S:$S,$S200) -> 1 | U200: =NOT(ISNA(MATCH($P200,Packages!$A:$A,0))) -> TRUE
A201: Hitano | B201: EXR | C201: 470 | D201: 6.3 | E201: 8x12 | F201: RADIAL | H201: Circular | I201: =UPPER($A201) -> HITANO | J201: =Q201 -> 470µF | K201: =R201 -> 6.3v | L201: =B201 -> EXR | M201: =VALUE(LEFT($E201,SEARCH("x",$E201)-1)) -> 8 | N201: =VALUE(RIGHT($E201,LEN($E201)-SEARCH("x",$E201))) -> 12 | O201: =$A201&"-"&$B201 -> Hitano-EXR | P201: =$A201&" "&LEFT($F201,1)&"-"&TEXT(ROUND($M201,0),"00.0")&"x"&TEXT(ROUND($N201,0),"00.0") -> Hitano R-08.0x12.0 | Q201: =TEXT($C201,"General"&CHAR(34)&"µF"&CHAR(34)) -> 470µF | R201: =TEXT($D201,"General"&CHAR(34)&"v"&CHAR(34)) -> 6.3v | S201: =$Q201&" "&$R201&" - "&LEFT($F201,1)&TEXT($M201,"00.0")&"-"&TEXT($N201,"00.0")&" "&A201&" ("&B201&")"&IF(ISBLANK($G201),""," "&$G201) -> 470µF 6.3v - R08.0-12.0 Hitano (EXR) | T201: =COUNTIF($S:$S,$S201) -> 1 | U201: =NOT(ISNA(MATCH($P201,Packages!$A:$A,0))) -> TRUE
A202: Hitano | B202: EXR | C202: 680 | D202: 6.3 | E202: 8x14 | F202: RADIAL | H202: Circular | I202: =UPPER($A202) -> HITANO | J202: =Q202 -> 680µF | K202: =R202 -> 6.3v | L202: =B202 -> EXR | M202: =VALUE(LEFT($E202,SEARCH("x",$E202)-1)) -> 8 | N202: =VALUE(RIGHT($E202,LEN($E202)-SEARCH("x",$E202))) -> 14 | O202: =$A202&"-"&$B202 -> Hitano-EXR | P202: =$A202&" "&LEFT($F202,1)&"-"&TEXT(ROUND($M202,0),"00.0")&"x"&TEXT(ROUND($N202,0),"00.0") -> Hitano R-08.0x14.0 | Q202: =TEXT($C202,"General"&CHAR(34)&"µF"&CHAR(34)) -> 680µF | R202: =TEXT($D202,"General"&CHAR(34)&"v"&CHAR(34)) -> 6.3v | S202: =$Q202&" "&$R202&" - "&LEFT($F202,1)&TEXT($M202,"00.0")&"-"&TEXT($N202,"00.0")&" "&A202&" ("&B202&")"&IF(ISBLANK($G202),""," "&$G202) -> 680µF 6.3v - R08.0-14.0 Hitano (EXR) | T202: =COUNTIF($S:$S,$S202) -> 1 | U202: =NOT(ISNA(MATCH($P202,Packages!$A:$A,0))) -> TRUE
A203: Hitano | B203: EXR | C203: 1000 | D203: 6.3 | E203: 8x12 | F203: RADIAL | H203: Circular | I203: =UPPER($A203) -> HITANO | J203: =Q203 -> 1000µF | K203: =R203 -> 6.3v | L203: =B203 -> EXR | M203: =VALUE(LEFT($E203,SEARCH("x",$E203)-1)) -> 8 | N203: =VALUE(RIGHT($E203,LEN($E203)-SEARCH("x",$E203))) -> 12 | O203: =$A203&"-"&$B203 -> Hitano-EXR | P203: =$A203&" "&LEFT($F203,1)&"-"&TEXT(ROUND($M203,0),"00.0")&"x"&TEXT(ROUND($N203,0),"00.0") -> Hitano R-08.0x12.0 | Q203: =TEXT($C203,"General"&CHAR(34)&"µF"&CHAR(34)) -> 1000µF | R203: =TEXT($D203,"General"&CHAR(34)&"v"&CHAR(34)) -> 6.3v | S203: =$Q203&" "&$R203&" - "&LEFT($F203,1)&TEXT($M203,"00.0")&"-"&TEXT($N203,"00.0")&" "&A203&" ("&B203&")"&IF(ISBLANK($G203),""," "&$G203) -> 1000µF 6.3v - R08.0-12.0 Hitano (EXR) | T203: =COUNTIF($S:$S,$S203) -> 1 | U203: =NOT(ISNA(MATCH($P203,Packages!$A:$A,0))) -> TRUE
A204: Hitano | B204: EXR | C204: 1000 | D204: 6.3 | E204: 10x12.5 | F204: RADIAL | H204: Circular | I204: =UPPER($A204) -> HITANO | J204: =Q204 -> 1000µF | K204: =R204 -> 6.3v | L204: =B204 -> EXR | M204: =VALUE(LEFT($E204,SEARCH("x",$E204)-1)) -> 10 | N204: =VALUE(RIGHT($E204,LEN($E204)-SEARCH("x",$E204))) -> 12.5 | O204: =$A204&"-"&$B204 -> Hitano-EXR | P204: =$A204&" "&LEFT($F204,1)&"-"&TEXT(ROUND($M204,0),"00.0")&"x"&TEXT(ROUND($N204,0),"00.0") -> Hitano R-10.0x13.0 | Q204: =TEXT($C204,"General"&CHAR(34)&"µF"&CHAR(34)) -> 1000µF | R204: =TEXT($D204,"General"&CHAR(34)&"v"&CHAR(34)) -> 6.3v | S204: =$Q204&" "&$R204&" - "&LEFT($F204,1)&TEXT($M204,"00.0")&"-"&TEXT($N204,"00.0")&" "&A204&" ("&B204&")"&IF(ISBLANK($G204),""," "&$G204) -> 1000µF 6.3v - R10.0-12.5 Hitano (EXR) | T204: =COUNTIF($S:$S,$S204) -> 1 | U204: =NOT(ISNA(MATCH($P204,Packages!$A:$A,0))) -> TRUE
A205: Hitano | B205: EXR | C205: 1500 | D205: 6.3 | E205: 8x16 | F205: RADIAL | H205: Circular | I205: =UPPER($A205) -> HITANO | J205: =Q205 -> 1500µF | K205: =R205 -> 6.3v | L205: =B205 -> EXR | M205: =VALUE(LEFT($E205,SEARCH("x",$E205)-1)) -> 8 | N205: =VALUE(RIGHT($E205,LEN($E205)-SEARCH("x",$E205))) -> 16 | O205: =$A205&"-"&$B205 -> Hitano-EXR | P205: =$A205&" "&LEFT($F205,1)&"-"&TEXT(ROUND($M205,0),"00.0")&"x"&TEXT(ROUND($N205,0),"00.0") -> Hitano R-08.0x16.0 | Q205: =TEXT($C205,"General"&CHAR(34)&"µF"&CHAR(34)) -> 1500µF | R205: =TEXT($D205,"General"&CHAR(34)&"v"&CHAR(34)) -> 6.3v | S205: =$Q205&" "&$R205&" - "&LEFT($F205,1)&TEXT($M205,"00.0")&"-"&TEXT($N205,"00.0")&" "&A205&" ("&B205&")"&IF(ISBLANK($G205),""," "&$G205) -> 1500µF 6.3v - R08.0-16.0 Hitano (EXR) | T205: =COUNTIF($S:$S,$S205) -> 1 | U205: =NOT(ISNA(MATCH($P205,Packages!$A:$A,0))) -> TRUE
A206: Hitano | B206: EXR | C206: 1500 | D206: 6.3 | E206: 10x16 | F206: RADIAL | H206: Circular | I206: =UPPER($A206) -> HITANO | J206: =Q206 -> 1500µF | K206: =R206 -> 6.3v | L206: =B206 -> EXR | M206: =VALUE(LEFT($E206,SEARCH("x",$E206)-1)) -> 10 | N206: =VALUE(RIGHT($E206,LEN($E206)-SEARCH("x",$E206))) -> 16 | O206: =$A206&"-"&$B206 -> Hitano-EXR | P206: =$A206&" "&LEFT($F206,1)&"-"&TEXT(ROUND($M206,0),"00.0")&"x"&TEXT(ROUND($N206,0),"00.0") -> Hitano R-10.0x16.0 | Q206: =TEXT($C206,"General"&CHAR(34)&"µF"&CHAR(34)) -> 1500µF | R206: =TEXT($D206,"General"&CHAR(34)&"v"&CHAR(34)) -> 6.3v | S206: =$Q206&" "&$R206&" - "&LEFT($F206,1)&TEXT($M206,"00.0")&"-"&TEXT($N206,"00.0")&" "&A206&" ("&B206&")"&IF(ISBLANK($G206),""," "&$G206) -> 1500µF 6.3v - R10.0-16.0 Hitano (EXR) | T206: =COUNTIF($S:$S,$S206) -> 1 | U206: =NOT(ISNA(MATCH($P206,Packages!$A:$A,0))) -> TRUE
A207: Hitano | B207: EXR | C207: 2200 | D207: 6.3 | E207: 10x21 | F207: RADIAL | H207: Circular | I207: =UPPER($A207) -> HITANO | J207: =Q207 -> 2200µF | K207: =R207 -> 6.3v | L207: =B207 -> EXR | M207: =VALUE(LEFT($E207,SEARCH("x",$E207)-1)) -> 10 | N207: =VALUE(RIGHT($E207,LEN($E207)-SEARCH("x",$E207))) -> 21 | O207: =$A207&"-"&$B207 -> Hitano-EXR | P207: =$A207&" "&LEFT($F207,1)&"-"&TEXT(ROUND($M207,0),"00.0")&"x"&TEXT(ROUND($N207,0),"00.0") -> Hitano R-10.0x21.0 | Q207: =TEXT($C207,"General"&CHAR(34)&"µF"&CHAR(34)) -> 2200µF | R207: =TEXT($D207,"General"&CHAR(34)&"v"&CHAR(34)) -> 6.3v | S207: =$Q207&" "&$R207&" - "&LEFT($F207,1)&TEXT($M207,"00.0")&"-"&TEXT($N207,"00.0")&" "&A207&" ("&B207&")"&IF(ISBLANK($G207),""," "&$G207) -> 2200µF 6.3v - R10.0-21.0 Hitano (EXR) | T207: =COUNTIF($S:$S,$S207) -> 1 | U207: =NOT(ISNA(MATCH($P207,Packages!$A:$A,0))) -> TRUE
A208: Hitano | B208: EXR | C208: 3300 | D208: 6.3 | E208: 10x21 | F208: RADIAL | H208: Circular | I208: =UPPER($A208) -> HITANO | J208: =Q208 -> 3300µF | K208: =R208 -> 6.3v | L208: =B208 -> EXR | M208: =VALUE(LEFT($E208,SEARCH("x",$E208)-1)) -> 10 | N208: =VALUE(RIGHT($E208,LEN($E208)-SEARCH("x",$E208))) -> 21 | O208: =$A208&"-"&$B208 -> Hitano-EXR | P208: =$A208&" "&LEFT($F208,1)&"-"&TEXT(ROUND($M208,0),"00.0")&"x"&TEXT(ROUND($N208,0),"00.0") -> Hitano R-10.0x21.0 | Q208: =TEXT($C208,"General"&CHAR(34)&"µF"&CHAR(34)) -> 3300µF | R208: =TEXT($D208,"General"&CHAR(34)&"v"&CHAR(34)) -> 6.3v | S208: =$Q208&" "&$R208&" - "&LEFT($F208,1)&TEXT($M208,"00.0")&"-"&TEXT($N208,"00.0")&" "&A208&" ("&B208&")"&IF(ISBLANK($G208),""," "&$G208) -> 3300µF 6.3v - R10.0-21.0 Hitano (EXR) | T208: =COUNTIF($S:$S,$S208) -> 1 | U208: =NOT(ISNA(MATCH($P208,Packages!$A:$A,0))) -> TRUE
A209: Hitano | B209: EXR | C209: 3300 | D209: 6.3 | E209: 13x21 | F209: RADIAL | H209: Circular | I209: =UPPER($A209) -> HITANO | J209: =Q209 -> 3300µF | K209: =R209 -> 6.3v | L209: =B209 -> EXR | M209: =VALUE(LEFT($E209,SEARCH("x",$E209)-1)) -> 13 | N209: =VALUE(RIGHT($E209,LEN($E209)-SEARCH("x",$E209))) -> 21 | O209: =$A209&"-"&$B209 -> Hitano-EXR | P209: =$A209&" "&LEFT($F209,1)&"-"&TEXT(ROUND($M209,0),"00.0")&"x"&TEXT(ROUND($N209,0),"00.0") -> Hitano R-13.0x21.0 | Q209: =TEXT($C209,"General"&CHAR(34)&"µF"&CHAR(34)) -> 3300µF | R209: =TEXT($D209,"General"&CHAR(34)&"v"&CHAR(34)) -> 6.3v | S209: =$Q209&" "&$R209&" - "&LEFT($F209,1)&TEXT($M209,"00.0")&"-"&TEXT($N209,"00.0")&" "&A209&" ("&B209&")"&IF(ISBLANK($G209),""," "&$G209) -> 3300µF 6.3v - R13.0-21.0 Hitano (EXR) | T209: =COUNTIF($S:$S,$S209) -> 1 | U209: =NOT(ISNA(MATCH($P209,Packages!$A:$A,0))) -> TRUE
A210: Hitano | B210: EXR | C210: 4700 | D210: 6.3 | E210: 13x21 | F210: RADIAL | H210: Circular | I210: =UPPER($A210) -> HITANO | J210: =Q210 -> 4700µF | K210: =R210 -> 6.3v | L210: =B210 -> EXR | M210: =VALUE(LEFT($E210,SEARCH("x",$E210)-1)) -> 13 | N210: =VALUE(RIGHT($E210,LEN($E210)-SEARCH("x",$E210))) -> 21 | O210: =$A210&"-"&$B210 -> Hitano-EXR | P210: =$A210&" "&LEFT($F210,1)&"-"&TEXT(ROUND($M210,0),"00.0")&"x"&TEXT(ROUND($N210,0),"00.0") -> Hitano R-13.0x21.0 | Q210: =TEXT($C210,"General"&CHAR(34)&"µF"&CHAR(34)) -> 4700µF | R210: =TEXT($D210,"General"&CHAR(34)&"v"&CHAR(34)) -> 6.3v | S210: =$Q210&" "&$R210&" - "&LEFT($F210,1)&TEXT($M210,"00.0")&"-"&TEXT($N210,"00.0")&" "&A210&" ("&B210&")"&IF(ISBLANK($G210),""," "&$G210) -> 4700µF 6.3v - R13.0-21.0 Hitano (EXR) | T210: =COUNTIF($S:$S,$S210) -> 1 | U210: =NOT(ISNA(MATCH($P210,Packages!$A:$A,0))) -> TRUE
... A386: Hitano | B386: EXR | C386: 68 | D386: 450 | E386: 18x36 | F386: RADIAL | H386: Circular | I386: =UPPER($A386) -> HITANO | J386: =Q386 -> 68µF | K386: =R386 -> 450v | L386: =B386 -> EXR | M386: =VALUE(LEFT($E386,SEARCH("x",$E386)-1)) -> 18 | N386: =VALUE(RIGHT($E386,LEN($E386)-SEARCH("x",$E386))) -> 36 | O386: =$A386&"-"&$B386 -> Hitano-EXR | P386: =$A386&" "&LEFT($F386,1)&"-"&TEXT(ROUND($M386,0),"00.0")&"x"&TEXT(ROUND($N386,0),"00.0") -> Hitano R-18.0x36.0 | Q386: =TEXT($C386,"General"&CHAR(34)&"µF"&CHAR(34)) -> 68µF | R386: =TEXT($D386,"General"&CHAR(34)&"v"&CHAR(34)) -> 450v | S386: =$Q386&" "&$R386&" - "&LEFT($F386,1)&TEXT($M386,"00.0")&"-"&TEXT($N386,"00.0")&" "&A386&" ("&B386&")"&IF(ISBLANK($G386),""," "&$G386) -> 68µF 450v - R18.0-36.0 Hitano (EXR) | T386: =COUNTIF($S:$S,$S386) -> 1 | U386: =NOT(ISNA(MATCH($P386,Packages!$A:$A,0))) -> TRUE
A387: Jamicon | B387: SK | C387: 100 | D387: 6.3 | E387: 5x11 | F387: RADIAL | H387: Length | J387: =UPPER($A387) -> JAMICON | K387: =$Q387&" "&$R387 -> 100µF 6.3v | L387: =B387 -> SK | M387: =VALUE(LEFT($E387,SEARCH("x",$E387)-1)) -> 5 | N387: =VALUE(RIGHT($E387,LEN($E387)-SEARCH("x",$E387))) -> 11 | O387: =$A387&"-"&$B387 -> Jamicon-SK | P387: =$A387&" "&LEFT($F387,1)&"-"&TEXT(ROUND($M387,0),"00.0")&"x"&TEXT(ROUND($N387,0),"00.0") -> Jamicon R-05.0x11.0 | Q387: =TEXT($C387,"General"&CHAR(34)&"µF"&CHAR(34)) -> 100µF | R387: =TEXT($D387,"General"&CHAR(34)&"v"&CHAR(34)) -> 6.3v | S387: =$Q387&" "&$R387&" - "&LEFT($F387,1)&TEXT($M387,"00.0")&"-"&TEXT($N387,"00.0")&" "&A387&" ("&B387&")"&IF(ISBLANK($G387),""," "&$G387) -> 100µF 6.3v - R05.0-11.0 Jamicon (SK) | T387: =COUNTIF($S:$S,$S387) -> 1 | U387: =NOT(ISNA(MATCH($P387,Packages!$A:$A,0))) -> TRUE
A388: Jamicon | B388: SK | C388: 220 | D388: 6.3 | E388: 5x11 | F388: RADIAL | H388: Length | J388: =UPPER($A388) -> JAMICON | K388: =$Q388&" "&$R388 -> 220µF 6.3v | L388: =B388 -> SK | M388: =VALUE(LEFT($E388,SEARCH("x",$E388)-1)) -> 5 | N388: =VALUE(RIGHT($E388,LEN($E388)-SEARCH("x",$E388))) -> 11 | O388: =$A388&"-"&$B388 -> Jamicon-SK | P388: =$A388&" "&LEFT($F388,1)&"-"&TEXT(ROUND($M388,0),"00.0")&"x"&TEXT(ROUND($N388,0),"00.0") -> Jamicon R-05.0x11.0 | Q388: =TEXT($C388,"General"&CHAR(34)&"µF"&CHAR(34)) -> 220µF | R388: =TEXT($D388,"General"&CHAR(34)&"v"&CHAR(34)) -> 6.3v | S388: =$Q388&" "&$R388&" - "&LEFT($F388,1)&TEXT($M388,"00.0")&"-"&TEXT($N388,"00.0")&" "&A388&" ("&B388&")"&IF(ISBLANK($G388),""," "&$G388) -> 220µF 6.3v - R05.0-11.0 Jamicon (SK) | T388: =COUNTIF($S:$S,$S388) -> 1 | U388: =NOT(ISNA(MATCH($P388,Packages!$A:$A,0))) -> TRUE
A389: Jamicon | B389: SK | C389: 220 | D389: 6.3 | E389: 6.3x11 | F389: RADIAL | H389: Length | J389: =UPPER($A389) -> JAMICON | K389: =$Q389&" "&$R389 -> 220µF 6.3v | L389: =B389 -> SK | M389: =VALUE(LEFT($E389,SEARCH("x",$E389)-1)) -> 6.3 | N389: =VALUE(RIGHT($E389,LEN($E389)-SEARCH("x",$E389))) -> 11 | O389: =$A389&"-"&$B389 -> Jamicon-SK | P389: =$A389&" "&LEFT($F389,1)&"-"&TEXT(ROUND($M389,0),"00.0")&"x"&TEXT(ROUND($N389,0),"00.0") -> Jamicon R-06.0x11.0 | Q389: =TEXT($C389,"General"&CHAR(34)&"µF"&CHAR(34)) -> 220µF | R389: =TEXT($D389,"General"&CHAR(34)&"v"&CHAR(34)) -> 6.3v | S389: =$Q389&" "&$R389&" - "&LEFT($F389,1)&TEXT($M389,"00.0")&"-"&TEXT($N389,"00.0")&" "&A389&" ("&B389&")"&IF(ISBLANK($G389),""," "&$G389) -> 220µF 6.3v - R06.3-11.0 Jamicon (SK) | T389: =COUNTIF($S:$S,$S389) -> 1 | U389: =NOT(ISNA(MATCH($P389,Packages!$A:$A,0))) -> TRUE
A390: Jamicon | B390: SK | C390: 330 | D390: 6.3 | E390: 6.3x11 | F390: RADIAL | H390: Length | J390: =UPPER($A390) -> JAMICON | K390: =$Q390&" "&$R390 -> 330µF 6.3v | L390: =B390 -> SK | M390: =VALUE(LEFT($E390,SEARCH("x",$E390)-1)) -> 6.3 | N390: =VALUE(RIGHT($E390,LEN($E390)-SEARCH("x",$E390))) -> 11 | O390: =$A390&"-"&$B390 -> Jamicon-SK | P390: =$A390&" "&LEFT($F390,1)&"-"&TEXT(ROUND($M390,0),"00.0")&"x"&TEXT(ROUND($N390,0),"00.0") -> Jamicon R-06.0x11.0 | Q390: =TEXT($C390,"General"&CHAR(34)&"µF"&CHAR(34)) -> 330µF | R390: =TEXT($D390,"General"&CHAR(34)&"v"&CHAR(34)) -> 6.3v | S390: =$Q390&" "&$R390&" - "&LEFT($F390,1)&TEXT($M390,"00.0")&"-"&TEXT($N390,"00.0")&" "&A390&" ("&B390&")"&IF(ISBLANK($G390),""," "&$G390) -> 330µF 6.3v - R06.3-11.0 Jamicon (SK) | T390: =COUNTIF($S:$S,$S390) -> 1 | U390: =NOT(ISNA(MATCH($P390,Packages!$A:$A,0))) -> TRUE
A391: Jamicon | B391: SK | C391: 330 | D391: 6.3 | E391: 8x11.5 | F391: RADIAL | H391: Length | J391: =UPPER($A391) -> JAMICON | K391: =$Q391&" "&$R391 -> 330µF 6.3v | L391: =B391 -> SK | M391: =VALUE(LEFT($E391,SEARCH("x",$E391)-1)) -> 8 | N391: =VALUE(RIGHT($E391,LEN($E391)-SEARCH("x",$E391))) -> 11.5 | O391: =$A391&"-"&$B391 -> Jamicon-SK | P391: =$A391&" "&LEFT($F391,1)&"-"&TEXT(ROUND($M391,0),"00.0")&"x"&TEXT(ROUND($N391,0),"00.0") -> Jamicon R-08.0x12.0 | Q391: =TEXT($C391,"General"&CHAR(34)&"µF"&CHAR(34)) -> 330µF | R391: =TEXT($D391,"General"&CHAR(34)&"v"&CHAR(34)) -> 6.3v | S391: =$Q391&" "&$R391&" - "&LEFT($F391,1)&TEXT($M391,"00.0")&"-"&TEXT($N391,"00.0")&" "&A391&" ("&B391&")"&IF(ISBLANK($G391),""," "&$G391) -> 330µF 6.3v - R08.0-11.5 Jamicon (SK) | T391: =COUNTIF($S:$S,$S391) -> 1 | U391: =NOT(ISNA(MATCH($P391,Packages!$A:$A,0))) -> TRUE
A392: Jamicon | B392: SK | C392: 470 | D392: 6.3 | E392: 6.3x11 | F392: RADIAL | H392: Length | J392: =UPPER($A392) -> JAMICON | K392: =$Q392&" "&$R392 -> 470µF 6.3v | L392: =B392 -> SK | M392: =VALUE(LEFT($E392,SEARCH("x",$E392)-1)) -> 6.3 | N392: =VALUE(RIGHT($E392,LEN($E392)-SEARCH("x",$E392))) -> 11 | O392: =$A392&"-"&$B392 -> Jamicon-SK | P392: =$A392&" "&LEFT($F392,1)&"-"&TEXT(ROUND($M392,0),"00.0")&"x"&TEXT(ROUND($N392,0),"00.0") -> Jamicon R-06.0x11.0 | Q392: =TEXT($C392,"General"&CHAR(34)&"µF"&CHAR(34)) -> 470µF | R392: =TEXT($D392,"General"&CHAR(34)&"v"&CHAR(34)) -> 6.3v | S392: =$Q392&" "&$R392&" - "&LEFT($F392,1)&TEXT($M392,"00.0")&"-"&TEXT($N392,"00.0")&" "&A392&" ("&B392&")"&IF(ISBLANK($G392),""," "&$G392) -> 470µF 6.3v - R06.3-11.0 Jamicon (SK) | T392: =COUNTIF($S:$S,$S392) -> 1 | U392: =NOT(ISNA(MATCH($P392,Packages!$A:$A,0))) -> TRUE
A393: Jamicon | B393: SK | C393: 470 | D393: 6.3 | E393: 8x11.5 | F393: RADIAL | H393: Length | J393: =UPPER($A393) -> JAMICON | K393: =$Q393&" "&$R393 -> 470µF 6.3v | L393: =B393 -> SK | M393: =VALUE(LEFT($E393,SEARCH("x",$E393)-1)) -> 8 | N393: =VALUE(RIGHT($E393,LEN($E393)-SEARCH("x",$E393))) -> 11.5 | O393: =$A393&"-"&$B393 -> Jamicon-SK | P393: =$A393&" "&LEFT($F393,1)&"-"&TEXT(ROUND($M393,0),"00.0")&"x"&TEXT(ROUND($N393,0),"00.0") -> Jamicon R-08.0x12.0 | Q393: =TEXT($C393,"General"&CHAR(34)&"µF"&CHAR(34)) -> 470µF | R393: =TEXT($D393,"General"&CHAR(34)&"v"&CHAR(34)) -> 6.3v | S393: =$Q393&" "&$R393&" - "&LEFT($F393,1)&TEXT($M393,"00.0")&"-"&TEXT($N393,"00.0")&" "&A393&" ("&B393&")"&IF(ISBLANK($G393),""," "&$G393) -> 470µF 6.3v - R08.0-11.5 Jamicon (SK) | T393: =COUNTIF($S:$S,$S393) -> 1 | U393: =NOT(ISNA(MATCH($P393,Packages!$A:$A,0))) -> TRUE
A394: Jamicon | B394: SK | C394: 1000 | D394: 6.3 | E394: 8x11.5 | F394: RADIAL | H394: Length | J394: =UPPER($A394) -> JAMICON | K394: =$Q394&" "&$R394 -> 1000µF 6.3v | L394: =B394 -> SK | M394: =VALUE(LEFT($E394,SEARCH("x",$E394)-1)) -> 8 | N394: =VALUE(RIGHT($E394,LEN($E394)-SEARCH("x",$E394))) -> 11.5 | O394: =$A394&"-"&$B394 -> Jamicon-SK | P394: =$A394&" "&LEFT($F394,1)&"-"&TEXT(ROUND($M394,0),"00.0")&"x"&TEXT(ROUND($N394,0),"00.0") -> Jamicon R-08.0x12.0 | Q394: =TEXT($C394,"General"&CHAR(34)&"µF"&CHAR(34)) -> 1000µF | R394: =TEXT($D394,"General"&CHAR(34)&"v"&CHAR(34)) -> 6.3v | S394: =$Q394&" "&$R394&" - "&LEFT($F394,1)&TEXT($M394,"00.0")&"-"&TEXT($N394,"00.0")&" "&A394&" ("&B394&")"&IF(ISBLANK($G394),""," "&$G394) -> 1000µF 6.3v - R08.0-11.5 Jamicon (SK) | T394: =COUNTIF($S:$S,$S394) -> 1 | U394: =NOT(ISNA(MATCH($P394,Packages!$A:$A,0))) -> TRUE
A395: Jamicon | B395: SK | C395: 1000 | D395: 6.3 | E395: 10x12.5 | F395: RADIAL | H395: Length | J395: =UPPER($A395) -> JAMICON | K395: =$Q395&" "&$R395 -> 1000µF 6.3v | L395: =B395 -> SK | M395: =VALUE(LEFT($E395,SEARCH("x",$E395)-1)) -> 10 | N395: =VALUE(RIGHT($E395,LEN($E395)-SEARCH("x",$E395))) -> 12.5 | O395: =$A395&"-"&$B395 -> Jamicon-SK | P395: =$A395&" "&LEFT($F395,1)&"-"&TEXT(ROUND($M395,0),"00.0")&"x"&TEXT(ROUND($N395,0),"00.0") -> Jamicon R-10.0x13.0 | Q395: =TEXT($C395,"General"&CHAR(34)&"µF"&CHAR(34)) -> 1000µF | R395: =TEXT($D395,"General"&CHAR(34)&"v"&CHAR(34)) -> 6.3v | S395: =$Q395&" "&$R395&" - "&LEFT($F395,1)&TEXT($M395,"00.0")&"-"&TEXT($N395,"00.0")&" "&A395&" ("&B395&")"&IF(ISBLANK($G395),""," "&$G395) -> 1000µF 6.3v - R10.0-12.5 Jamicon (SK) | T395: =COUNTIF($S:$S,$S395) -> 1 | U395: =NOT(ISNA(MATCH($P395,Packages!$A:$A,0))) -> TRUE
A396: Jamicon | B396: SK | C396: 2200 | D396: 6.3 | E396: 10x16 | F396: RADIAL | H396: Length | J396: =UPPER($A396) -> JAMICON | K396: =$Q396&" "&$R396 -> 2200µF 6.3v | L396: =B396 -> SK | M396: =VALUE(LEFT($E396,SEARCH("x",$E396)-1)) -> 10 | N396: =VALUE(RIGHT($E396,LEN($E396)-SEARCH("x",$E396))) -> 16 | O396: =$A396&"-"&$B396 -> Jamicon-SK | P396: =$A396&" "&LEFT($F396,1)&"-"&TEXT(ROUND($M396,0),"00.0")&"x"&TEXT(ROUND($N396,0),"00.0") -> Jamicon R-10.0x16.0 | Q396: =TEXT($C396,"General"&CHAR(34)&"µF"&CHAR(34)) -> 2200µF | R396: =TEXT($D396,"General"&CHAR(34)&"v"&CHAR(34)) -> 6.3v | S396: =$Q396&" "&$R396&" - "&LEFT($F396,1)&TEXT($M396,"00.0")&"-"&TEXT($N396,"00.0")&" "&A396&" ("&B396&")"&IF(ISBLANK($G396),""," "&$G396) -> 2200µF 6.3v - R10.0-16.0 Jamicon (SK) | T396: =COUNTIF($S:$S,$S396) -> 1 | U396: =NOT(ISNA(MATCH($P396,Packages!$A:$A,0))) -> TRUE
A397: Jamicon | B397: SK | C397: 2200 | D397: 6.3 | E397: 10x20 | F397: RADIAL | H397: Length | J397: =UPPER($A397) -> JAMICON | K397: =$Q397&" "&$R397 -> 2200µF 6.3v | L397: =B397 -> SK | M397: =VALUE(LEFT($E397,SEARCH("x",$E397)-1)) -> 10 | N397: =VALUE(RIGHT($E397,LEN($E397)-SEARCH("x",$E397))) -> 20 | O397: =$A397&"-"&$B397 -> Jamicon-SK | P397: =$A397&" "&LEFT($F397,1)&"-"&TEXT(ROUND($M397,0),"00.0")&"x"&TEXT(ROUND($N397,0),"00.0") -> Jamicon R-10.0x20.0 | Q397: =TEXT($C397,"General"&CHAR(34)&"µF"&CHAR(34)) -> 2200µF | R397: =TEXT($D397,"General"&CHAR(34)&"v"&CHAR(34)) -> 6.3v | S397: =$Q397&" "&$R397&" - "&LEFT($F397,1)&TEXT($M397,"00.0")&"-"&TEXT($N397,"00.0")&" "&A397&" ("&B397&")"&IF(ISBLANK($G397),""," "&$G397) -> 2200µF 6.3v - R10.0-20.0 Jamicon (SK) | T397: =COUNTIF($S:$S,$S397) -> 1 | U397: =NOT(ISNA(MATCH($P397,Packages!$A:$A,0))) -> TRUE
A398: Jamicon | B398: SK | C398: 3300 | D398: 6.3 | E398: 10x20 | F398: RADIAL | H398: Length | J398: =UPPER($A398) -> JAMICON | K398: =$Q398&" "&$R398 -> 3300µF 6.3v | L398: =B398 -> SK | M398: =VALUE(LEFT($E398,SEARCH("x",$E398)-1)) -> 10 | N398: =VALUE(RIGHT($E398,LEN($E398)-SEARCH("x",$E398))) -> 20 | O398: =$A398&"-"&$B398 -> Jamicon-SK | P398: =$A398&" "&LEFT($F398,1)&"-"&TEXT(ROUND($M398,0),"00.0")&"x"&TEXT(ROUND($N398,0),"00.0") -> Jamicon R-10.0x20.0 | Q398: =TEXT($C398,"General"&CHAR(34)&"µF"&CHAR(34)) -> 3300µF | R398: =TEXT($D398,"General"&CHAR(34)&"v"&CHAR(34)) -> 6.3v | S398: =$Q398&" "&$R398&" - "&LEFT($F398,1)&TEXT($M398,"00.0")&"-"&TEXT($N398,"00.0")&" "&A398&" ("&B398&")"&IF(ISBLANK($G398),""," "&$G398) -> 3300µF 6.3v - R10.0-20.0 Jamicon (SK) | T398: =COUNTIF($S:$S,$S398) -> 1 | U398: =NOT(ISNA(MATCH($P398,Packages!$A:$A,0))) -> TRUE
... A435: Jamicon | B435: SK | C435: 47 | D435: 16 | E435: 5x11 | F435: RADIAL | H435: Length | J435: =UPPER($A435) -> JAMICON | K435: =$Q435&" "&$R435 -> 47µF 16v | L435: =B435 -> SK | M435: =VALUE(LEFT($E435,SEARCH("x",$E435)-1)) -> 5 | N435: =VALUE(RIGHT($E435,LEN($E435)-SEARCH("x",$E435))) -> 11 | O435: =$A435&"-"&$B435 -> Jamicon-SK | P435: =$A435&" "&LEFT($F435,1)&"-"&TEXT(ROUND($M435,0),"00.0")&"x"&TEXT(ROUND($N435,0),"00.0") -> Jamicon R-05.0x11.0 | Q435: =TEXT($C435,"General"&CHAR(34)&"µF"&CHAR(34)) -> 47µF | R435: =TEXT($D435,"General"&CHAR(34)&"v"&CHAR(34)) -> 16v | S435: =$Q435&" "&$R435&" - "&LEFT($F435,1)&TEXT($M435,"00.0")&"-"&TEXT($N435,"00.0")&" "&A435&" ("&B435&")"&IF(ISBLANK($G435),""," "&$G435) -> 47µF 16v - R05.0-11.0 Jamicon (SK) | T435: =COUNTIF($S:$S,$S435) -> 1 | U435: =NOT(ISNA(MATCH($P435,Packages!$A:$A,0))) -> TRUE
A436: Jamicon | B436: SK | C436: 100 | D436: 16 | E436: 5x11 | F436: RADIAL | G436: Taping | H436: Length | J436: =UPPER($A436) -> JAMICON | K436: =$Q436&" "&$R436 -> 100µF 16v | L436: =B436 -> SK | M436: =VALUE(LEFT($E436,SEARCH("x",$E436)-1)) -> 5 | N436: =VALUE(RIGHT($E436,LEN($E436)-SEARCH("x",$E436))) -> 11 | O436: =$A436&"-"&$B436 -> Jamicon-SK | P436: =$A436&" "&LEFT($F436,1)&"-"&TEXT(ROUND($M436,0),"00.0")&"x"&TEXT(ROUND($N436,0),"00.0") -> Jamicon R-05.0x11.0 | Q436: =TEXT($C436,"General"&CHAR(34)&"µF"&CHAR(34)) -> 100µF | R436: =TEXT($D436,"General"&CHAR(34)&"v"&CHAR(34)) -> 16v | S436: =$Q436&" "&$R436&" - "&LEFT($F436,1)&TEXT($M436,"00.0")&"-"&TEXT($N436,"00.0")&" "&A436&" ("&B436&")"&IF(ISBLANK($G436),""," "&$G436) -> 100µF 16v - R05.0-11.0 Jamicon (SK) Taping | T436: =COUNTIF($S:$S,$S436) -> 1 | U436: =NOT(ISNA(MATCH($P436,Packages!$A:$A,0))) -> TRUE
A437: Jamicon | B437: SK | C437: 100 | D437: 16 | E437: 6.3x11 | F437: RADIAL | H437: Length | J437: =UPPER($A437) -> JAMICON | K437: =$Q437&" "&$R437 -> 100µF 16v | L437: =B437 -> SK | M437: =VALUE(LEFT($E437,SEARCH("x",$E437)-1)) -> 6.3 | N437: =VALUE(RIGHT($E437,LEN($E437)-SEARCH("x",$E437))) -> 11 | O437: =$A437&"-"&$B437 -> Jamicon-SK | P437: =$A437&" "&LEFT($F437,1)&"-"&TEXT(ROUND($M437,0),"00.0")&"x"&TEXT(ROUND($N437,0),"00.0") -> Jamicon R-06.0x11.0 | Q437: =TEXT($C437,"General"&CHAR(34)&"µF"&CHAR(34)) -> 100µF | R437: =TEXT($D437,"General"&CHAR(34)&"v"&CHAR(34)) -> 16v | S437: =$Q437&" "&$R437&" - "&LEFT($F437,1)&TEXT($M437,"00.0")&"-"&TEXT($N437,"00.0")&" "&A437&" ("&B437&")"&IF(ISBLANK($G437),""," "&$G437) -> 100µF 16v - R06.3-11.0 Jamicon (SK) | T437: =COUNTIF($S:$S,$S437) -> 1 | U437: =NOT(ISNA(MATCH($P437,Packages!$A:$A,0))) -> TRUE
A438: Jamicon | B438: SK | C438: 220 | D438: 16 | E438: 6.3x11 | F438: RADIAL | H438: Length | J438: =UPPER($A438) -> JAMICON | K438: =$Q438&" "&$R438 -> 220µF 16v | L438: =B438 -> SK | M438: =VALUE(LEFT($E438,SEARCH("x",$E438)-1)) -> 6.3 | N438: =VALUE(RIGHT($E438,LEN($E438)-SEARCH("x",$E438))) -> 11 | O438: =$A438&"-"&$B438 -> Jamicon-SK | P438: =$A438&" "&LEFT($F438,1)&"-"&TEXT(ROUND($M438,0),"00.0")&"x"&TEXT(ROUND($N438,0),"00.0") -> Jamicon R-06.0x11.0 | Q438: =TEXT($C438,"General"&CHAR(34)&"µF"&CHAR(34)) -> 220µF | R438: =TEXT($D438,"General"&CHAR(34)&"v"&CHAR(34)) -> 16v | S438: =$Q438&" "&$R438&" - "&LEFT($F438,1)&TEXT($M438,"00.0")&"-"&TEXT($N438,"00.0")&" "&A438&" ("&B438&")"&IF(ISBLANK($G438),""," "&$G438) -> 220µF 16v - R06.3-11.0 Jamicon (SK) | T438: =COUNTIF($S:$S,$S438) -> 1 | U438: =NOT(ISNA(MATCH($P438,Packages!$A:$A,0))) -> TRUE
A439: Jamicon | B439: SK | C439: 220 | D439: 16 | E439: 8x11.5 | F439: RADIAL | H439: Length | J439: =UPPER($A439) -> JAMICON | K439: =$Q439&" "&$R439 -> 220µF 16v | L439: =B439 -> SK | M439: =VALUE(LEFT($E439,SEARCH("x",$E439)-1)) -> 8 | N439: =VALUE(RIGHT($E439,LEN($E439)-SEARCH("x",$E439))) -> 11.5 | O439: =$A439&"-"&$B439 -> Jamicon-SK | P439: =$A439&" "&LEFT($F439,1)&"-"&TEXT(ROUND($M439,0),"00.0")&"x"&TEXT(ROUND($N439,0),"00.0") -> Jamicon R-08.0x12.0 | Q439: =TEXT($C439,"General"&CHAR(34)&"µF"&CHAR(34)) -> 220µF | R439: =TEXT($D439,"General"&CHAR(34)&"v"&CHAR(34)) -> 16v | S439: =$Q439&" "&$R439&" - "&LEFT($F439,1)&TEXT($M439,"00.0")&"-"&TEXT($N439,"00.0")&" "&A439&" ("&B439&")"&IF(ISBLANK($G439),""," "&$G439) -> 220µF 16v - R08.0-11.5 Jamicon (SK) | T439: =COUNTIF($S:$S,$S439) -> 1 | U439: =NOT(ISNA(MATCH($P439,Packages!$A:$A,0))) -> TRUE
A440: Jamicon | B440: SK | C440: 330 | D440: 16 | E440: 8x11.5 | F440: RADIAL | H440: Length | J440: =UPPER($A440) -> JAMICON | K440: =$Q440&" "&$R440 -> 330µF 16v | L440: =B440 -> SK | M440: =VALUE(LEFT($E440,SEARCH("x",$E440)-1)) -> 8 | N440: =VALUE(RIGHT($E440,LEN($E440)-SEARCH("x",$E440))) -> 11.5 | O440: =$A440&"-"&$B440 -> Jamicon-SK | P440: =$A440&" "&LEFT($F440,1)&"-"&TEXT(ROUND($M440,0),"00.0")&"x"&TEXT(ROUND($N440,0),"00.0") -> Jamicon R-08.0x12.0 | Q440: =TEXT($C440,"General"&CHAR(34)&"µF"&CHAR(34)) -> 330µF | R440: =TEXT($D440,"General"&CHAR(34)&"v"&CHAR(34)) -> 16v | S440: =$Q440&" "&$R440&" - "&LEFT($F440,1)&TEXT($M440,"00.0")&"-"&TEXT($N440,"00.0")&" "&A440&" ("&B440&")"&IF(ISBLANK($G440),""," "&$G440) -> 330µF 16v - R08.0-11.5 Jamicon (SK) | T440: =COUNTIF($S:$S,$S440) -> 1 | U440: =NOT(ISNA(MATCH($P440,Packages!$A:$A,0))) -> TRUE
A441: Jamicon | B441: SK | C441: 330 | D441: 16 | E441: 10x12.5 | F441: RADIAL | H441: Length | J441: =UPPER($A441) -> JAMICON | K441: =$Q441&" "&$R441 -> 330µF 16v | L441: =B441 -> SK | M441: =VALUE(LEFT($E441,SEARCH("x",$E441)-1)) -> 10 | N441: =VALUE(RIGHT($E441,LEN($E441)-SEARCH("x",$E441))) -> 12.5 | O441: =$A441&"-"&$B441 -> Jamicon-SK | P441: =$A441&" "&LEFT($F441,1)&"-"&TEXT(ROUND($M441,0),"00.0")&"x"&TEXT(ROUND($N441,0),"00.0") -> Jamicon R-10.0x13.0 | Q441: =TEXT($C441,"General"&CHAR(34)&"µF"&CHAR(34)) -> 330µF | R441: =TEXT($D441,"General"&CHAR(34)&"v"&CHAR(34)) -> 16v | S441: =$Q441&" "&$R441&" - "&LEFT($F441,1)&TEXT($M441,"00.0")&"-"&TEXT($N441,"00.0")&" "&A441&" ("&B441&")"&IF(ISBLANK($G441),""," "&$G441) -> 330µF 16v - R10.0-12.5 Jamicon (SK) | T441: =COUNTIF($S:$S,$S441) -> 1 | U441: =NOT(ISNA(MATCH($P441,Packages!$A:$A,0))) -> TRUE
A442: Jamicon | B442: SK | C442: 470 | D442: 16 | E442: 8x11.5 | F442: RADIAL | H442: Length | J442: =UPPER($A442) -> JAMICON | K442: =$Q442&" "&$R442 -> 470µF 16v | L442: =B442 -> SK | M442: =VALUE(LEFT($E442,SEARCH("x",$E442)-1)) -> 8 | N442: =VALUE(RIGHT($E442,LEN($E442)-SEARCH("x",$E442))) -> 11.5 | O442: =$A442&"-"&$B442 -> Jamicon-SK | P442: =$A442&" "&LEFT($F442,1)&"-"&TEXT(ROUND($M442,0),"00.0")&"x"&TEXT(ROUND($N442,0),"00.0") -> Jamicon R-08.0x12.0 | Q442: =TEXT($C442,"General"&CHAR(34)&"µF"&CHAR(34)) -> 470µF | R442: =TEXT($D442,"General"&CHAR(34)&"v"&CHAR(34)) -> 16v | S442: =$Q442&" "&$R442&" - "&LEFT($F442,1)&TEXT($M442,"00.0")&"-"&TEXT($N442,"00.0")&" "&A442&" ("&B442&")"&IF(ISBLANK($G442),""," "&$G442) -> 470µF 16v - R08.0-11.5 Jamicon (SK) | T442: =COUNTIF($S:$S,$S442) -> 1 | U442: =NOT(ISNA(MATCH($P442,Packages!$A:$A,0))) -> TRUE
A443: Jamicon | B443: SK | C443: 470 | D443: 16 | E443: 10x12.5 | F443: RADIAL | H443: Length | J443: =UPPER($A443) -> JAMICON | K443: =$Q443&" "&$R443 -> 470µF 16v | L443: =B443 -> SK | M443: =VALUE(LEFT($E443,SEARCH("x",$E443)-1)) -> 10 | N443: =VALUE(RIGHT($E443,LEN($E443)-SEARCH("x",$E443))) -> 12.5 | O443: =$A443&"-"&$B443 -> Jamicon-SK | P443: =$A443&" "&LEFT($F443,1)&"-"&TEXT(ROUND($M443,0),"00.0")&"x"&TEXT(ROUND($N443,0),"00.0") -> Jamicon R-10.0x13.0 | Q443: =TEXT($C443,"General"&CHAR(34)&"µF"&CHAR(34)) -> 470µF | R443: =TEXT($D443,"General"&CHAR(34)&"v"&CHAR(34)) -> 16v | S443: =$Q443&" "&$R443&" - "&LEFT($F443,1)&TEXT($M443,"00.0")&"-"&TEXT($N443,"00.0")&" "&A443&" ("&B443&")"&IF(ISBLANK($G443),""," "&$G443) -> 470µF 16v - R10.0-12.5 Jamicon (SK) | T443: =COUNTIF($S:$S,$S443) -> 1 | U443: =NOT(ISNA(MATCH($P443,Packages!$A:$A,0))) -> TRUE
A444: Jamicon | B444: SK | C444: 1000 | D444: 16 | E444: 10x16 | F444: RADIAL | H444: Length | J444: =UPPER($A444) -> JAMICON | K444: =$Q444&" "&$R444 -> 1000µF 16v | L444: =B444 -> SK | M444: =VALUE(LEFT($E444,SEARCH("x",$E444)-1)) -> 10 | N444: =VALUE(RIGHT($E444,LEN($E444)-SEARCH("x",$E444))) -> 16 | O444: =$A444&"-"&$B444 -> Jamicon-SK | P444: =$A444&" "&LEFT($F444,1)&"-"&TEXT(ROUND($M444,0),"00.0")&"x"&TEXT(ROUND($N444,0),"00.0") -> Jamicon R-10.0x16.0 | Q444: =TEXT($C444,"General"&CHAR(34)&"µF"&CHAR(34)) -> 1000µF | R444: =TEXT($D444,"General"&CHAR(34)&"v"&CHAR(34)) -> 16v | S444: =$Q444&" "&$R444&" - "&LEFT($F444,1)&TEXT($M444,"00.0")&"-"&TEXT($N444,"00.0")&" "&A444&" ("&B444&")"&IF(ISBLANK($G444),""," "&$G444) -> 1000µF 16v - R10.0-16.0 Jamicon (SK) | T444: =COUNTIF($S:$S,$S444) -> 1 | U444: =NOT(ISNA(MATCH($P444,Packages!$A:$A,0))) -> TRUE
A445: Jamicon | B445: SK | C445: 1000 | D445: 16 | E445: 10x20 | F445: RADIAL | H445: Length | J445: =UPPER($A445) -> JAMICON | K445: =$Q445&" "&$R445 -> 1000µF 16v | L445: =B445 -> SK | M445: =VALUE(LEFT($E445,SEARCH("x",$E445)-1)) -> 10 | N445: =VALUE(RIGHT($E445,LEN($E445)-SEARCH("x",$E445))) -> 20 | O445: =$A445&"-"&$B445 -> Jamicon-SK | P445: =$A445&" "&LEFT($F445,1)&"-"&TEXT(ROUND($M445,0),"00.0")&"x"&TEXT(ROUND($N445,0),"00.0") -> Jamicon R-10.0x20.0 | Q445: =TEXT($C445,"General"&CHAR(34)&"µF"&CHAR(34)) -> 1000µF | R445: =TEXT($D445,"General"&CHAR(34)&"v"&CHAR(34)) -> 16v | S445: =$Q445&" "&$R445&" - "&LEFT($F445,1)&TEXT($M445,"00.0")&"-"&TEXT($N445,"00.0")&" "&A445&" ("&B445&")"&IF(ISBLANK($G445),""," "&$G445) -> 1000µF 16v - R10.0-20.0 Jamicon (SK) | T445: =COUNTIF($S:$S,$S445) -> 1 | U445: =NOT(ISNA(MATCH($P445,Packages!$A:$A,0))) -> TRUE
A446: Jamicon | B446: SK | C446: 2200 | D446: 16 | E446: 12.5x20 | F446: RADIAL | H446: Length | J446: =UPPER($A446) -> JAMICON | K446: =$Q446&" "&$R446 -> 2200µF 16v | L446: =B446 -> SK | M446: =VALUE(LEFT($E446,SEARCH("x",$E446)-1)) -> 12.5 | N446: =VALUE(RIGHT($E446,LEN($E446)-SEARCH("x",$E446))) -> 20 | O446: =$A446&"-"&$B446 -> Jamicon-SK | P446: =$A446&" "&LEFT($F446,1)&"-"&TEXT(ROUND($M446,0),"00.0")&"x"&TEXT(ROUND($N446,0),"00.0") -> Jamicon R-13.0x20.0 | Q446: =TEXT($C446,"General"&CHAR(34)&"µF"&CHAR(34)) -> 2200µF | R446: =TEXT($D446,"General"&CHAR(34)&"v"&CHAR(34)) -> 16v | S446: =$Q446&" "&$R446&" - "&LEFT($F446,1)&TEXT($M446,"00.0")&"-"&TEXT($N446,"00.0")&" "&A446&" ("&B446&")"&IF(ISBLANK($G446),""," "&$G446) -> 2200µF 16v - R12.5-20.0 Jamicon (SK) | T446: =COUNTIF($S:$S,$S446) -> 1 | U446: =NOT(ISNA(MATCH($P446,Packages!$A:$A,0))) -> TRUE
A447: Jamicon | B447: SK | C447: 2200 | D447: 16 | E447: 12.5x25 | F447: RADIAL | H447: Length | J447: =UPPER($A447) -> JAMICON | K447: =$Q447&" "&$R447 -> 2200µF 16v | L447: =B447 -> SK | M447: =VALUE(LEFT($E447,SEARCH("x",$E447)-1)) -> 12.5 | N447: =VALUE(RIGHT($E447,LEN($E447)-SEARCH("x",$E447))) -> 25 | O447: =$A447&"-"&$B447 -> Jamicon-SK | P447: =$A447&" "&LEFT($F447,1)&"-"&TEXT(ROUND($M447,0),"00.0")&"x"&TEXT(ROUND($N447,0),"00.0") -> Jamicon R-13.0x25.0 | Q447: =TEXT($C447,"General"&CHAR(34)&"µF"&CHAR(34)) -> 2200µF | R447: =TEXT($D447,"General"&CHAR(34)&"v"&CHAR(34)) -> 16v | S447: =$Q447&" "&$R447&" - "&LEFT($F447,1)&TEXT($M447,"00.0")&"-"&TEXT($N447,"00.0")&" "&A447&" ("&B447&")"&IF(ISBLANK($G447),""," "&$G447) -> 2200µF 16v - R12.5-25.0 Jamicon (SK) | T447: =COUNTIF($S:$S,$S447) -> 1 | U447: =NOT(ISNA(MATCH($P447,Packages!$A:$A,0))) -> TRUE
A448: Jamicon | B448: SK | C448: 3300 | D448: 16 | E448: 12.5x25 | F448: RADIAL | H448: Length | J448: =UPPER($A448) -> JAMICON | K448: =$Q448&" "&$R448 -> 3300µF 16v | L448: =B448 -> SK | M448: =VALUE(LEFT($E448,SEARCH("x",$E448)-1)) -> 12.5 | N448: =VALUE(RIGHT($E448,LEN($E448)-SEARCH("x",$E448))) -> 25 | O448: =$A448&"-"&$B448 -> Jamicon-SK | P448: =$A448&" "&LEFT($F448,1)&"-"&TEXT(ROUND($M448,0),"00.0")&"x"&TEXT(ROUND($N448,0),"00.0") -> Jamicon R-13.0x25.0 | Q448: =TEXT($C448,"General"&CHAR(34)&"µF"&CHAR(34)) -> 3300µF | R448: =TEXT($D448,"General"&CHAR(34)&"v"&CHAR(34)) -> 16v | S448: =$Q448&" "&$R448&" - "&LEFT($F448,1)&TEXT($M448,"00.0")&"-"&TEXT($N448,"00.0")&" "&A448&" ("&B448&")"&IF(ISBLANK($G448),""," "&$G448) -> 3300µF 16v - R12.5-25.0 Jamicon (SK) | T448: =COUNTIF($S:$S,$S448) -> 1 | U448: =NOT(ISNA(MATCH($P448,Packages!$A:$A,0))) -> TRUE
... A666: Jamicon | B666: SK | C666: 100 | D666: 450 | E666: 18x35.5 | F666: RADIAL | H666: Length | J666: =UPPER($A666) -> JAMICON | K666: =$Q666&" "&$R666 -> 100µF 450v | L666: =B666 -> SK | M666: =VALUE(LEFT($E666,SEARCH("x",$E666)-1)) -> 18 | N666: =VALUE(RIGHT($E666,LEN($E666)-SEARCH("x",$E666))) -> 35.5 | O666: =$A666&"-"&$B666 -> Jamicon-SK | P666: =$A666&" "&LEFT($F666,1)&"-"&TEXT(ROUND($M666,0),"00.0")&"x"&TEXT(ROUND($N666,0),"00.0") -> Jamicon R-18.0x36.0 | Q666: =TEXT($C666,"General"&CHAR(34)&"µF"&CHAR(34)) -> 100µF | R666: =TEXT($D666,"General"&CHAR(34)&"v"&CHAR(34)) -> 450v | S666: =$Q666&" "&$R666&" - "&LEFT($F666,1)&TEXT($M666,"00.0")&"-"&TEXT($N666,"00.0")&" "&A666&" ("&B666&")"&IF(ISBLANK($G666),""," "&$G666) -> 100µF 450v - R18.0-35.5 Jamicon (SK) | T666: =COUNTIF($S:$S,$S666) -> 1 | U666: =NOT(ISNA(MATCH($P666,Packages!$A:$A,0))) -> TRUE
A667: Jamicon | B667: WL | C667: 150 | D667: 6.3 | E667: 5x11 | F667: RADIAL | H667: Length | I667: =UPPER($A667) -> JAMICON | J667: =$Q667&" "&$R667 -> 150µF 6.3v | L667: =B667 -> WL | M667: =VALUE(LEFT($E667,SEARCH("x",$E667)-1)) -> 5 | N667: =VALUE(RIGHT($E667,LEN($E667)-SEARCH("x",$E667))) -> 11 | O667: =$A667&"-"&$B667 -> Jamicon-WL | P667: =$A667&" "&LEFT($F667,1)&"-"&TEXT(ROUND($M667,0),"00.0")&"x"&TEXT(ROUND($N667,0),"00.0") -> Jamicon R-05.0x11.0 | Q667: =TEXT($C667,"General"&CHAR(34)&"µF"&CHAR(34)) -> 150µF | R667: =TEXT($D667,"General"&CHAR(34)&"v"&CHAR(34)) -> 6.3v | S667: =$Q667&" "&$R667&" - "&LEFT($F667,1)&TEXT($M667,"00.0")&"-"&TEXT($N667,"00.0")&" "&A667&" ("&B667&")"&IF(ISBLANK($G667),""," "&$G667) -> 150µF 6.3v - R05.0-11.0 Jamicon (WL) | T667: =COUNTIF($S:$S,$S667) -> 1 | U667: =NOT(ISNA(MATCH($P667,Packages!$A:$A,0))) -> TRUE
A668: Jamicon | B668: WL | C668: 180 | D668: 6.3 | E668: 5x11 | F668: RADIAL | H668: Length | I668: =UPPER($A668) -> JAMICON | J668: =$Q668&" "&$R668 -> 180µF 6.3v | L668: =B668 -> WL | M668: =VALUE(LEFT($E668,SEARCH("x",$E668)-1)) -> 5 | N668: =VALUE(RIGHT($E668,LEN($E668)-SEARCH("x",$E668))) -> 11 | O668: =$A668&"-"&$B668 -> Jamicon-WL | P668: =$A668&" "&LEFT($F668,1)&"-"&TEXT(ROUND($M668,0),"00.0")&"x"&TEXT(ROUND($N668,0),"00.0") -> Jamicon R-05.0x11.0 | Q668: =TEXT($C668,"General"&CHAR(34)&"µF"&CHAR(34)) -> 180µF | R668: =TEXT($D668,"General"&CHAR(34)&"v"&CHAR(34)) -> 6.3v | S668: =$Q668&" "&$R668&" - "&LEFT($F668,1)&TEXT($M668,"00.0")&"-"&TEXT($N668,"00.0")&" "&A668&" ("&B668&")"&IF(ISBLANK($G668),""," "&$G668) -> 180µF 6.3v - R05.0-11.0 Jamicon (WL) | T668: =COUNTIF($S:$S,$S668) -> 1 | U668: =NOT(ISNA(MATCH($P668,Packages!$A:$A,0))) -> TRUE
A669: Jamicon | B669: WL | C669: 220 | D669: 6.3 | E669: 5x11 | F669: RADIAL | H669: Length | I669: =UPPER($A669) -> JAMICON | J669: =$Q669&" "&$R669 -> 220µF 6.3v | L669: =B669 -> WL | M669: =VALUE(LEFT($E669,SEARCH("x",$E669)-1)) -> 5 | N669: =VALUE(RIGHT($E669,LEN($E669)-SEARCH("x",$E669))) -> 11 | O669: =$A669&"-"&$B669 -> Jamicon-WL | P669: =$A669&" "&LEFT($F669,1)&"-"&TEXT(ROUND($M669,0),"00.0")&"x"&TEXT(ROUND($N669,0),"00.0") -> Jamicon R-05.0x11.0 | Q669: =TEXT($C669,"General"&CHAR(34)&"µF"&CHAR(34)) -> 220µF | R669: =TEXT($D669,"General"&CHAR(34)&"v"&CHAR(34)) -> 6.3v | S669: =$Q669&" "&$R669&" - "&LEFT($F669,1)&TEXT($M669,"00.0")&"-"&TEXT($N669,"00.0")&" "&A669&" ("&B669&")"&IF(ISBLANK($G669),""," "&$G669) -> 220µF 6.3v - R05.0-11.0 Jamicon (WL) | T669: =COUNTIF($S:$S,$S669) -> 1 | U669: =NOT(ISNA(MATCH($P669,Packages!$A:$A,0))) -> TRUE
A670: Jamicon | B670: WL | C670: 270 | D670: 6.3 | E670: 5x15 | F670: RADIAL | H670: Length | I670: =UPPER($A670) -> JAMICON | J670: =$Q670&" "&$R670 -> 270µF 6.3v | L670: =B670 -> WL | M670: =VALUE(LEFT($E670,SEARCH("x",$E670)-1)) -> 5 | N670: =VALUE(RIGHT($E670,LEN($E670)-SEARCH("x",$E670))) -> 15 | O670: =$A670&"-"&$B670 -> Jamicon-WL | P670: =$A670&" "&LEFT($F670,1)&"-"&TEXT(ROUND($M670,0),"00.0")&"x"&TEXT(ROUND($N670,0),"00.0") -> Jamicon R-05.0x15.0 | Q670: =TEXT($C670,"General"&CHAR(34)&"µF"&CHAR(34)) -> 270µF | R670: =TEXT($D670,"General"&CHAR(34)&"v"&CHAR(34)) -> 6.3v | S670: =$Q670&" "&$R670&" - "&LEFT($F670,1)&TEXT($M670,"00.0")&"-"&TEXT($N670,"00.0")&" "&A670&" ("&B670&")"&IF(ISBLANK($G670),""," "&$G670) -> 270µF 6.3v - R05.0-15.0 Jamicon (WL) | T670: =COUNTIF($S:$S,$S670) -> 1 | U670: =NOT(ISNA(MATCH($P670,Packages!$A:$A,0))) -> TRUE
A671: Jamicon | B671: WL | C671: 270 | D671: 6.3 | E671: 6.3x11 | F671: RADIAL | H671: Length | I671: =UPPER($A671) -> JAMICON | J671: =$Q671&" "&$R671 -> 270µF 6.3v | L671: =B671 -> WL | M671: =VALUE(LEFT($E671,SEARCH("x",$E671)-1)) -> 6.3 | N671: =VALUE(RIGHT($E671,LEN($E671)-SEARCH("x",$E671))) -> 11 | O671: =$A671&"-"&$B671 -> Jamicon-WL | P671: =$A671&" "&LEFT($F671,1)&"-"&TEXT(ROUND($M671,0),"00.0")&"x"&TEXT(ROUND($N671,0),"00.0") -> Jamicon R-06.0x11.0 | Q671: =TEXT($C671,"General"&CHAR(34)&"µF"&CHAR(34)) -> 270µF | R671: =TEXT($D671,"General"&CHAR(34)&"v"&CHAR(34)) -> 6.3v | S671: =$Q671&" "&$R671&" - "&LEFT($F671,1)&TEXT($M671,"00.0")&"-"&TEXT($N671,"00.0")&" "&A671&" ("&B671&")"&IF(ISBLANK($G671),""," "&$G671) -> 270µF 6.3v - R06.3-11.0 Jamicon (WL) | T671: =COUNTIF($S:$S,$S671) -> 1 | U671: =NOT(ISNA(MATCH($P671,Packages!$A:$A,0))) -> TRUE
A672: Jamicon | B672: WL | C672: 330 | D672: 6.3 | E672: 5x15 | F672: RADIAL | H672: Length | I672: =UPPER($A672) -> JAMICON | J672: =$Q672&" "&$R672 -> 330µF 6.3v | L672: =B672 -> WL | M672: =VALUE(LEFT($E672,SEARCH("x",$E672)-1)) -> 5 | N672: =VALUE(RIGHT($E672,LEN($E672)-SEARCH("x",$E672))) -> 15 | O672: =$A672&"-"&$B672 -> Jamicon-WL | P672: =$A672&" "&LEFT($F672,1)&"-"&TEXT(ROUND($M672,0),"00.0")&"x"&TEXT(ROUND($N672,0),"00.0") -> Jamicon R-05.0x15.0 | Q672: =TEXT($C672,"General"&CHAR(34)&"µF"&CHAR(34)) -> 330µF | R672: =TEXT($D672,"General"&CHAR(34)&"v"&CHAR(34)) -> 6.3v | S672: =$Q672&" "&$R672&" - "&LEFT($F672,1)&TEXT($M672,"00.0")&"-"&TEXT($N672,"00.0")&" "&A672&" ("&B672&")"&IF(ISBLANK($G672),""," "&$G672) -> 330µF 6.3v - R05.0-15.0 Jamicon (WL) | T672: =COUNTIF($S:$S,$S672) -> 1 | U672: =NOT(ISNA(MATCH($P672,Packages!$A:$A,0))) -> TRUE
A673: Jamicon | B673: WL | C673: 330 | D673: 6.3 | E673: 6.3x11 | F673: RADIAL | H673: Length | I673: =UPPER($A673) -> JAMICON | J673: =$Q673&" "&$R673 -> 330µF 6.3v | L673: =B673 -> WL | M673: =VALUE(LEFT($E673,SEARCH("x",$E673)-1)) -> 6.3 | N673: =VALUE(RIGHT($E673,LEN($E673)-SEARCH("x",$E673))) -> 11 | O673: =$A673&"-"&$B673 -> Jamicon-WL | P673: =$A673&" "&LEFT($F673,1)&"-"&TEXT(ROUND($M673,0),"00.0")&"x"&TEXT(ROUND($N673,0),"00.0") -> Jamicon R-06.0x11.0 | Q673: =TEXT($C673,"General"&CHAR(34)&"µF"&CHAR(34)) -> 330µF | R673: =TEXT($D673,"General"&CHAR(34)&"v"&CHAR(34)) -> 6.3v | S673: =$Q673&" "&$R673&" - "&LEFT($F673,1)&TEXT($M673,"00.0")&"-"&TEXT($N673,"00.0")&" "&A673&" ("&B673&")"&IF(ISBLANK($G673),""," "&$G673) -> 330µF 6.3v - R06.3-11.0 Jamicon (WL) | T673: =COUNTIF($S:$S,$S673) -> 1 | U673: =NOT(ISNA(MATCH($P673,Packages!$A:$A,0))) -> TRUE
A674: Jamicon | B674: WL | C674: 390 | D674: 6.3 | E674: 6.3x15 | F674: RADIAL | H674: Length | I674: =UPPER($A674) -> JAMICON | J674: =$Q674&" "&$R674 -> 390µF 6.3v | L674: =B674 -> WL | M674: =VALUE(LEFT($E674,SEARCH("x",$E674)-1)) -> 6.3 | N674: =VALUE(RIGHT($E674,LEN($E674)-SEARCH("x",$E674))) -> 15 | O674: =$A674&"-"&$B674 -> Jamicon-WL | P674: =$A674&" "&LEFT($F674,1)&"-"&TEXT(ROUND($M674,0),"00.0")&"x"&TEXT(ROUND($N674,0),"00.0") -> Jamicon R-06.0x15.0 | Q674: =TEXT($C674,"General"&CHAR(34)&"µF"&CHAR(34)) -> 390µF | R674: =TEXT($D674,"General"&CHAR(34)&"v"&CHAR(34)) -> 6.3v | S674: =$Q674&" "&$R674&" - "&LEFT($F674,1)&TEXT($M674,"00.0")&"-"&TEXT($N674,"00.0")&" "&A674&" ("&B674&")"&IF(ISBLANK($G674),""," "&$G674) -> 390µF 6.3v - R06.3-15.0 Jamicon (WL) | T674: =COUNTIF($S:$S,$S674) -> 1 | U674: =NOT(ISNA(MATCH($P674,Packages!$A:$A,0))) -> TRUE
A675: Jamicon | B675: WL | C675: 390 | D675: 6.3 | E675: 8x11.5 | F675: RADIAL | H675: Length | I675: =UPPER($A675) -> JAMICON | J675: =$Q675&" "&$R675 -> 390µF 6.3v | L675: =B675 -> WL | M675: =VALUE(LEFT($E675,SEARCH("x",$E675)-1)) -> 8 | N675: =VALUE(RIGHT($E675,LEN($E675)-SEARCH("x",$E675))) -> 11.5 | O675: =$A675&"-"&$B675 -> Jamicon-WL | P675: =$A675&" "&LEFT($F675,1)&"-"&TEXT(ROUND($M675,0),"00.0")&"x"&TEXT(ROUND($N675,0),"00.0") -> Jamicon R-08.0x12.0 | Q675: =TEXT($C675,"General"&CHAR(34)&"µF"&CHAR(34)) -> 390µF | R675: =TEXT($D675,"General"&CHAR(34)&"v"&CHAR(34)) -> 6.3v | S675: =$Q675&" "&$R675&" - "&LEFT($F675,1)&TEXT($M675,"00.0")&"-"&TEXT($N675,"00.0")&" "&A675&" ("&B675&")"&IF(ISBLANK($G675),""," "&$G675) -> 390µF 6.3v - R08.0-11.5 Jamicon (WL) | T675: =COUNTIF($S:$S,$S675) -> 1 | U675: =NOT(ISNA(MATCH($P675,Packages!$A:$A,0))) -> TRUE
A676: Jamicon | B676: WL | C676: 470 | D676: 6.3 | E676: 6.3x15 | F676: RADIAL | H676: Length | I676: =UPPER($A676) -> JAMICON | J676: =$Q676&" "&$R676 -> 470µF 6.3v | L676: =B676 -> WL | M676: =VALUE(LEFT($E676,SEARCH("x",$E676)-1)) -> 6.3 | N676: =VALUE(RIGHT($E676,LEN($E676)-SEARCH("x",$E676))) -> 15 | O676: =$A676&"-"&$B676 -> Jamicon-WL | P676: =$A676&" "&LEFT($F676,1)&"-"&TEXT(ROUND($M676,0),"00.0")&"x"&TEXT(ROUND($N676,0),"00.0") -> Jamicon R-06.0x15.0 | Q676: =TEXT($C676,"General"&CHAR(34)&"µF"&CHAR(34)) -> 470µF | R676: =TEXT($D676,"General"&CHAR(34)&"v"&CHAR(34)) -> 6.3v | S676: =$Q676&" "&$R676&" - "&LEFT($F676,1)&TEXT($M676,"00.0")&"-"&TEXT($N676,"00.0")&" "&A676&" ("&B676&")"&IF(ISBLANK($G676),""," "&$G676) -> 470µF 6.3v - R06.3-15.0 Jamicon (WL) | T676: =COUNTIF($S:$S,$S676) -> 1 | U676: =NOT(ISNA(MATCH($P676,Packages!$A:$A,0))) -> TRUE
A677: Jamicon | B677: WL | C677: 470 | D677: 6.3 | E677: 8x11.5 | F677: RADIAL | H677: Length | I677: =UPPER($A677) -> JAMICON | J677: =$Q677&" "&$R677 -> 470µF 6.3v | L677: =B677 -> WL | M677: =VALUE(LEFT($E677,SEARCH("x",$E677)-1)) -> 8 | N677: =VALUE(RIGHT($E677,LEN($E677)-SEARCH("x",$E677))) -> 11.5 | O677: =$A677&"-"&$B677 -> Jamicon-WL | P677: =$A677&" "&LEFT($F677,1)&"-"&TEXT(ROUND($M677,0),"00.0")&"x"&TEXT(ROUND($N677,0),"00.0") -> Jamicon R-08.0x12.0 | Q677: =TEXT($C677,"General"&CHAR(34)&"µF"&CHAR(34)) -> 470µF | R677: =TEXT($D677,"General"&CHAR(34)&"v"&CHAR(34)) -> 6.3v | S677: =$Q677&" "&$R677&" - "&LEFT($F677,1)&TEXT($M677,"00.0")&"-"&TEXT($N677,"00.0")&" "&A677&" ("&B677&")"&IF(ISBLANK($G677),""," "&$G677) -> 470µF 6.3v - R08.0-11.5 Jamicon (WL) | T677: =COUNTIF($S:$S,$S677) -> 1 | U677: =NOT(ISNA(MATCH($P677,Packages!$A:$A,0))) -> TRUE
A678: Jamicon | B678: WL | C678: 560 | D678: 6.3 | E678: 6.3x15 | F678: RADIAL | H678: Length | I678: =UPPER($A678) -> JAMICON | J678: =$Q678&" "&$R678 -> 560µF 6.3v | L678: =B678 -> WL | M678: =VALUE(LEFT($E678,SEARCH("x",$E678)-1)) -> 6.3 | N678: =VALUE(RIGHT($E678,LEN($E678)-SEARCH("x",$E678))) -> 15 | O678: =$A678&"-"&$B678 -> Jamicon-WL | P678: =$A678&" "&LEFT($F678,1)&"-"&TEXT(ROUND($M678,0),"00.0")&"x"&TEXT(ROUND($N678,0),"00.0") -> Jamicon R-06.0x15.0 | Q678: =TEXT($C678,"General"&CHAR(34)&"µF"&CHAR(34)) -> 560µF | R678: =TEXT($D678,"General"&CHAR(34)&"v"&CHAR(34)) -> 6.3v | S678: =$Q678&" "&$R678&" - "&LEFT($F678,1)&TEXT($M678,"00.0")&"-"&TEXT($N678,"00.0")&" "&A678&" ("&B678&")"&IF(ISBLANK($G678),""," "&$G678) -> 560µF 6.3v - R06.3-15.0 Jamicon (WL) | T678: =COUNTIF($S:$S,$S678) -> 1 | U678: =NOT(ISNA(MATCH($P678,Packages!$A:$A,0))) -> TRUE
... A966: Jamicon | B966: WL | C966: 1000 | D966: 63 | E966: 16x25 | F966: RADIAL | H966: Length | I966: =UPPER($A966) -> JAMICON | J966: =$Q966&" "&$R966 -> 1000µF 63v | L966: =B966 -> WL | M966: =VALUE(LEFT($E966,SEARCH("x",$E966)-1)) -> 16 | N966: =VALUE(RIGHT($E966,LEN($E966)-SEARCH("x",$E966))) -> 25 | O966: =$A966&"-"&$B966 -> Jamicon-WL | P966: =$A966&" "&LEFT($F966,1)&"-"&TEXT(ROUND($M966,0),"00.0")&"x"&TEXT(ROUND($N966,0),"00.0") -> Jamicon R-16.0x25.0 | Q966: =TEXT($C966,"General"&CHAR(34)&"µF"&CHAR(34)) -> 1000µF | R966: =TEXT($D966,"General"&CHAR(34)&"v"&CHAR(34)) -> 63v | S966: =$Q966&" "&$R966&" - "&LEFT($F966,1)&TEXT($M966,"00.0")&"-"&TEXT($N966,"00.0")&" "&A966&" ("&B966&")"&IF(ISBLANK($G966),""," "&$G966) -> 1000µF 63v - R16.0-25.0 Jamicon (WL) | T966: =COUNTIF($S:$S,$S966) -> 1 | U966: =NOT(ISNA(MATCH($P966,Packages!$A:$A,0))) -> TRUE
A967: Nichicon | B967: KX | C967: 470 | D967: 16 | E967: 8x12 | F967: RADIAL | H967: Length | I967: =R967 -> 16v | J967: =Q967 -> 470µF | L967: =B967 -> KX | M967: =VALUE(LEFT($E967,SEARCH("x",$E967)-1)) -> 8 | N967: =VALUE(RIGHT($E967,LEN($E967)-SEARCH("x",$E967))) -> 12 | O967: =$A967&"-"&$B967 -> Nichicon-KX | P967: =$A967&" "&LEFT($F967,1)&"-"&TEXT(ROUND($M967,0),"00.0")&"x"&TEXT(ROUND($N967,0),"00.0") -> Nichicon R-08.0x12.0 | Q967: =TEXT($C967,"General"&CHAR(34)&"µF"&CHAR(34)) -> 470µF | R967: =TEXT($D967,"General"&CHAR(34)&"v"&CHAR(34)) -> 16v | S967: =$Q967&" "&$R967&" - "&LEFT($F967,1)&TEXT($M967,"00.0")&"-"&TEXT($N967,"00.0")&" "&A967&" ("&B967&")"&IF(ISBLANK($G967),""," "&$G967) -> 470µF 16v - R08.0-12.0 Nichicon (KX) | T967: =COUNTIF($S:$S,$S967) -> 1 | U967: =NOT(ISNA(MATCH($P967,Packages!$A:$A,0))) -> TRUE
A968: Yihcon | B968: TM1 | C968: 3300 | D968: 10 | E968: 10x35 | F968: RADIAL | H968: Circular | I968: =UPPER($A968) -> YIHCON | J968: =$Q968&" "&$R968 -> 3300µF 10v | L968: TM | M968: =VALUE(LEFT($E968,SEARCH("x",$E968)-1)) -> 10 | N968: =VALUE(RIGHT($E968,LEN($E968)-SEARCH("x",$E968))) -> 35 | O968: =$A968&"-"&$B968 -> Yihcon-TM1 | P968: =$A968&" "&LEFT($F968,1)&"-"&TEXT(ROUND($M968,0),"00.0")&"x"&TEXT(ROUND($N968,0),"00.0") -> Yihcon R-10.0x35.0 | Q968: =TEXT($C968,"General"&CHAR(34)&"µF"&CHAR(34)) -> 3300µF | R968: =TEXT($D968,"General"&CHAR(34)&"v"&CHAR(34)) -> 10v | S968: =$Q968&" "&$R968&" - "&LEFT($F968,1)&TEXT($M968,"00.0")&"-"&TEXT($N968,"00.0")&" "&A968&" ("&B968&")"&IF(ISBLANK($G968),""," "&$G968) -> 3300µF 10v - R10.0-35.0 Yihcon (TM1) | T968: =COUNTIF($S:$S,$S968) -> 1 | U968: =NOT(ISNA(MATCH($P968,Packages!$A:$A,0))) -> TRUE
A969: Yihcon | B969: TM2 | C969: 3300 | D969: 16 | E969: 10x35 | F969: RADIAL | H969: Circular | I969: =UPPER($A969) -> YIHCON | J969: =$Q969&" "&$R969 -> 3300µF 16v | L969: TM | M969: =VALUE(LEFT($E969,SEARCH("x",$E969)-1)) -> 10 | N969: =VALUE(RIGHT($E969,LEN($E969)-SEARCH("x",$E969))) -> 35 | O969: =$A969&"-"&$B969 -> Yihcon-TM2 | P969: =$A969&" "&LEFT($F969,1)&"-"&TEXT(ROUND($M969,0),"00.0")&"x"&TEXT(ROUND($N969,0),"00.0") -> Yihcon R-10.0x35.0 | Q969: =TEXT($C969,"General"&CHAR(34)&"µF"&CHAR(34)) -> 3300µF | R969: =TEXT($D969,"General"&CHAR(34)&"v"&CHAR(34)) -> 16v | S969: =$Q969&" "&$R969&" - "&LEFT($F969,1)&TEXT($M969,"00.0")&"-"&TEXT($N969,"00.0")&" "&A969&" ("&B969&")"&IF(ISBLANK($G969),""," "&$G969) -> 3300µF 16v - R10.0-35.0 Yihcon (TM2) | T969: =COUNTIF($S:$S,$S969) -> 1 | U969: =NOT(ISNA(MATCH($P969,Packages!$A:$A,0))) -> TRUE

Sheet Packages
A1: ID | B1: Manufacturer | C1: Mount Type | D1: Datasheet Dimensions | E1: Stand Off | F1: Lead Extend Length | G1: Case Thickness | H1: Lead Length Negative | I1: Case Diameter | J1: Case Height | K1: Lead Spacing | L1: Lead Length Positive | M1: Lead Diameter | N1: Sleeve Thickness | O1: Bottom Indent Width | P1: Bottom Indent Offset | Q1: Text Count Type Value | R1: Text Count Type Manufacturer | S1: Text Count Type Series | T1: Text Count Value | U1: Text Count Manufacturer | V1: Text Count Series | W1: Text Count Value Max | X1: Text Count Manufacturer Max | Y1: Text Count Series Max | Z1: Text Separation Spaces | AA1: Text Height Value | AB1: Text Height Manufacturer | AC1: Text Height Series | AD1: Lead Spacing (tbl) | AE1: Text Vertical Pitch | AF1: Lead Spacing (mm) | AG1: Lead Table Row | AH1: Lead Table | AI1: Lead Table Header | AJ1: Tolerance | AK1: #Instances
A2: =$B2&" "&LEFT($C2,1)&"-"&TEXT(ROUND($I2,0),"00.0")&"x"&TEXT(ROUND($J2,0),"00.0") -> HEC R-25.0x51.0 | B2: HEC | C2: RADIAL | D2: 25.2x51.4 | E2: 0.5 | F2: 2 | G2: 0.3 | H2: 4 | I2: =VALUE(LEFT($D2,SEARCH("x",$D2)-1)) -> 25.2 | J2: =VALUE(RIGHT($D2,LEN($D2)-SEARCH("x",$D2))) -> 51.4 | K2: =1000*ROUND($AD2/25.4,2) -> 400 | L2: 4 | M2: 1.5 | N2: 0.2 | O2: 4.7 | P2: 3.5 | Q2: =rptNone -> 0 | R2: =rptNone -> 0 | S2: =rptNone -> 0 | T2: 0 | U2: 0 | V2: 0 | W2: 0 | X2: =W2 -> 0 | Y2: 8 | Z2: =IF(B2="Hitano",5,4) -> 4 | AA2: 4.9 | AB2: =AA2/1.4 -> 3.5 | AC2: =AA2/1.324 -> 3.7009063 | AD2: 10.2 | AE2: =AA2/1.2 -> 4.0833333 | AF2: =K2/1000 * 25.4 -> 10.16 | AG2: =1+MATCH($B2,'Lead Tables'!$A:$A,0) -> #N/A | AH2: =ADDRESS($AG2,1,TRUE,TRUE,"Lead Tables")&":"&ADDRESS($AG2+3,COLUMN('Lead Tables'!$K:$K),TRUE,TRUE) -> #N/A | AI2: =ADDRESS($AG2,1,TRUE,TRUE,"Lead Tables")&":"&ADDRESS($AG2,COLUMN('Lead Tables'!$K:$K),TRUE,TRUE) -> #N/A | AJ2: 0.1 | AK2: =COUNTIF(A:A,A2) -> 1 | AN2: =MAX(AA2:AC64) -> 4.9
A3: =$B3&" "&LEFT($C3,1)&"-"&TEXT(ROUND($I3,0),"00.0")&"x"&TEXT(ROUND($J3,0),"00.0") -> Hitano R-05.0x11.0 | B3: Hitano | C3: RADIAL | D3: 5x11 | E3: 0.5 | F3: 2 | G3: 0.3 | H3: 20.7 | I3: =VALUE(LEFT($D3,SEARCH("x",$D3)-1)) -> 5 | J3: =VALUE(RIGHT($D3,LEN($D3)-SEARCH("x",$D3))) -> 11 | K3: =1000*ROUNDUP($AD3/25.4,2) -> 80 | L3: =H3+5.6 -> 26.3 | M3: =INDEX(INDIRECT($AH3),3,MATCH($I3,INDIRECT($AI3),0)) -> 0.5 | N3: =IF($I3<8,0.12,IF($I3<10,0.15,0.2)) -> 0.12 | O3: 2 | P3: 1.5 | Q3: =rptMinUntilExtent -> 17 | R3: =rptNumberOfTimesOfLineNo -> 6 | S3: =rptUntilExtentThenFit -> 2 | T3: 1 | U3: 0 | V3: 0 | W3: 3 | X3: =W3 -> 3 | Y3: 8 | Z3: =IF(B3="Hitano",5,4) -> 5 | AA3: =IF(ROUND(5.509253+(1.199745-5.509253)/(1+($I3/16.61827)^13.04355),1)>3,3,ROUND(5.509253+(1.199745-5.509253)/(1+($I3/16.61827)^13.04355),1)) -> 1.2 | AB3: =AA3*1.5 -> 1.8 | AC3: =IF(AA3/1.949>0.7,0.7,AA3/1.949)/1.3 -> 0.47361566 | AD3: =INDEX(INDIRECT($AH3),2,MATCH($I3,INDIRECT($AI3),0)) -> 2 | AE3: =AA3/3 -> 0.4 | AF3: =K3/1000 * 25.4 -> 2.032 | AG3: =1+MATCH($B3,'Lead Tables'!$A:$A,0) -> 2 | AH3: =ADDRESS($AG3,1,TRUE,TRUE,"Lead Tables")&":"&ADDRESS($AG3+3,COLUMN('Lead Tables'!$K:$K),TRUE,TRUE) -> 'Lead Tables'!$A$2:$K$5 | AI3: =ADDRESS($AG3,1,TRUE,TRUE,"Lead Tables")&":"&ADDRESS($AG3,COLUMN('Lead Tables'!$K:$K),TRUE,TRUE) -> 'Lead Tables'!$A$2:$K$2 | AJ3: 0.1 | AK3: =COUNTIF(A:A,A3) -> 1 | AM3: =AL3*1.261 -> 0 | AN3: =72 / 18.49189453 -> 3.8935978
A4: =$B4&" "&LEFT($C4,1)&"-"&TEXT(ROUND($I4,0),"00.0")&"x"&TEXT(ROUND($J4,0),"00.0") -> Hitano R-06.0x11.0 | B4: Hitano | C4: RADIAL | D4: 6.3x11 | E4: 0.5 | F4: 2 | G4: 0.3 | H4: 20.7 | I4: =VALUE(LEFT($D4,SEARCH("x",$D4)-1)) -> 6.3 | J4: =VALUE(RIGHT($D4,LEN($D4)-SEARCH("x",$D4))) -> 11 | K4: =1000*ROUNDUP($AD4/25.4,2) -> 100 | L4: =H4+5.6 -> 26.3 | M4: =INDEX(INDIRECT($AH4),3,MATCH($I4,INDIRECT($AI4),0)) -> 0.5 | N4: =IF($I4<8,0.12,IF($I4<10,0.15,0.2)) -> 0.12 | O4: 2 | P4: 1.5 | Q4: =rptMinUntilExtent -> 17 | R4: =rptNumberOfTimesOfLineNo -> 6 | S4: =rptUntilExtentThenFit -> 2 | T4: 1 | U4: 0 | V4: 0 | W4: 3 | X4: =W4 -> 3 | Y4: 8 | Z4: =IF(B4="Hitano",5,4) -> 5 | AA4: =IF(ROUND(5.509253+(1.199745-5.509253)/(1+($I4/16.61827)^13.04355),1)>3,3,ROUND(5.509253+(1.199745-5.509253)/(1+($I4/16.61827)^13.04355),1)) -> 1.2 | AB4: =AA4*1.5 -> 1.8 | AC4: =IF(AA4/1.949>0.7,0.7,AA4/1.949)/1.3 -> 0.47361566 | AD4: =INDEX(INDIRECT($AH4),2,MATCH($I4,INDIRECT($AI4),0)) -> 2.5 | AE4: =AA4/3 -> 0.4 | AF4: =K4/1000 * 25.4 -> 2.54 | AG4: =1+MATCH($B4,'Lead Tables'!$A:$A,0) -> 2 | AH4: =ADDRESS($AG4,1,TRUE,TRUE,"Lead Tables")&":"&ADDRESS($AG4+3,COLUMN('Lead Tables'!$K:$K),TRUE,TRUE) -> 'Lead Tables'!$A$2:$K$5 | AI4: =ADDRESS($AG4,1,TRUE,TRUE,"Lead Tables")&":"&ADDRESS($AG4,COLUMN('Lead Tables'!$K:$K),TRUE,TRUE) -> 'Lead Tables'!$A$2:$K$2 | AJ4: 0.1 | AK4: =COUNTIF(A:A,A4) -> 1 | AM4: =AL4*1.261 -> 0 | AN4: =2000/(AN2*AN3) -> 104.82933
A5: =$B5&" "&LEFT($C5,1)&"-"&TEXT(ROUND($I5,0),"00.0")&"x"&TEXT(ROUND($J5,0),"00.0") -> Hitano R-08.0x12.0 | B5: Hitano | C5: RADIAL | D5: 8x12 | E5: 0.5 | F5: 2 | G5: 0.3 | H5: 20.7 | I5: =VALUE(LEFT($D5,SEARCH("x",$D5)-1)) -> 8 | J5: =VALUE(RIGHT($D5,LEN($D5)-SEARCH("x",$D5))) -> 12 | K5: =1000*ROUNDUP($AD5/25.4,2) -> 140 | L5: =H5+5.6 -> 26.3 | M5: =INDEX(INDIRECT($AH5),3,MATCH($I5,INDIRECT($AI5),0)) -> 0.5 | N5: =IF($I5<8,0.12,IF($I5<10,0.15,0.2)) -> 0.15 | O5: 2 | P5: 1.5 | Q5: =rptMinUntilExtent -> 17 | R5: =rptNumberOfTimesOfLineNo -> 6 | S5: =rptUntilExtentThenFit -> 2 | T5: 1 | U5: 0 | V5: 0 | W5: 3 | X5: =W5 -> 3 | Y5: 8 | Z5: =IF(B5="Hitano",5,4) -> 5 | AA5: =IF(ROUND(5.509253+(1.199745-5.509253)/(1+($I5/16.61827)^13.04355),1)>3,3,ROUND(5.509253+(1.199745-5.509253)/(1+($I5/16.61827)^13.04355),1)) -> 1.2 | AB5: =AA5*1.5 -> 1.8 | AC5: =IF(AA5/1.949>0.7,0.7,AA5/1.949)/1.3 -> 0.47361566 | AD5: =INDEX(INDIRECT($AH5),2,MATCH($I5,INDIRECT($AI5),0)) -> 3.5 | AE5: =AA5/3 -> 0.4 | AF5: =K5/1000 * 25.4 -> 3.556 | AG5: =1+MATCH($B5,'Lead Tables'!$A:$A,0) -> 2 | AH5: =ADDRESS($AG5,1,TRUE,TRUE,"Lead Tables")&":"&ADDRESS($AG5+3,COLUMN('Lead Tables'!$K:$K),TRUE,TRUE) -> 'Lead Tables'!$A$2:$K$5 | AI5: =ADDRESS($AG5,1,TRUE,TRUE,"Lead Tables")&":"&ADDRESS($AG5,COLUMN('Lead Tables'!$K:$K),TRUE,TRUE) -> 'Lead Tables'!$A$2:$K$2 | AJ5: 0.1 | AK5: =COUNTIF(A:A,A5) -> 1 | AM5: =AL5*1.261 -> 0 | AN5: =AN4/46.23 -> 2.2675608
A6: =$B6&" "&LEFT($C6,1)&"-"&TEXT(ROUND($I6,0),"00.0")&"x"&TEXT(ROUND($J6,0),"00.0") -> Hitano R-08.0x14.0 | B6: Hitano | C6: RADIAL | D6: 8x14 | E6: 0.5 | F6: 2 | G6: 0.3 | H6: 20.7 | I6: =VALUE(LEFT($D6,SEARCH("x",$D6)-1)) -> 8 | J6: =VALUE(RIGHT($D6,LEN($D6)-SEARCH("x",$D6))) -> 14 | K6: =1000*ROUNDUP($AD6/25.4,2) -> 140 | L6: =H6+5.6 -> 26.3 | M6: =INDEX(INDIRECT($AH6),3,MATCH($I6,INDIRECT($AI6),0)) -> 0.5 | N6: =IF($I6<8,0.12,IF($I6<10,0.15,0.2)) -> 0.15 | O6: =4.925363+(2.443075-4.925363)/(1+($I6/16.01491)^7.997158) -> 2.4526811 | P6: =10.44333+(1.945487-10.44333)/(1+($I6/34.36317)^4.867813) -> 1.9525276 | Q6: =rptMinUntilExtent -> 17 | R6: =rptNumberOfTimesOfLineNo -> 6 | S6: =rptUntilExtentThenFit -> 2 | T6: 1 | U6: 0 | V6: 0 | W6: 3 | X6: =W6 -> 3 | Y6: 8 | Z6: =IF(B6="Hitano",5,4) -> 5 | AA6: =IF(ROUND(5.509253+(1.199745-5.509253)/(1+($I6/16.61827)^13.04355),1)>3,3,ROUND(5.509253+(1.199745-5.509253)/(1+($I6/16.61827)^13.04355),1)) -> 1.2 | AB6: =AA6*1.5 -> 1.8 | AC6: =IF(AA6/1.949>0.7,0.7,AA6/1.949)/1.3 -> 0.47361566 | AD6: =INDEX(INDIRECT($AH6),2,MATCH($I6,INDIRECT($AI6),0)) -> 3.5 | AE6: =AA6/3 -> 0.4 | AF6: =K6/1000 * 25.4 -> 3.556 | AG6: =1+MATCH($B6,'Lead Tables'!$A:$A,0) -> 2 | AH6: =ADDRESS($AG6,1,TRUE,TRUE,"Lead Tables")&":"&ADDRESS($AG6+3,COLUMN('Lead Tables'!$K:$K),TRUE,TRUE) -> 'Lead Tables'!$A$2:$K$5 | AI6: =ADDRESS($AG6,1,TRUE,TRUE,"Lead Tables")&":"&ADDRESS($AG6,COLUMN('Lead Tables'!$K:$K),TRUE,TRUE) -> 'Lead Tables'!$A$2:$K$2 | AJ6: 0.1 | AK6: =COUNTIF(A:A,A6) -> 1 | AM6: =AL6*1.261 -> 0
A7: =$B7&" "&LEFT($C7,1)&"-"&TEXT(ROUND($I7,0),"00.0")&"x"&TEXT(ROUND($J7,0),"00.0") -> Hitano R-08.0x16.0 | B7: Hitano | C7: RADIAL | D7: 8x16 | E7: 0.5 | F7: 2 | G7: 0.3 | H7: 20.7 | I7: =VALUE(LEFT($D7,SEARCH("x",$D7)-1)) -> 8 | J7: =VALUE(RIGHT($D7,LEN($D7)-SEARCH("x",$D7))) -> 16 | K7: =1000*ROUNDUP($AD7/25.4,2) -> 140 | L7: =H7+5.6 -> 26.3 | M7: =INDEX(INDIRECT($AH7),3,MATCH($I7,INDIRECT($AI7),0)) -> 0.5 | N7: =IF($I7<8,0.12,IF($I7<10,0.15,0.2)) -> 0.15 | O7: =4.925363+(2.443075-4.925363)/(1+($I7/16.01491)^7.997158) -> 2.4526811 | P7: =10.44333+(1.945487-10.44333)/(1+($I7/34.36317)^4.867813) -> 1.9525276 | Q7: =rptMinUntilExtent -> 17 | R7: =rptNumberOfTimesOfLineNo -> 6 | S7: =rptUntilExtentThenFit -> 2 | T7: 1 | U7: 0 | V7: 0 | W7: 3 | X7: =W7 -> 3 | Y7: 8 | Z7: =IF(B7="Hitano",5,4) -> 5 | AA7: =IF(ROUND(5.509253+(1.199745-5.509253)/(1+($I7/16.61827)^13.04355),1)>3,3,ROUND(5.509253+(1.199745-5.509253)/(1+($I7/16.61827)^13.04355),1)) -> 1.2 | AB7: =AA7*1.5 -> 1.8 | AC7: =IF(AA7/1.949>0.7,0.7,AA7/1.949)/1.3 -> 0.47361566 | AD7: =INDEX(INDIRECT($AH7),2,MATCH($I7,INDIRECT($AI7),0)) -> 3.5 | AE7: =AA7/3 -> 0.4 | AF7: =K7/1000 * 25.4 -> 3.556 | AG7: =1+MATCH($B7,'Lead Tables'!$A:$A,0) -> 2 | AH7: =ADDRESS($AG7,1,TRUE,TRUE,"Lead Tables")&":"&ADDRESS($AG7+3,COLUMN('Lead Tables'!$K:$K),TRUE,TRUE) -> 'Lead Tables'!$A$2:$K$5 | AI7: =ADDRESS($AG7,1,TRUE,TRUE,"Lead Tables")&":"&ADDRESS($AG7,COLUMN('Lead Tables'!$K:$K),TRUE,TRUE) -> 'Lead Tables'!$A$2:$K$2 | AJ7: 0.1 | AK7: =COUNTIF(A:A,A7) -> 1 | AM7: =AL7*1.261 -> 0 | AN7: 18.491895
A8: =$B8&" "&LEFT($C8,1)&"-"&TEXT(ROUND($I8,0),"00.0")&"x"&TEXT(ROUND($J8,0),"00.0") -> Hitano R-10.0x13.0 | B8: Hitano | C8: RADIAL | D8: 10x13 | E8: 0.5 | F8: 2 | G8: 0.3 | H8: 20.7 | I8: =VALUE(LEFT($D8,SEARCH("x",$D8)-1)) -> 10 | J8: =VALUE(RIGHT($D8,LEN($D8)-SEARCH("x",$D8))) -> 13 | K8: =1000*ROUNDUP($AD8/25.4,2) -> 200 | L8: =H8+5.6 -> 26.3 | M8: =INDEX(INDIRECT($AH8),3,MATCH($I8,INDIRECT($AI8),0)) -> 0.6 | N8: =IF($I8<8,0.12,IF($I8<10,0.15,0.2)) -> 0.2 | O8: =4.925363+(2.443075-4.925363)/(1+($I8/16.01491)^7.997158) -> 2.4992188 | P8: =10.44333+(1.945487-10.44333)/(1+($I8/34.36317)^4.867813) -> 1.9663147 | Q8: =rptMinUntilExtent -> 17 | R8: =rptNumberOfTimesOfLineNo -> 6 | S8: =rptUntilExtentThenFit -> 2 | T8: 1 | U8: 0 | V8: 0 | W8: 3 | X8: =W8 -> 3 | Y8: 8 | Z8: =IF(B8="Hitano",5,4) -> 5 | AA8: =IF(ROUND(5.509253+(1.199745-5.509253)/(1+($I8/16.61827)^13.04355),1)>3,3,ROUND(5.509253+(1.199745-5.509253)/(1+($I8/16.61827)^13.04355),1)) -> 1.2 | AB8: =AA8*1.5 -> 1.8 | AC8: =IF(AA8/1.949>0.7,0.7,AA8/1.949)/1.3 -> 0.47361566 | AD8: =INDEX(INDIRECT($AH8),2,MATCH($I8,INDIRECT($AI8),0)) -> 5 | AE8: =AA8/3 -> 0.4 | AF8: =K8/1000 * 25.4 -> 5.08 | AG8: =1+MATCH($B8,'Lead Tables'!$A:$A,0) -> 2 | AH8: =ADDRESS($AG8,1,TRUE,TRUE,"Lead Tables")&":"&ADDRESS($AG8+3,COLUMN('Lead Tables'!$K:$K),TRUE,TRUE) -> 'Lead Tables'!$A$2:$K$5 | AI8: =ADDRESS($AG8,1,TRUE,TRUE,"Lead Tables")&":"&ADDRESS($AG8,COLUMN('Lead Tables'!$K:$K),TRUE,TRUE) -> 'Lead Tables'!$A$2:$K$2 | AJ8: 0.1 | AK8: =COUNTIF(A:A,A8) -> 1 | AM8: =AL8*1.261 -> 0 | AN8: 6.055002
A9: =$B9&" "&LEFT($C9,1)&"-"&TEXT(ROUND($I9,0),"00.0")&"x"&TEXT(ROUND($J9,0),"00.0") -> Hitano R-10.0x16.0 | B9: Hitano | C9: RADIAL | D9: 10x16 | E9: 0.5 | F9: 2 | G9: 0.3 | H9: 20.7 | I9: =VALUE(LEFT($D9,SEARCH("x",$D9)-1)) -> 10 | J9: =VALUE(RIGHT($D9,LEN($D9)-SEARCH("x",$D9))) -> 16 | K9: =1000*ROUNDUP($AD9/25.4,2) -> 200 | L9: =H9+5.6 -> 26.3 | M9: =INDEX(INDIRECT($AH9),3,MATCH($I9,INDIRECT($AI9),0)) -> 0.6 | N9: =IF($I9<8,0.12,IF($I9<10,0.15,0.2)) -> 0.2 | O9: =4.925363+(2.443075-4.925363)/(1+($I9/16.01491)^7.997158) -> 2.4992188 | P9: =10.44333+(1.945487-10.44333)/(1+($I9/34.36317)^4.867813) -> 1.9663147 | Q9: =rptMinUntilExtent -> 17 | R9: =rptNumberOfTimesOfLineNo -> 6 | S9: =rptUntilExtentThenFit -> 2 | T9: 1 | U9: 0 | V9: 0 | W9: 3 | X9: =W9 -> 3 | Y9: 8 | Z9: =IF(B9="Hitano",5,4) -> 5 | AA9: =IF(ROUND(5.509253+(1.199745-5.509253)/(1+($I9/16.61827)^13.04355),1)>3,3,ROUND(5.509253+(1.199745-5.509253)/(1+($I9/16.61827)^13.04355),1)) -> 1.2 | AB9: =AA9*1.5 -> 1.8 | AC9: =IF(AA9/1.949>0.7,0.7,AA9/1.949)/1.3 -> 0.47361566 | AD9: =INDEX(INDIRECT($AH9),2,MATCH($I9,INDIRECT($AI9),0)) -> 5 | AE9: =AA9/3 -> 0.4 | AF9: =K9/1000 * 25.4 -> 5.08 | AG9: =1+MATCH($B9,'Lead Tables'!$A:$A,0) -> 2 | AH9: =ADDRESS($AG9,1,TRUE,TRUE,"Lead Tables")&":"&ADDRESS($AG9+3,COLUMN('Lead Tables'!$K:$K),TRUE,TRUE) -> 'Lead Tables'!$A$2:$K$5 | AI9: =ADDRESS($AG9,1,TRUE,TRUE,"Lead Tables")&":"&ADDRESS($AG9,COLUMN('Lead Tables'!$K:$K),TRUE,TRUE) -> 'Lead Tables'!$A$2:$K$2 | AJ9: 0.1 | AK9: =COUNTIF(A:A,A9) -> 1 | AM9: =AL9*1.261 -> 0
A10: =$B10&" "&LEFT($C10,1)&"-"&TEXT(ROUND($I10,0),"00.0")&"x"&TEXT(ROUND($J10,0),"00.0") -> Hitano R-10.0x21.0 | B10: Hitano | C10: RADIAL | D10: 10x21 | E10: 0.5 | F10: 2 | G10: 0.3 | H10: 20.7 | I10: =VALUE(LEFT($D10,SEARCH("x",$D10)-1)) -> 10 | J10: =VALUE(RIGHT($D10,LEN($D10)-SEARCH("x",$D10))) -> 21 | K10: =1000*ROUNDUP($AD10/25.4,2) -> 200 | L10: =H10+5.6 -> 26.3 | M10: =INDEX(INDIRECT($AH10),3,MATCH($I10,INDIRECT($AI10),0)) -> 0.6 | N10: =IF($I10<8,0.12,IF($I10<10,0.15,0.2)) -> 0.2 | O10: =4.925363+(2.443075-4.925363)/(1+($I10/16.01491)^7.997158) -> 2.4992188 | P10: =10.44333+(1.945487-10.44333)/(1+($I10/34.36317)^4.867813) -> 1.9663147 | Q10: =rptMinUntilExtent -> 17 | R10: =rptNumberOfTimesOfLineNo -> 6 | S10: =rptUntilExtentThenFit -> 2 | T10: 1 | U10: 0 | V10: 0 | W10: 3 | X10: =W10 -> 3 | Y10: 8 | Z10: =IF(B10="Hitano",5,4) -> 5 | AA10: =IF(ROUND(5.509253+(1.199745-5.509253)/(1+($I10/16.61827)^13.04355),1)>3,3,ROUND(5.509253+(1.199745-5.509253)/(1+($I10/16.61827)^13.04355),1)) -> 1.2 | AB10: =AA10*1.5 -> 1.8 | AC10: =IF(AA10/1.949>0.7,0.7,AA10/1.949)/1.3 -> 0.47361566 | AD10: =INDEX(INDIRECT($AH10),2,MATCH($I10,INDIRECT($AI10),0)) -> 5 | AE10: =AA10/3 -> 0.4 | AF10: =K10/1000 * 25.4 -> 5.08 | AG10: =1+MATCH($B10,'Lead Tables'!$A:$A,0) -> 2 | AH10: =ADDRESS($AG10,1,TRUE,TRUE,"Lead Tables")&":"&ADDRESS($AG10+3,COLUMN('Lead Tables'!$K:$K),TRUE,TRUE) -> 'Lead Tables'!$A$2:$K$5 | AI10: =ADDRESS($AG10,1,TRUE,TRUE,"Lead Tables")&":"&ADDRESS($AG10,COLUMN('Lead Tables'!$K:$K),TRUE,TRUE) -> 'Lead Tables'!$A$2:$K$2 | AJ10: 0.1 | AK10: =COUNTIF(A:A,A10) -> 1 | AM10: =AL10*1.261 -> 0
A11: =$B11&" "&LEFT($C11,1)&"-"&TEXT(ROUND($I11,0),"00.0")&"x"&TEXT(ROUND($J11,0),"00.0") -> Hitano R-13.0x21.0 | B11: Hitano | C11: RADIAL | D11: 13x21 | E11: 0.5 | F11: 2 | G11: 0.3 | H11: 20.7 | I11: =VALUE(LEFT($D11,SEARCH("x",$D11)-1)) -> 13 | J11: =VALUE(RIGHT($D11,LEN($D11)-SEARCH("x",$D11))) -> 21 | K11: =1000*ROUNDUP($AD11/25.4,2) -> 200 | L11: =H11+5.6 -> 26.3 | M11: =INDEX(INDIRECT($AH11),3,MATCH($I11,INDIRECT($AI11),0)) -> 0.6 | N11: =IF($I11<8,0.12,IF($I11<10,0.15,0.2)) -> 0.2 | O11: =4.925363+(2.443075-4.925363)/(1+($I11/16.01491)^7.997158) -> 2.8370005 | P11: =10.44333+(1.945487-10.44333)/(1+($I11/34.36317)^4.867813) -> 2.0197123 | Q11: =rptMinUntilExtent -> 17 | R11: =rptNumberOfTimesOfLineNo -> 6 | S11: =rptUntilExtentThenFit -> 2 | T11: 1 | U11: 0 | V11: 0 | W11: 3 | X11: =W11 -> 3 | Y11: 8 | Z11: =IF(B11="Hitano",5,4) -> 5 | AA11: =IF(ROUND(5.509253+(1.199745-5.509253)/(1+($I11/16.61827)^13.04355),1)>3,3,ROUND(5.509253+(1.199745-5.509253)/(1+($I11/16.61827)^13.04355),1)) -> 1.4 | AB11: =AA11*1.5 -> 2.1 | AC11: =IF(AA11/1.949>0.7,0.7,AA11/1.949)/1.3 -> 0.53846154 | AD11: =INDEX(INDIRECT($AH11),2,MATCH($I11,INDIRECT($AI11),0)) -> 5 | AE11: =AA11/3 -> 0.46666667 | AF11: =K11/1000 * 25.4 -> 5.08 | AG11: =1+MATCH($B11,'Lead Tables'!$A:$A,0) -> 2 | AH11: =ADDRESS($AG11,1,TRUE,TRUE,"Lead Tables")&":"&ADDRESS($AG11+3,COLUMN('Lead Tables'!$K:$K),TRUE,TRUE) -> 'Lead Tables'!$A$2:$K$5 | AI11: =ADDRESS($AG11,1,TRUE,TRUE,"Lead Tables")&":"&ADDRESS($AG11,COLUMN('Lead Tables'!$K:$K),TRUE,TRUE) -> 'Lead Tables'!$A$2:$K$2 | AJ11: 0.1 | AK11: =COUNTIF(A:A,A11) -> 1 | AM11: =AL11*1.261 -> 0 | AN11: =AN8*AN7 -> 111.96846
A12: =$B12&" "&LEFT($C12,1)&"-"&TEXT(ROUND($I12,0),"00.0")&"x"&TEXT(ROUND($J12,0),"00.0") -> Hitano R-13.0x26.0 | B12: Hitano | C12: RADIAL | D12: 13x26 | E12: 0.5 | F12: 2 | G12: 0.3 | H12: 20.7 | I12: =VALUE(LEFT($D12,SEARCH("x",$D12)-1)) -> 13 | J12: =VALUE(RIGHT($D12,LEN($D12)-SEARCH("x",$D12))) -> 26 | K12: =1000*ROUNDUP($AD12/25.4,2) -> 200 | L12: =H12+5.6 -> 26.3 | M12: =INDEX(INDIRECT($AH12),3,MATCH($I12,INDIRECT($AI12),0)) -> 0.6 | N12: =IF($I12<8,0.12,IF($I12<10,0.15,0.2)) -> 0.2 | O12: =4.925363+(2.443075-4.925363)/(1+($I12/16.01491)^7.997158) -> 2.8370005 | P12: =10.44333+(1.945487-10.44333)/(1+($I12/34.36317)^4.867813) -> 2.0197123 | Q12: =rptMinUntilExtent -> 17 | R12: =rptNumberOfTimesOfLineNo -> 6 | S12: =rptUntilExtentThenFit -> 2 | T12: 1 | U12: 0 | V12: 0 | W12: 3 | X12: =W12 -> 3 | Y12: 8 | Z12: =IF(B12="Hitano",5,4) -> 5 | AA12: =IF(ROUND(5.509253+(1.199745-5.509253)/(1+($I12/16.61827)^13.04355),1)>3,3,ROUND(5.509253+(1.199745-5.509253)/(1+($I12/16.61827)^13.04355),1)) -> 1.4 | AB12: =AA12*1.5 -> 2.1 | AC12: =IF(AA12/1.949>0.7,0.7,AA12/1.949)/1.3 -> 0.53846154 | AD12: =INDEX(INDIRECT($AH12),2,MATCH($I12,INDIRECT($AI12),0)) -> 5 | AE12: =AA12/3 -> 0.46666667 | AF12: =K12/1000 * 25.4 -> 5.08 | AG12: =1+MATCH($B12,'Lead Tables'!$A:$A,0) -> 2 | AH12: =ADDRESS($AG12,1,TRUE,TRUE,"Lead Tables")&":"&ADDRESS($AG12+3,COLUMN('Lead Tables'!$K:$K),TRUE,TRUE) -> 'Lead Tables'!$A$2:$K$5 | AI12: =ADDRESS($AG12,1,TRUE,TRUE,"Lead Tables")&":"&ADDRESS($AG12,COLUMN('Lead Tables'!$K:$K),TRUE,TRUE) -> 'Lead Tables'!$A$2:$K$2 | AJ12: 0.1 | AK12: =COUNTIF(A:A,A12) -> 1 | AM12: =AL12*1.261 -> 0
A13: =$B13&" "&LEFT($C13,1)&"-"&TEXT(ROUND($I13,0),"00.0")&"x"&TEXT(ROUND($J13,0),"00.0") -> Hitano R-16.0x26.0 | B13: Hitano | C13: RADIAL | D13: 16x26 | E13: 0.5 | F13: 2 | G13: 0.3 | H13: 20.7 | I13: =VALUE(LEFT($D13,SEARCH("x",$D13)-1)) -> 16 | J13: =VALUE(RIGHT($D13,LEN($D13)-SEARCH("x",$D13))) -> 26 | K13: =1000*ROUNDUP($AD13/25.4,2) -> 300 | L13: =H13+5.6 -> 26.3 | M13: =INDEX(INDIRECT($AH13),3,MATCH($I13,INDIRECT($AI13),0)) -> 0.8 | N13: =IF($I13<8,0.12,IF($I13<10,0.15,0.2)) -> 0.2 | O13: =4.925363+(2.443075-4.925363)/(1+($I13/16.01491)^7.997158) -> 3.6795965 | P13: =10.44333+(1.945487-10.44333)/(1+($I13/34.36317)^4.867813) -> 2.1463665 | Q13: =rptMinUntilExtent -> 17 | R13: =rptNumberOfTimesOfLineNo -> 6 | S13: =rptUntilExtentThenFit -> 2 | T13: 1 | U13: 0 | V13: 0 | W13: 3 | X13: =W13 -> 3 | Y13: 8 | Z13: =IF(B13="Hitano",5,4) -> 5 | AA13: =IF(ROUND(5.509253+(1.199745-5.509253)/(1+($I13/16.61827)^13.04355),1)>3,3,ROUND(5.509253+(1.199745-5.509253)/(1+($I13/16.61827)^13.04355),1)) -> 2.8 | AB13: =AA13*1.5 -> 4.2 | AC13: =IF(AA13/1.949>0.7,0.7,AA13/1.949)/1.3 -> 0.53846154 | AD13: =INDEX(INDIRECT($AH13),2,MATCH($I13,INDIRECT($AI13),0)) -> 7.5 | AE13: =AA13/3 -> 0.93333333 | AF13: =K13/1000 * 25.4 -> 7.62 | AG13: =1+MATCH($B13,'Lead Tables'!$A:$A,0) -> 2 | AH13: =ADDRESS($AG13,1,TRUE,TRUE,"Lead Tables")&":"&ADDRESS($AG13+3,COLUMN('Lead Tables'!$K:$K),TRUE,TRUE) -> 'Lead Tables'!$A$2:$K$5 | AI13: =ADDRESS($AG13,1,TRUE,TRUE,"Lead Tables")&":"&ADDRESS($AG13,COLUMN('Lead Tables'!$K:$K),TRUE,TRUE) -> 'Lead Tables'!$A$2:$K$2 | AJ13: 0.1 | AK13: =COUNTIF(A:A,A13) -> 1 | AM13: =AL13*1.261 -> 0
A14: =$B14&" "&LEFT($C14,1)&"-"&TEXT(ROUND($I14,0),"00.0")&"x"&TEXT(ROUND($J14,0),"00.0") -> Hitano R-16.0x32.0 | B14: Hitano | C14: RADIAL | D14: 16x32 | E14: 0.5 | F14: 2 | G14: 0.3 | H14: 20.7 | I14: =VALUE(LEFT($D14,SEARCH("x",$D14)-1)) -> 16 | J14: =VALUE(RIGHT($D14,LEN($D14)-SEARCH("x",$D14))) -> 32 | K14: =1000*ROUNDUP($AD14/25.4,2) -> 300 | L14: =H14+5.6 -> 26.3 | M14: =INDEX(INDIRECT($AH14),3,MATCH($I14,INDIRECT($AI14),0)) -> 0.8 | N14: =IF($I14<8,0.12,IF($I14<10,0.15,0.2)) -> 0.2 | O14: =4.925363+(2.443075-4.925363)/(1+($I14/16.01491)^7.997158) -> 3.6795965 | P14: =10.44333+(1.945487-10.44333)/(1+($I14/34.36317)^4.867813) -> 2.1463665 | Q14: =rptMinUntilExtent -> 17 | R14: =rptNumberOfTimesOfLineNo -> 6 | S14: =rptUntilExtentThenFit -> 2 | T14: 1 | U14: 0 | V14: 0 | W14: 3 | X14: =W14 -> 3 | Y14: 8 | Z14: =IF(B14="Hitano",5,4) -> 5 | AA14: =IF(ROUND(5.509253+(1.199745-5.509253)/(1+($I14/16.61827)^13.04355),1)>3,3,ROUND(5.509253+(1.199745-5.509253)/(1+($I14/16.61827)^13.04355),1)) -> 2.8 | AB14: =AA14*1.5 -> 4.2 | AC14: =IF(AA14/1.949>0.7,0.7,AA14/1.949)/1.3 -> 0.53846154 | AD14: =INDEX(INDIRECT($AH14),2,MATCH($I14,INDIRECT($AI14),0)) -> 7.5 | AE14: =AA14/3 -> 0.93333333 | AF14: =K14/1000 * 25.4 -> 7.62 | AG14: =1+MATCH($B14,'Lead Tables'!$A:$A,0) -> 2 | AH14: =ADDRESS($AG14,1,TRUE,TRUE,"Lead Tables")&":"&ADDRESS($AG14+3,COLUMN('Lead Tables'!$K:$K),TRUE,TRUE) -> 'Lead Tables'!$A$2:$K$5 | AI14: =ADDRESS($AG14,1,TRUE,TRUE,"Lead Tables")&":"&ADDRESS($AG14,COLUMN('Lead Tables'!$K:$K),TRUE,TRUE) -> 'Lead Tables'!$A$2:$K$2 | AJ14: 0.1 | AK14: =COUNTIF(A:A,A14) -> 1 | AM14: =AL14*1.261 -> 0
A15: =$B15&" "&LEFT($C15,1)&"-"&TEXT(ROUND($I15,0),"00.0")&"x"&TEXT(ROUND($J15,0),"00.0") -> Hitano R-16.0x36.0 | B15: Hitano | C15: RADIAL | D15: 16x36 | E15: 0.5 | F15: 2 | G15: 0.3 | H15: 20.7 | I15: =VALUE(LEFT($D15,SEARCH("x",$D15)-1)) -> 16 | J15: =VALUE(RIGHT($D15,LEN($D15)-SEARCH("x",$D15))) -> 36 | K15: =1000*ROUNDUP($AD15/25.4,2) -> 300 | L15: =H15+5.6 -> 26.3 | M15: =INDEX(INDIRECT($AH15),3,MATCH($I15,INDIRECT($AI15),0)) -> 0.8 | N15: =IF($I15<8,0.12,IF($I15<10,0.15,0.2)) -> 0.2 | O15: =4.925363+(2.443075-4.925363)/(1+($I15/16.01491)^7.997158) -> 3.6795965 | P15: =10.44333+(1.945487-10.44333)/(1+($I15/34.36317)^4.867813) -> 2.1463665 | Q15: =rptMinUntilExtent -> 17 | R15: =rptNumberOfTimesOfLineNo -> 6 | S15: =rptUntilExtentThenFit -> 2 | T15: 1 | U15: 0 | V15: 0 | W15: 3 | X15: =W15 -> 3 | Y15: 8 | Z15: =IF(B15="Hitano",5,4) -> 5 | AA15: =IF(ROUND(5.509253+(1.199745-5.509253)/(1+($I15/16.61827)^13.04355),1)>3,3,ROUND(5.509253+(1.199745-5.509253)/(1+($I15/16.61827)^13.04355),1)) -> 2.8 | AB15: =AA15*1.5 -> 4.2 | AC15: =IF(AA15/1.949>0.7,0.7,AA15/1.949)/1.3 -> 0.53846154 | AD15: =INDEX(INDIRECT($AH15),2,MATCH($I15,INDIRECT($AI15),0)) -> 7.5 | AE15: =AA15/3 -> 0.93333333 | AF15: =K15/1000 * 25.4 -> 7.62 | AG15: =1+MATCH($B15,'Lead Tables'!$A:$A,0) -> 2 | AH15: =ADDRESS($AG15,1,TRUE,TRUE,"Lead Tables")&":"&ADDRESS($AG15+3,COLUMN('Lead Tables'!$K:$K),TRUE,TRUE) -> 'Lead Tables'!$A$2:$K$5 | AI15: =ADDRESS($AG15,1,TRUE,TRUE,"Lead Tables")&":"&ADDRESS($AG15,COLUMN('Lead Tables'!$K:$K),TRUE,TRUE) -> 'Lead Tables'!$A$2:$K$2 | AJ15: 0.1 | AK15: =COUNTIF(A:A,A15) -> 1 | AM15: =AL15*1.261 -> 0
A16: =$B16&" "&LEFT($C16,1)&"-"&TEXT(ROUND($I16,0),"00.0")&"x"&TEXT(ROUND($J16,0),"00.0") -> Hitano R-18.0x32.0 | B16: Hitano | C16: RADIAL | D16: 18x32 | E16: 0.5 | F16: 2 | G16: 0.3 | H16: 20.7 | I16: =VALUE(LEFT($D16,SEARCH("x",$D16)-1)) -> 18 | J16: =VALUE(RIGHT($D16,LEN($D16)-SEARCH("x",$D16))) -> 32 | K16: =1000*ROUNDUP($AD16/25.4,2) -> 300 | L16: =H16+5.6 -> 26.3 | M16: =INDEX(INDIRECT($AH16),3,MATCH($I16,INDIRECT($AI16),0)) -> 0.8 | N16: =IF($I16<8,0.12,IF($I16<10,0.15,0.2)) -> 0.2 | O16: =4.925363+(2.443075-4.925363)/(1+($I16/16.01491)^7.997158) -> 4.2253167 | P16: =10.44333+(1.945487-10.44333)/(1+($I16/34.36317)^4.867813) -> 2.2954807 | Q16: =rptMinUntilExtent -> 17 | R16: =rptNumberOfTimesOfLineNo -> 6 | S16: =rptUntilExtentThenFit -> 2 | T16: 1 | U16: 0 | V16: 0 | W16: 3 | X16: =W16 -> 3 | Y16: 8 | Z16: =IF(B16="Hitano",5,4) -> 5 | AA16: =IF(ROUND(5.509253+(1.199745-5.509253)/(1+($I16/16.61827)^13.04355),1)>3,3,ROUND(5.509253+(1.199745-5.509253)/(1+($I16/16.61827)^13.04355),1)) -> 3 | AB16: =AA16*1.5 -> 4.5 | AC16: =IF(AA16/1.949>0.7,0.7,AA16/1.949)/1.3 -> 0.53846154 | AD16: =INDEX(INDIRECT($AH16),2,MATCH($I16,INDIRECT($AI16),0)) -> 7.5 | AE16: =AA16/3 -> 1 | AF16: =K16/1000 * 25.4 -> 7.62 | AG16: =1+MATCH($B16,'Lead Tables'!$A:$A,0) -> 2 | AH16: =ADDRESS($AG16,1,TRUE,TRUE,"Lead Tables")&":"&ADDRESS($AG16+3,COLUMN('Lead Tables'!$K:$K),TRUE,TRUE) -> 'Lead Tables'!$A$2:$K$5 | AI16: =ADDRESS($AG16,1,TRUE,TRUE,"Lead Tables")&":"&ADDRESS($AG16,COLUMN('Lead Tables'!$K:$K),TRUE,TRUE) -> 'Lead Tables'!$A$2:$K$2 | AJ16: 0.1 | AK16: =COUNTIF(A:A,A16) -> 1 | AM16: =AL16*1.261 -> 0
A17: =$B17&" "&LEFT($C17,1)&"-"&TEXT(ROUND($I17,0),"00.0")&"x"&TEXT(ROUND($J17,0),"00.0") -> Hitano R-18.0x36.0 | B17: Hitano | C17: RADIAL | D17: 18x36 | E17: 0.5 | F17: 2 | G17: 0.3 | H17: 20.7 | I17: =VALUE(LEFT($D17,SEARCH("x",$D17)-1)) -> 18 | J17: =VALUE(RIGHT($D17,LEN($D17)-SEARCH("x",$D17))) -> 36 | K17: =1000*ROUNDUP($AD17/25.4,2) -> 300 | L17: =H17+5.6 -> 26.3 | M17: =INDEX(INDIRECT($AH17),3,MATCH($I17,INDIRECT($AI17),0)) -> 0.8 | N17: =IF($I17<8,0.12,IF($I17<10,0.15,0.2)) -> 0.2 | O17: =4.925363+(2.443075-4.925363)/(1+($I17/16.01491)^7.997158) -> 4.2253167 | P17: =10.44333+(1.945487-10.44333)/(1+($I17/34.36317)^4.867813) -> 2.2954807 | Q17: =rptMinUntilExtent -> 17 | R17: =rptNumberOfTimesOfLineNo -> 6 | S17: =rptUntilExtentThenFit -> 2 | T17: 1 | U17: 0 | V17: 0 | W17: 3 | X17: =W17 -> 3 | Y17: 8 | Z17: =IF(B17="Hitano",5,4) -> 5 | AA17: =IF(ROUND(5.509253+(1.199745-5.509253)/(1+($I17/16.61827)^13.04355),1)>3,3,ROUND(5.509253+(1.199745-5.509253)/(1+($I17/16.61827)^13.04355),1)) -> 3 | AB17: =AA17*1.5 -> 4.5 | AC17: =IF(AA17/1.949>0.7,0.7,AA17/1.949)/1.3 -> 0.53846154 | AD17: =INDEX(INDIRECT($AH17),2,MATCH($I17,INDIRECT($AI17),0)) -> 7.5 | AE17: =AA17/3 -> 1 | AF17: =K17/1000 * 25.4 -> 7.62 | AG17: =1+MATCH($B17,'Lead Tables'!$A:$A,0) -> 2 | AH17: =ADDRESS($AG17,1,TRUE,TRUE,"Lead Tables")&":"&ADDRESS($AG17+3,COLUMN('Lead Tables'!$K:$K),TRUE,TRUE) -> 'Lead Tables'!$A$2:$K$5 | AI17: =ADDRESS($AG17,1,TRUE,TRUE,"Lead Tables")&":"&ADDRESS($AG17,COLUMN('Lead Tables'!$K:$K),TRUE,TRUE) -> 'Lead Tables'!$A$2:$K$2 | AJ17: 0.1 | AK17: =COUNTIF(A:A,A17) -> 1 | AM17: =AL17*1.261 -> 0
A18: =$B18&" "&LEFT($C18,1)&"-"&TEXT(ROUND($I18,0),"00.0")&"x"&TEXT(ROUND($J18,0),"00.0") -> Hitano R-18.0x41.0 | B18: Hitano | C18: RADIAL | D18: 18x41 | E18: 0.5 | F18: 2 | G18: 0.3 | H18: 20.7 | I18: =VALUE(LEFT($D18,SEARCH("x",$D18)-1)) -> 18 | J18: =VALUE(RIGHT($D18,LEN($D18)-SEARCH("x",$D18))) -> 41 | K18: =1000*ROUNDUP($AD18/25.4,2) -> 300 | L18: =H18+5.6 -> 26.3 | M18: =INDEX(INDIRECT($AH18),3,MATCH($I18,INDIRECT($AI18),0)) -> 0.8 | N18: =IF($I18<8,0.12,IF($I18<10,0.15,0.2)) -> 0.2 | O18: =4.925363+(2.443075-4.925363)/(1+($I18/16.01491)^7.997158) -> 4.2253167 | P18: =10.44333+(1.945487-10.44333)/(1+($I18/34.36317)^4.867813) -> 2.2954807 | Q18: =rptMinUntilExtent -> 17 | R18: =rptNumberOfTimesOfLineNo -> 6 | S18: =rptUntilExtentThenFit -> 2 | T18: 1 | U18: 0 | V18: 0 | W18: 3 | X18: =W18 -> 3 | Y18: 8 | Z18: =IF(B18="Hitano",5,4) -> 5 | AA18: =IF(ROUND(5.509253+(1.199745-5.509253)/(1+($I18/16.61827)^13.04355),1)>3,3,ROUND(5.509253+(1.199745-5.509253)/(1+($I18/16.61827)^13.04355),1)) -> 3 | AB18: =AA18*1.5 -> 4.5 | AC18: =IF(AA18/1.949>0.7,0.7,AA18/1.949)/1.3 -> 0.53846154 | AD18: =INDEX(INDIRECT($AH18),2,MATCH($I18,INDIRECT($AI18),0)) -> 7.5 | AE18: =AA18/3 -> 1 | AF18: =K18/1000 * 25.4 -> 7.62 | AG18: =1+MATCH($B18,'Lead Tables'!$A:$A,0) -> 2 | AH18: =ADDRESS($AG18,1,TRUE,TRUE,"Lead Tables")&":"&ADDRESS($AG18+3,COLUMN('Lead Tables'!$K:$K),TRUE,TRUE) -> 'Lead Tables'!$A$2:$K$5 | AI18: =ADDRESS($AG18,1,TRUE,TRUE,"Lead Tables")&":"&ADDRESS($AG18,COLUMN('Lead Tables'!$K:$K),TRUE,TRUE) -> 'Lead Tables'!$A$2:$K$2 | AJ18: 0.1 | AK18: =COUNTIF(A:A,A18) -> 1 | AM18: =AL18*1.261 -> 0
A19: =$B19&" "&LEFT($C19,1)&"-"&TEXT(ROUND($I19,0),"00.0")&"x"&TEXT(ROUND($J19,0),"00.0") -> Hitano R-22.0x30.0 | B19: Hitano | C19: RADIAL | D19: 22x30 | E19: 0.5 | F19: 2 | G19: 0.3 | H19: 20.7 | I19: =VALUE(LEFT($D19,SEARCH("x",$D19)-1)) -> 22 | J19: =VALUE(RIGHT($D19,LEN($D19)-SEARCH("x",$D19))) -> 30 | K19: =1000*ROUNDUP($AD19/25.4,2) -> 400 | L19: =H19+5.6 -> 26.3 | M19: =INDEX(INDIRECT($AH19),3,MATCH($I19,INDIRECT($AI19),0)) -> 1 | N19: =IF($I19<8,0.12,IF($I19<10,0.15,0.2)) -> 0.2 | O19: =4.925363+(2.443075-4.925363)/(1+($I19/16.01491)^7.997158) -> 4.743783 | P19: =10.44333+(1.945487-10.44333)/(1+($I19/34.36317)^4.867813) -> 2.8157217 | Q19: =rptMinUntilExtent -> 17 | R19: =rptNumberOfTimesOfLineNo -> 6 | S19: =rptUntilExtentThenFit -> 2 | T19: 1 | U19: 0 | V19: 0 | W19: 3 | X19: =W19 -> 3 | Y19: 8 | Z19: =IF(B19="Hitano",5,4) -> 5 | AA19: =IF(ROUND(5.509253+(1.199745-5.509253)/(1+($I19/16.61827)^13.04355),1)>3,3,ROUND(5.509253+(1.199745-5.509253)/(1+($I19/16.61827)^13.04355),1)) -> 3 | AB19: =AA19*1.261 -> 3.783 | AC19: =IF(AA19/1.949>0.7,0.7,AA19/1.949)/1.3 -> 0.53846154 | AD19: =INDEX(INDIRECT($AH19),2,MATCH($I19,INDIRECT($AI19),0)) -> 10 | AE19: =AA19/3 -> 1 | AF19: =K19/1000 * 25.4 -> 10.16 | AG19: =1+MATCH($B19,'Lead Tables'!$A:$A,0) -> 2 | AH19: =ADDRESS($AG19,1,TRUE,TRUE,"Lead Tables")&":"&ADDRESS($AG19+3,COLUMN('Lead Tables'!$K:$K),TRUE,TRUE) -> 'Lead Tables'!$A$2:$K$5 | AI19: =ADDRESS($AG19,1,TRUE,TRUE,"Lead Tables")&":"&ADDRESS($AG19,COLUMN('Lead Tables'!$K:$K),TRUE,TRUE) -> 'Lead Tables'!$A$2:$K$2 | AJ19: 0.1 | AK19: =COUNTIF(A:A,A19) -> 1
A20: =$B20&" "&LEFT($C20,1)&"-"&TEXT(ROUND($I20,0),"00.0")&"x"&TEXT(ROUND($J20,0),"00.0") -> Hitano R-22.0x36.0 | B20: Hitano | C20: RADIAL | D20: 22x36 | E20: 0.5 | F20: 2 | G20: 0.3 | H20: 20.7 | I20: =VALUE(LEFT($D20,SEARCH("x",$D20)-1)) -> 22 | J20: =VALUE(RIGHT($D20,LEN($D20)-SEARCH("x",$D20))) -> 36 | K20: =1000*ROUNDUP($AD20/25.4,2) -> 400 | L20: =H20+5.6 -> 26.3 | M20: =INDEX(INDIRECT($AH20),3,MATCH($I20,INDIRECT($AI20),0)) -> 1 | N20: =IF($I20<8,0.12,IF($I20<10,0.15,0.2)) -> 0.2 | O20: =4.925363+(2.443075-4.925363)/(1+($I20/16.01491)^7.997158) -> 4.743783 | P20: =10.44333+(1.945487-10.44333)/(1+($I20/34.36317)^4.867813) -> 2.8157217 | Q20: =rptMinUntilExtent -> 17 | R20: =rptNumberOfTimesOfLineNo -> 6 | S20: =rptUntilExtentThenFit -> 2 | T20: 1 | U20: 0 | V20: 0 | W20: 3 | X20: =W20 -> 3 | Y20: 8 | Z20: =IF(B20="Hitano",5,4) -> 5 | AA20: =IF(ROUND(5.509253+(1.199745-5.509253)/(1+($I20/16.61827)^13.04355),1)>3,3,ROUND(5.509253+(1.199745-5.509253)/(1+($I20/16.61827)^13.04355),1)) -> 3 | AB20: =AA20*1.261 -> 3.783 | AC20: =IF(AA20/1.949>0.7,0.7,AA20/1.949)/1.3 -> 0.53846154 | AD20: =INDEX(INDIRECT($AH20),2,MATCH($I20,INDIRECT($AI20),0)) -> 10 | AE20: =AA20/3 -> 1 | AF20: =K20/1000 * 25.4 -> 10.16 | AG20: =1+MATCH($B20,'Lead Tables'!$A:$A,0) -> 2 | AH20: =ADDRESS($AG20,1,TRUE,TRUE,"Lead Tables")&":"&ADDRESS($AG20+3,COLUMN('Lead Tables'!$K:$K),TRUE,TRUE) -> 'Lead Tables'!$A$2:$K$5 | AI20: =ADDRESS($AG20,1,TRUE,TRUE,"Lead Tables")&":"&ADDRESS($AG20,COLUMN('Lead Tables'!$K:$K),TRUE,TRUE) -> 'Lead Tables'!$A$2:$K$2 | AJ20: 0.1 | AK20: =COUNTIF(A:A,A20) -> 1
A21: =$B21&" "&LEFT($C21,1)&"-"&TEXT(ROUND($I21,0),"00.0")&"x"&TEXT(ROUND($J21,0),"00.0") -> Hitano R-22.0x41.0 | B21: Hitano | C21: RADIAL | D21: 22x41 | E21: 0.5 | F21: 2 | G21: 0.3 | H21: 20.7 | I21: =VALUE(LEFT($D21,SEARCH("x",$D21)-1)) -> 22 | J21: =VALUE(RIGHT($D21,LEN($D21)-SEARCH("x",$D21))) -> 41 | K21: =1000*ROUNDUP($AD21/25.4,2) -> 400 | L21: =H21+5.6 -> 26.3 | M21: =INDEX(INDIRECT($AH21),3,MATCH($I21,INDIRECT($AI21),0)) -> 1 | N21: =IF($I21<8,0.12,IF($I21<10,0.15,0.2)) -> 0.2 | O21: =4.925363+(2.443075-4.925363)/(1+($I21/16.01491)^7.997158) -> 4.743783 | P21: =10.44333+(1.945487-10.44333)/(1+($I21/34.36317)^4.867813) -> 2.8157217 | Q21: =rptMinUntilExtent -> 17 | R21: =rptNumberOfTimesOfLineNo -> 6 | S21: =rptUntilExtentThenFit -> 2 | T21: 1 | U21: 0 | V21: 0 | W21: 3 | X21: =W21 -> 3 | Y21: 8 | Z21: =IF(B21="Hitano",5,4) -> 5 | AA21: =IF(ROUND(5.509253+(1.199745-5.509253)/(1+($I21/16.61827)^13.04355),1)>3,3,ROUND(5.509253+(1.199745-5.509253)/(1+($I21/16.61827)^13.04355),1)) -> 3 | AB21: =AA21*1.261 -> 3.783 | AC21: =IF(AA21/1.949>0.7,0.7,AA21/1.949)/1.3 -> 0.53846154 | AD21: =INDEX(INDIRECT($AH21),2,MATCH($I21,INDIRECT($AI21),0)) -> 10 | AE21: =AA21/3 -> 1 | AF21: =K21/1000 * 25.4 -> 10.16 | AG21: =1+MATCH($B21,'Lead Tables'!$A:$A,0) -> 2 | AH21: =ADDRESS($AG21,1,TRUE,TRUE,"Lead Tables")&":"&ADDRESS($AG21+3,COLUMN('Lead Tables'!$K:$K),TRUE,TRUE) -> 'Lead Tables'!$A$2:$K$5 | AI21: =ADDRESS($AG21,1,TRUE,TRUE,"Lead Tables")&":"&ADDRESS($AG21,COLUMN('Lead Tables'!$K:$K),TRUE,TRUE) -> 'Lead Tables'!$A$2:$K$2 | AJ21: 0.1 | AK21: =COUNTIF(A:A,A21) -> 1
A22: =$B22&" "&LEFT($C22,1)&"-"&TEXT(ROUND($I22,0),"00.0")&"x"&TEXT(ROUND($J22,0),"00.0") -> Hitano R-25.0x41.0 | B22: Hitano | C22: RADIAL | D22: 25x41 | E22: 0.5 | F22: 2 | G22: 0.3 | H22: 20.7 | I22: =VALUE(LEFT($D22,SEARCH("x",$D22)-1)) -> 25 | J22: =VALUE(RIGHT($D22,LEN($D22)-SEARCH("x",$D22))) -> 41 | K22: =1000*ROUNDUP($AD22/25.4,2) -> 500 | L22: =H22+5.6 -> 26.3 | M22: =INDEX(INDIRECT($AH22),3,MATCH($I22,INDIRECT($AI22),0)) -> 1 | N22: =IF($I22<8,0.12,IF($I22<10,0.15,0.2)) -> 0.2 | O22: =4.925363+(2.443075-4.925363)/(1+($I22/16.01491)^7.997158) -> 4.8568271 | P22: =10.44333+(1.945487-10.44333)/(1+($I22/34.36317)^4.867813) -> 3.4351874 | Q22: =rptMinUntilExtent -> 17 | R22: =rptNumberOfTimesOfLineNo -> 6 | S22: =rptUntilExtentThenFit -> 2 | T22: 1 | U22: 0 | V22: 0 | W22: 3 | X22: =W22 -> 3 | Y22: 8 | Z22: =IF(B22="Hitano",5,4) -> 5 | AA22: =IF(ROUND(5.509253+(1.199745-5.509253)/(1+($I22/16.61827)^13.04355),1)>3,3,ROUND(5.509253+(1.199745-5.509253)/(1+($I22/16.61827)^13.04355),1)) -> 3 | AB22: =AA22*1.261 -> 3.783 | AC22: =IF(AA22/1.949>0.7,0.7,AA22/1.949)/1.3 -> 0.53846154 | AD22: =INDEX(INDIRECT($AH22),2,MATCH($I22,INDIRECT($AI22),0)) -> 12.5 | AE22: =AA22/3 -> 1 | AF22: =K22/1000 * 25.4 -> 12.7 | AG22: =1+MATCH($B22,'Lead Tables'!$A:$A,0) -> 2 | AH22: =ADDRESS($AG22,1,TRUE,TRUE,"Lead Tables")&":"&ADDRESS($AG22+3,COLUMN('Lead Tables'!$K:$K),TRUE,TRUE) -> 'Lead Tables'!$A$2:$K$5 | AI22: =ADDRESS($AG22,1,TRUE,TRUE,"Lead Tables")&":"&ADDRESS($AG22,COLUMN('Lead Tables'!$K:$K),TRUE,TRUE) -> 'Lead Tables'!$A$2:$K$2 | AJ22: 0.1 | AK22: =COUNTIF(A:A,A22) -> 1
A23: =$B23&" "&LEFT($C23,1)&"-"&TEXT(ROUND($I23,0),"00.0")&"x"&TEXT(ROUND($J23,0),"00.0") -> Hitano R-25.0x50.0 | B23: Hitano | C23: RADIAL | D23: 25x50 | E23: 0.5 | F23: 2 | G23: 0.3 | H23: 20.7 | I23: =VALUE(LEFT($D23,SEARCH("x",$D23)-1)) -> 25 | J23: =VALUE(RIGHT($D23,LEN($D23)-SEARCH("x",$D23))) -> 50 | K23: =1000*ROUNDUP($AD23/25.4,2) -> 500 | L23: =H23+5.6 -> 26.3 | M23: =INDEX(INDIRECT($AH23),3,MATCH($I23,INDIRECT($AI23),0)) -> 1 | N23: =IF($I23<8,0.12,IF($I23<10,0.15,0.2)) -> 0.2 | O23: =4.925363+(2.443075-4.925363)/(1+($I23/16.01491)^7.997158) -> 4.8568271 | P23: =10.44333+(1.945487-10.44333)/(1+($I23/34.36317)^4.867813) -> 3.4351874 | Q23: =rptMinUntilExtent -> 17 | R23: =rptNumberOfTimesOfLineNo -> 6 | S23: =rptUntilExtentThenFit -> 2 | T23: 1 | U23: 0 | V23: 0 | W23: 3 | X23: =W23 -> 3 | Y23: 8 | Z23: =IF(B23="Hitano",5,4) -> 5 | AA23: =IF(ROUND(5.509253+(1.199745-5.509253)/(1+($I23/16.61827)^13.04355),1)>3,3,ROUND(5.509253+(1.199745-5.509253)/(1+($I23/16.61827)^13.04355),1)) -> 3 | AB23: =AA23*1.261 -> 3.783 | AC23: =IF(AA23/1.949>0.7,0.7,AA23/1.949)/1.3 -> 0.53846154 | AD23: =INDEX(INDIRECT($AH23),2,MATCH($I23,INDIRECT($AI23),0)) -> 12.5 | AE23: =AA23/3 -> 1 | AF23: =K23/1000 * 25.4 -> 12.7 | AG23: =1+MATCH($B23,'Lead Tables'!$A:$A,0) -> 2 | AH23: =ADDRESS($AG23,1,TRUE,TRUE,"Lead Tables")&":"&ADDRESS($AG23+3,COLUMN('Lead Tables'!$K:$K),TRUE,TRUE) -> 'Lead Tables'!$A$2:$K$5 | AI23: =ADDRESS($AG23,1,TRUE,TRUE,"Lead Tables")&":"&ADDRESS($AG23,COLUMN('Lead Tables'!$K:$K),TRUE,TRUE) -> 'Lead Tables'!$A$2:$K$2 | AJ23: 0.1 | AK23: =COUNTIF(A:A,A23) -> 1
A24: =$B24&" "&LEFT($C24,1)&"-"&TEXT(ROUND($I24,0),"00.0")&"x"&TEXT(ROUND($J24,0),"00.0") -> Jamicon R-05.0x11.0 | B24: Jamicon | C24: RADIAL | D24: 5x11 | E24: 0.5 | F24: 2 | G24: 0.3 | H24: 20.7 | I24: =VALUE(LEFT($D24,SEARCH("x",$D24)-1)) -> 5 | J24: =VALUE(RIGHT($D24,LEN($D24)-SEARCH("x",$D24))) -> 11 | K24: =1000*ROUNDUP($AD24/25.4,2) -> 80 | L24: =H24+5.6 -> 26.3 | M24: =INDEX(INDIRECT($AH24),3,MATCH($I24,INDIRECT($AI24),0)) -> 0.5 | N24: =IF($I24<8,0.12,IF($I24<10,0.15,0.2)) -> 0.12 | O24: 2 | P24: 1.5 | Q24: =rptMinUntilExtent -> 17 | R24: =rptNumberOfTimesOfLineNo -> 6 | S24: =rptUntilExtentThenFit -> 2 | T24: 1 | U24: 0 | V24: 0 | W24: 3 | X24: =W24 -> 3 | Y24: 8 | Z24: =IF(B24="Hitano",5,4) -> 4 | AA24: =IF(ROUND(5.509253+(1.199745-5.509253)/(1+($I24/16.61827)^13.04355),1)>3,3,ROUND(5.509253+(1.199745-5.509253)/(1+($I24/16.61827)^13.04355),1)) -> 1.2 | AB24: =AA24/1.727 -> 0.69484655 | AC24: =IF(AA24/1.949>0.7,0.7,AA24/1.949)/1.3 -> 0.47361566 | AD24: =INDEX(INDIRECT($AH24),2,MATCH($I24,INDIRECT($AI24),0)) -> 2 | AE24: =AA24/3 -> 0.4 | AF24: =K24/1000 * 25.4 -> 2.032 | AG24: =1+MATCH($B24,'Lead Tables'!$A:$A,0) -> 8 | AH24: =ADDRESS($AG24,1,TRUE,TRUE,"Lead Tables")&":"&ADDRESS($AG24+3,COLUMN('Lead Tables'!$K:$K),TRUE,TRUE) -> 'Lead Tables'!$A$8:$K$11 | AI24: =ADDRESS($AG24,1,TRUE,TRUE,"Lead Tables")&":"&ADDRESS($AG24,COLUMN('Lead Tables'!$K:$K),TRUE,TRUE) -> 'Lead Tables'!$A$8:$K$8 | AJ24: 0.1 | AK24: =COUNTIF(A:A,A24) -> 1
A25: =$B25&" "&LEFT($C25,1)&"-"&TEXT(ROUND($I25,0),"00.0")&"x"&TEXT(ROUND($J25,0),"00.0") -> Jamicon R-05.0x15.0 | B25: Jamicon | C25: RADIAL | D25: 5x15 | E25: 0.5 | F25: 2 | G25: 0.3 | H25: 20.7 | I25: =VALUE(LEFT($D25,SEARCH("x",$D25)-1)) -> 5 | J25: =VALUE(RIGHT($D25,LEN($D25)-SEARCH("x",$D25))) -> 15 | K25: =1000*ROUNDUP($AD25/25.4,2) -> 80 | L25: =H25+5.6 -> 26.3 | M25: =INDEX(INDIRECT($AH25),3,MATCH($I25,INDIRECT($AI25),0)) -> 0.5 | N25: =IF($I25<8,0.12,IF($I25<10,0.15,0.2)) -> 0.12 | O25: =4.925363+(2.443075-4.925363)/(1+($I25/16.01491)^7.997158) -> 2.4432998 | P25: =10.44333+(1.945487-10.44333)/(1+($I25/34.36317)^4.867813) -> 1.946202 | Q25: =rptMinUntilExtent -> 17 | R25: =rptNumberOfTimesOfLineNo -> 6 | S25: =rptUntilExtentThenFit -> 2 | T25: 1 | U25: 0 | V25: 0 | W25: 3 | X25: =W25 -> 3 | Y25: 8 | Z25: =IF(B25="Hitano",5,4) -> 4 | AA25: =IF(ROUND(5.509253+(1.199745-5.509253)/(1+($I25/16.61827)^13.04355),1)>3,3,ROUND(5.509253+(1.199745-5.509253)/(1+($I25/16.61827)^13.04355),1)) -> 1.2 | AB25: =AA25/1.727 -> 0.69484655 | AC25: =IF(AA25/1.949>0.7,0.7,AA25/1.949)/1.3 -> 0.47361566 | AD25: =INDEX(INDIRECT($AH25),2,MATCH($I25,INDIRECT($AI25),0)) -> 2 | AE25: =AA25/3 -> 0.4 | AF25: =K25/1000 * 25.4 -> 2.032 | AG25: =1+MATCH($B25,'Lead Tables'!$A:$A,0) -> 8 | AH25: =ADDRESS($AG25,1,TRUE,TRUE,"Lead Tables")&":"&ADDRESS($AG25+3,COLUMN('Lead Tables'!$K:$K),TRUE,TRUE) -> 'Lead Tables'!$A$8:$K$11 | AI25: =ADDRESS($AG25,1,TRUE,TRUE,"Lead Tables")&":"&ADDRESS($AG25,COLUMN('Lead Tables'!$K:$K),TRUE,TRUE) -> 'Lead Tables'!$A$8:$K$8 | AJ25: 0.1 | AK25: =COUNTIF(A:A,A25) -> 1
A26: =$B26&" "&LEFT($C26,1)&"-"&TEXT(ROUND($I26,0),"00.0")&"x"&TEXT(ROUND($J26,0),"00.0") -> Jamicon R-06.0x11.0 | B26: Jamicon | C26: RADIAL | D26: 6.3x11 | E26: 0.5 | F26: 2 | G26: 0.3 | H26: 20.7 | I26: =VALUE(LEFT($D26,SEARCH("x",$D26)-1)) -> 6.3 | J26: =VALUE(RIGHT($D26,LEN($D26)-SEARCH("x",$D26))) -> 11 | K26: =1000*ROUNDUP($AD26/25.4,2) -> 100 | L26: =H26+5.6 -> 26.3 | M26: =INDEX(INDIRECT($AH26),3,MATCH($I26,INDIRECT($AI26),0)) -> 0.5 | N26: =IF($I26<8,0.12,IF($I26<10,0.15,0.2)) -> 0.12 | O26: 2 | P26: 1.5 | Q26: =rptMinUntilExtent -> 17 | R26: =rptNumberOfTimesOfLineNo -> 6 | S26: =rptUntilExtentThenFit -> 2 | T26: 1 | U26: 0 | V26: 0 | W26: 3 | X26: =W26 -> 3 | Y26: 8 | Z26: =IF(B26="Hitano",5,4) -> 4 | AA26: =IF(ROUND(5.509253+(1.199745-5.509253)/(1+($I26/16.61827)^13.04355),1)>3,3,ROUND(5.509253+(1.199745-5.509253)/(1+($I26/16.61827)^13.04355),1)) -> 1.2 | AB26: =AA26/1.727 -> 0.69484655 | AC26: =IF(AA26/1.949>0.7,0.7,AA26/1.949)/1.3 -> 0.47361566 | AD26: =INDEX(INDIRECT($AH26),2,MATCH($I26,INDIRECT($AI26),0)) -> 2.5 | AE26: =AA26/3 -> 0.4 | AF26: =K26/1000 * 25.4 -> 2.54 | AG26: =1+MATCH($B26,'Lead Tables'!$A:$A,0) -> 8 | AH26: =ADDRESS($AG26,1,TRUE,TRUE,"Lead Tables")&":"&ADDRESS($AG26+3,COLUMN('Lead Tables'!$K:$K),TRUE,TRUE) -> 'Lead Tables'!$A$8:$K$11 | AI26: =ADDRESS($AG26,1,TRUE,TRUE,"Lead Tables")&":"&ADDRESS($AG26,COLUMN('Lead Tables'!$K:$K),TRUE,TRUE) -> 'Lead Tables'!$A$8:$K$8 | AJ26: 0.1 | AK26: =COUNTIF(A:A,A26) -> 1
A27: =$B27&" "&LEFT($C27,1)&"-"&TEXT(ROUND($I27,0),"00.0")&"x"&TEXT(ROUND($J27,0),"00.0") -> Jamicon R-06.0x15.0 | B27: Jamicon | C27: RADIAL | D27: 6.3x15 | E27: 0.5 | F27: 2 | G27: 0.3 | H27: 20.7 | I27: =VALUE(LEFT($D27,SEARCH("x",$D27)-1)) -> 6.3 | J27: =VALUE(RIGHT($D27,LEN($D27)-SEARCH("x",$D27))) -> 15 | K27: =1000*ROUNDUP($AD27/25.4,2) -> 100 | L27: =H27+5.6 -> 26.3 | M27: =INDEX(INDIRECT($AH27),3,MATCH($I27,INDIRECT($AI27),0)) -> 0.5 | N27: =IF($I27<8,0.12,IF($I27<10,0.15,0.2)) -> 0.12 | O27: =4.925363+(2.443075-4.925363)/(1+($I27/16.01491)^7.997158) -> 2.4445015 | P27: =10.44333+(1.945487-10.44333)/(1+($I27/34.36317)^4.867813) -> 1.947689 | Q27: =rptMinUntilExtent -> 17 | R27: =rptNumberOfTimesOfLineNo -> 6 | S27: =rptUntilExtentThenFit -> 2 | T27: 1 | U27: 0 | V27: 0 | W27: 3 | X27: =W27 -> 3 | Y27: 8 | Z27: =IF(B27="Hitano",5,4) -> 4 | AA27: =IF(ROUND(5.509253+(1.199745-5.509253)/(1+($I27/16.61827)^13.04355),1)>3,3,ROUND(5.509253+(1.199745-5.509253)/(1+($I27/16.61827)^13.04355),1)) -> 1.2 | AB27: =AA27/1.727 -> 0.69484655 | AC27: =IF(AA27/1.949>0.7,0.7,AA27/1.949)/1.3 -> 0.47361566 | AD27: =INDEX(INDIRECT($AH27),2,MATCH($I27,INDIRECT($AI27),0)) -> 2.5 | AE27: =AA27/3 -> 0.4 | AF27: =K27/1000 * 25.4 -> 2.54 | AG27: =1+MATCH($B27,'Lead Tables'!$A:$A,0) -> 8 | AH27: =ADDRESS($AG27,1,TRUE,TRUE,"Lead Tables")&":"&ADDRESS($AG27+3,COLUMN('Lead Tables'!$K:$K),TRUE,TRUE) -> 'Lead Tables'!$A$8:$K$11 | AI27: =ADDRESS($AG27,1,TRUE,TRUE,"Lead Tables")&":"&ADDRESS($AG27,COLUMN('Lead Tables'!$K:$K),TRUE,TRUE) -> 'Lead Tables'!$A$8:$K$8 | AJ27: 0.1 | AK27: =COUNTIF(A:A,A27) -> 1
A28: =$B28&" "&LEFT($C28,1)&"-"&TEXT(ROUND($I28,0),"00.0")&"x"&TEXT(ROUND($J28,0),"00.0") -> Jamicon R-08.0x12.0 | B28: Jamicon | C28: RADIAL | D28: 8x11.5 | E28: 0.5 | F28: 2 | G28: 0.3 | H28: 20.7 | I28: =VALUE(LEFT($D28,SEARCH("x",$D28)-1)) -> 8 | J28: =VALUE(RIGHT($D28,LEN($D28)-SEARCH("x",$D28))) -> 11.5 | K28: =1000*ROUNDUP($AD28/25.4,2) -> 140 | L28: =H28+5.6 -> 26.3 | M28: =INDEX(INDIRECT($AH28),3,MATCH($I28,INDIRECT($AI28),0)) -> 0.6 | N28: =IF($I28<8,0.12,IF($I28<10,0.15,0.2)) -> 0.15 | O28: 2 | P28: 1.5 | Q28: =rptMinUntilExtent -> 17 | R28: =rptNumberOfTimesOfLineNo -> 6 | S28: =rptUntilExtentThenFit -> 2 | T28: 1 | U28: 0 | V28: 0 | W28: 3 | X28: =W28 -> 3 | Y28: 8 | Z28: =IF(B28="Hitano",5,4) -> 4 | AA28: =IF(ROUND(5.509253+(1.199745-5.509253)/(1+($I28/16.61827)^13.04355),1)>3,3,ROUND(5.509253+(1.199745-5.509253)/(1+($I28/16.61827)^13.04355),1)) -> 1.2 | AB28: =AA28/1.727 -> 0.69484655 | AC28: =IF(AA28/1.949>0.7,0.7,AA28/1.949)/1.3 -> 0.47361566 | AD28: =INDEX(INDIRECT($AH28),2,MATCH($I28,INDIRECT($AI28),0)) -> 3.5 | AE28: =AA28/3 -> 0.4 | AF28: =K28/1000 * 25.4 -> 3.556 | AG28: =1+MATCH($B28,'Lead Tables'!$A:$A,0) -> 8 | AH28: =ADDRESS($AG28,1,TRUE,TRUE,"Lead Tables")&":"&ADDRESS($AG28+3,COLUMN('Lead Tables'!$K:$K),TRUE,TRUE) -> 'Lead Tables'!$A$8:$K$11 | AI28: =ADDRESS($AG28,1,TRUE,TRUE,"Lead Tables")&":"&ADDRESS($AG28,COLUMN('Lead Tables'!$K:$K),TRUE,TRUE) -> 'Lead Tables'!$A$8:$K$8 | AJ28: 0.1 | AK28: =COUNTIF(A:A,A28) -> 1
A29: =$B29&" "&LEFT($C29,1)&"-"&TEXT(ROUND($I29,0),"00.0")&"x"&TEXT(ROUND($J29,0),"00.0") -> Jamicon R-08.0x15.0 | B29: Jamicon | C29: RADIAL | D29: 8x15 | E29: 0.5 | F29: 2 | G29: 0.3 | H29: 20.7 | I29: =VALUE(LEFT($D29,SEARCH("x",$D29)-1)) -> 8 | J29: =VALUE(RIGHT($D29,LEN($D29)-SEARCH("x",$D29))) -> 15 | K29: =1000*ROUNDUP($AD29/25.4,2) -> 140 | L29: =H29+5.6 -> 26.3 | M29: =INDEX(INDIRECT($AH29),3,MATCH($I29,INDIRECT($AI29),0)) -> 0.6 | N29: =IF($I29<8,0.12,IF($I29<10,0.15,0.2)) -> 0.15 | O29: =4.925363+(2.443075-4.925363)/(1+($I29/16.01491)^7.997158) -> 2.4526811 | P29: =10.44333+(1.945487-10.44333)/(1+($I29/34.36317)^4.867813) -> 1.9525276 | Q29: =rptMinUntilExtent -> 17 | R29: =rptNumberOfTimesOfLineNo -> 6 | S29: =rptUntilExtentThenFit -> 2 | T29: 1 | U29: 0 | V29: 0 | W29: 3 | X29: =W29 -> 3 | Y29: 8 | Z29: =IF(B29="Hitano",5,4) -> 4 | AA29: =IF(ROUND(5.509253+(1.199745-5.509253)/(1+($I29/16.61827)^13.04355),1)>3,3,ROUND(5.509253+(1.199745-5.509253)/(1+($I29/16.61827)^13.04355),1)) -> 1.2 | AB29: =AA29/1.727 -> 0.69484655 | AC29: =IF(AA29/1.949>0.7,0.7,AA29/1.949)/1.3 -> 0.47361566 | AD29: =INDEX(INDIRECT($AH29),2,MATCH($I29,INDIRECT($AI29),0)) -> 3.5 | AE29: =AA29/3 -> 0.4 | AF29: =K29/1000 * 25.4 -> 3.556 | AG29: =1+MATCH($B29,'Lead Tables'!$A:$A,0) -> 8 | AH29: =ADDRESS($AG29,1,TRUE,TRUE,"Lead Tables")&":"&ADDRESS($AG29+3,COLUMN('Lead Tables'!$K:$K),TRUE,TRUE) -> 'Lead Tables'!$A$8:$K$11 | AI29: =ADDRESS($AG29,1,TRUE,TRUE,"Lead Tables")&":"&ADDRESS($AG29,COLUMN('Lead Tables'!$K:$K),TRUE,TRUE) -> 'Lead Tables'!$A$8:$K$8 | AJ29: 0.1 | AK29: =COUNTIF(A:A,A29) -> 1
A30: =$B30&" "&LEFT($C30,1)&"-"&TEXT(ROUND($I30,0),"00.0")&"x"&TEXT(ROUND($J30,0),"00.0") -> Jamicon R-08.0x20.0 | B30: Jamicon | C30: RADIAL | D30: 8x20 | E30: 0.5 | F30: 2 | G30: 0.3 | H30: 20.7 | I30: =VALUE(LEFT($D30,SEARCH("x",$D30)-1)) -> 8 | J30: =VALUE(RIGHT($D30,LEN($D30)-SEARCH("x",$D30))) -> 20 | K30: =1000*ROUNDUP($AD30/25.4,2) -> 140 | L30: =H30+5.6 -> 26.3 | M30: =INDEX(INDIRECT($AH30),3,MATCH($I30,INDIRECT($AI30),0)) -> 0.6 | N30: =IF($I30<8,0.12,IF($I30<10,0.15,0.2)) -> 0.15 | O30: =4.925363+(2.443075-4.925363)/(1+($I30/16.01491)^7.997158) -> 2.4526811 | P30: =10.44333+(1.945487-10.44333)/(1+($I30/34.36317)^4.867813) -> 1.9525276 | Q30: =rptMinUntilExtent -> 17 | R30: =rptNumberOfTimesOfLineNo -> 6 | S30: =rptUntilExtentThenFit -> 2 | T30: 1 | U30: 0 | V30: 0 | W30: 3 | X30: =W30 -> 3 | Y30: 8 | Z30: =IF(B30="Hitano",5,4) -> 4 | AA30: =IF(ROUND(5.509253+(1.199745-5.509253)/(1+($I30/16.61827)^13.04355),1)>3,3,ROUND(5.509253+(1.199745-5.509253)/(1+($I30/16.61827)^13.04355),1)) -> 1.2 | AB30: =AA30/1.727 -> 0.69484655 | AC30: =IF(AA30/1.949>0.7,0.7,AA30/1.949)/1.3 -> 0.47361566 | AD30: =INDEX(INDIRECT($AH30),2,MATCH($I30,INDIRECT($AI30),0)) -> 3.5 | AE30: =AA30/3 -> 0.4 | AF30: =K30/1000 * 25.4 -> 3.556 | AG30: =1+MATCH($B30,'Lead Tables'!$A:$A,0) -> 8 | AH30: =ADDRESS($AG30,1,TRUE,TRUE,"Lead Tables")&":"&ADDRESS($AG30+3,COLUMN('Lead Tables'!$K:$K),TRUE,TRUE) -> 'Lead Tables'!$A$8:$K$11 | AI30: =ADDRESS($AG30,1,TRUE,TRUE,"Lead Tables")&":"&ADDRESS($AG30,COLUMN('Lead Tables'!$K:$K),TRUE,TRUE) -> 'Lead Tables'!$A$8:$K$8 | AJ30: 0.1 | AK30: =COUNTIF(A:A,A30) -> 1
A31: =$B31&" "&LEFT($C31,1)&"-"&TEXT(ROUND($I31,0),"00.0")&"x"&TEXT(ROUND($J31,0),"00.0") -> Jamicon R-10.0x13.0 | B31: Jamicon | C31: RADIAL | D31: 10x12.5 | E31: 0.5 | F31: 2 | G31: 0.3 | H31: 20.7 | I31: =VALUE(LEFT($D31,SEARCH("x",$D31)-1)) -> 10 | J31: =VALUE(RIGHT($D31,LEN($D31)-SEARCH("x",$D31))) -> 12.5 | K31: =1000*ROUNDUP($AD31/25.4,2) -> 200 | L31: =H31+5.6 -> 26.3 | M31: =INDEX(INDIRECT($AH31),3,MATCH($I31,INDIRECT($AI31),0)) -> 0.6 | N31: =IF($I31<8,0.12,IF($I31<10,0.15,0.2)) -> 0.2 | O31: =4.925363+(2.443075-4.925363)/(1+($I31/16.01491)^7.997158) -> 2.4992188 | P31: =10.44333+(1.945487-10.44333)/(1+($I31/34.36317)^4.867813) -> 1.9663147 | Q31: =rptMinUntilExtent -> 17 | R31: =rptNumberOfTimesOfLineNo -> 6 | S31: =rptUntilExtentThenFit -> 2 | T31: 1 | U31: 0 | V31: 0 | W31: 3 | X31: =W31 -> 3 | Y31: 8 | Z31: =IF(B31="Hitano",5,4) -> 4 | AA31: =IF(ROUND(5.509253+(1.199745-5.509253)/(1+($I31/16.61827)^13.04355),1)>3,3,ROUND(5.509253+(1.199745-5.509253)/(1+($I31/16.61827)^13.04355),1)) -> 1.2 | AB31: =AA31/1.727 -> 0.69484655 | AC31: =IF(AA31/1.949>0.7,0.7,AA31/1.949)/1.3 -> 0.47361566 | AD31: =INDEX(INDIRECT($AH31),2,MATCH($I31,INDIRECT($AI31),0)) -> 5 | AE31: =AA31/3 -> 0.4 | AF31: =K31/1000 * 25.4 -> 5.08 | AG31: =1+MATCH($B31,'Lead Tables'!$A:$A,0) -> 8 | AH31: =ADDRESS($AG31,1,TRUE,TRUE,"Lead Tables")&":"&ADDRESS($AG31+3,COLUMN('Lead Tables'!$K:$K),TRUE,TRUE) -> 'Lead Tables'!$A$8:$K$11 | AI31: =ADDRESS($AG31,1,TRUE,TRUE,"Lead Tables")&":"&ADDRESS($AG31,COLUMN('Lead Tables'!$K:$K),TRUE,TRUE) -> 'Lead Tables'!$A$8:$K$8 | AJ31: 0.1 | AK31: =COUNTIF(A:A,A31) -> 1
A32: =$B32&" "&LEFT($C32,1)&"-"&TEXT(ROUND($I32,0),"00.0")&"x"&TEXT(ROUND($J32,0),"00.0") -> Jamicon R-10.0x16.0 | B32: Jamicon | C32: RADIAL | D32: 10x16 | E32: 0.5 | F32: 2 | G32: 0.3 | H32: 20.7 | I32: =VALUE(LEFT($D32,SEARCH("x",$D32)-1)) -> 10 | J32: =VALUE(RIGHT($D32,LEN($D32)-SEARCH("x",$D32))) -> 16 | K32: =1000*ROUNDUP($AD32/25.4,2) -> 200 | L32: =H32+5.6 -> 26.3 | M32: =INDEX(INDIRECT($AH32),3,MATCH($I32,INDIRECT($AI32),0)) -> 0.6 | N32: =IF($I32<8,0.12,IF($I32<10,0.15,0.2)) -> 0.2 | O32: =4.925363+(2.443075-4.925363)/(1+($I32/16.01491)^7.997158) -> 2.4992188 | P32: =10.44333+(1.945487-10.44333)/(1+($I32/34.36317)^4.867813) -> 1.9663147 | Q32: =rptMinUntilExtent -> 17 | R32: =rptNumberOfTimesOfLineNo -> 6 | S32: =rptUntilExtentThenFit -> 2 | T32: 1 | U32: 0 | V32: 0 | W32: 3 | X32: =W32 -> 3 | Y32: 8 | Z32: =IF(B32="Hitano",5,4) -> 4 | AA32: =IF(ROUND(5.509253+(1.199745-5.509253)/(1+($I32/16.61827)^13.04355),1)>3,3,ROUND(5.509253+(1.199745-5.509253)/(1+($I32/16.61827)^13.04355),1)) -> 1.2 | AB32: =AA32/1.727 -> 0.69484655 | AC32: =IF(AA32/1.949>0.7,0.7,AA32/1.949)/1.3 -> 0.47361566 | AD32: =INDEX(INDIRECT($AH32),2,MATCH($I32,INDIRECT($AI32),0)) -> 5 | AE32: =AA32/3 -> 0.4 | AF32: =K32/1000 * 25.4 -> 5.08 | AG32: =1+MATCH($B32,'Lead Tables'!$A:$A,0) -> 8 | AH32: =ADDRESS($AG32,1,TRUE,TRUE,"Lead Tables")&":"&ADDRESS($AG32+3,COLUMN('Lead Tables'!$K:$K),TRUE,TRUE) -> 'Lead Tables'!$A$8:$K$11 | AI32: =ADDRESS($AG32,1,TRUE,TRUE,"Lead Tables")&":"&ADDRESS($AG32,COLUMN('Lead Tables'!$K:$K),TRUE,TRUE) -> 'Lead Tables'!$A$8:$K$8 | AJ32: 0.1 | AK32: =COUNTIF(A:A,A32) -> 1
A33: =$B33&" "&LEFT($C33,1)&"-"&TEXT(ROUND($I33,0),"00.0")&"x"&TEXT(ROUND($J33,0),"00.0") -> Jamicon R-10.0x18.0 | B33: Jamicon | C33: RADIAL | D33: 10x18 | E33: 0.5 | F33: 2 | G33: 0.3 | H33: 20.7 | I33: =VALUE(LEFT($D33,SEARCH("x",$D33)-1)) -> 10 | J33: =VALUE(RIGHT($D33,LEN($D33)-SEARCH("x",$D33))) -> 18 | K33: =1000*ROUNDUP($AD33/25.4,2) -> 200 | L33: =H33+5.6 -> 26.3 | M33: =INDEX(INDIRECT($AH33),3,MATCH($I33,INDIRECT($AI33),0)) -> 0.6 | N33: =IF($I33<8,0.12,IF($I33<10,0.15,0.2)) -> 0.2 | O33: =4.925363+(2.443075-4.925363)/(1+($I33/16.01491)^7.997158) -> 2.4992188 | P33: =10.44333+(1.945487-10.44333)/(1+($I33/34.36317)^4.867813) -> 1.9663147 | Q33: =rptMinUntilExtent -> 17 | R33: =rptNumberOfTimesOfLineNo -> 6 | S33: =rptUntilExtentThenFit -> 2 | T33: 1 | U33: 0 | V33: 0 | W33: 3 | X33: =W33 -> 3 | Y33: 8 | Z33: =IF(B33="Hitano",5,4) -> 4 | AA33: =IF(ROUND(5.509253+(1.199745-5.509253)/(1+($I33/16.61827)^13.04355),1)>3,3,ROUND(5.509253+(1.199745-5.509253)/(1+($I33/16.61827)^13.04355),1)) -> 1.2 | AB33: =AA33/1.727 -> 0.69484655 | AC33: =IF(AA33/1.949>0.7,0.7,AA33/1.949)/1.3 -> 0.47361566 | AD33: =INDEX(INDIRECT($AH33),2,MATCH($I33,INDIRECT($AI33),0)) -> 5 | AE33: =AA33/3 -> 0.4 | AF33: =K33/1000 * 25.4 -> 5.08 | AG33: =1+MATCH($B33,'Lead Tables'!$A:$A,0) -> 8 | AH33: =ADDRESS($AG33,1,TRUE,TRUE,"Lead Tables")&":"&ADDRESS($AG33+3,COLUMN('Lead Tables'!$K:$K),TRUE,TRUE) -> 'Lead Tables'!$A$8:$K$11 | AI33: =ADDRESS($AG33,1,TRUE,TRUE,"Lead Tables")&":"&ADDRESS($AG33,COLUMN('Lead Tables'!$K:$K),TRUE,TRUE) -> 'Lead Tables'!$A$8:$K$8 | AJ33: 0.1 | AK33: =COUNTIF(A:A,A33) -> 1
A34: =$B34&" "&LEFT($C34,1)&"-"&TEXT(ROUND($I34,0),"00.0")&"x"&TEXT(ROUND($J34,0),"00.0") -> Jamicon R-10.0x20.0 | B34: Jamicon | C34: RADIAL | D34: 10x20 | E34: 0.5 | F34: 2 | G34: 0.3 | H34: 20.7 | I34: =VALUE(LEFT($D34,SEARCH("x",$D34)-1)) -> 10 | J34: =VALUE(RIGHT($D34,LEN($D34)-SEARCH("x",$D34))) -> 20 | K34: =1000*ROUNDUP($AD34/25.4,2) -> 200 | L34: =H34+5.6 -> 26.3 | M34: =INDEX(INDIRECT($AH34),3,MATCH($I34,INDIRECT($AI34),0)) -> 0.6 | N34: =IF($I34<8,0.12,IF($I34<10,0.15,0.2)) -> 0.2 | O34: =4.925363+(2.443075-4.925363)/(1+($I34/16.01491)^7.997158) -> 2.4992188 | P34: =10.44333+(1.945487-10.44333)/(1+($I34/34.36317)^4.867813) -> 1.9663147 | Q34: =rptMinUntilExtent -> 17 | R34: =rptNumberOfTimesOfLineNo -> 6 | S34: =rptUntilExtentThenFit -> 2 | T34: 1 | U34: 0 | V34: 0 | W34: 3 | X34: =W34 -> 3 | Y34: 8 | Z34: =IF(B34="Hitano",5,4) -> 4 | AA34: =IF(ROUND(5.509253+(1.199745-5.509253)/(1+($I34/16.61827)^13.04355),1)>3,3,ROUND(5.509253+(1.199745-5.509253)/(1+($I34/16.61827)^13.04355),1)) -> 1.2 | AB34: =AA34/1.727 -> 0.69484655 | AC34: =IF(AA34/1.949>0.7,0.7,AA34/1.949)/1.3 -> 0.47361566 | AD34: =INDEX(INDIRECT($AH34),2,MATCH($I34,INDIRECT($AI34),0)) -> 5 | AE34: =AA34/3 -> 0.4 | AF34: =K34/1000 * 25.4 -> 5.08 | AG34: =1+MATCH($B34,'Lead Tables'!$A:$A,0) -> 8 | AH34: =ADDRESS($AG34,1,TRUE,TRUE,"Lead Tables")&":"&ADDRESS($AG34+3,COLUMN('Lead Tables'!$K:$K),TRUE,TRUE) -> 'Lead Tables'!$A$8:$K$11 | AI34: =ADDRESS($AG34,1,TRUE,TRUE,"Lead Tables")&":"&ADDRESS($AG34,COLUMN('Lead Tables'!$K:$K),TRUE,TRUE) -> 'Lead Tables'!$A$8:$K$8 | AJ34: 0.1 | AK34: =COUNTIF(A:A,A34) -> 1
A35: =$B35&" "&LEFT($C35,1)&"-"&TEXT(ROUND($I35,0),"00.0")&"x"&TEXT(ROUND($J35,0),"00.0") -> Jamicon R-10.0x25.0 | B35: Jamicon | C35: RADIAL | D35: 10x25 | E35: 0.5 | F35: 2 | G35: 0.3 | H35: 20.7 | I35: =VALUE(LEFT($D35,SEARCH("x",$D35)-1)) -> 10 | J35: =VALUE(RIGHT($D35,LEN($D35)-SEARCH("x",$D35))) -> 25 | K35: =1000*ROUNDUP($AD35/25.4,2) -> 200 | L35: =H35+5.6 -> 26.3 | M35: =INDEX(INDIRECT($AH35),3,MATCH($I35,INDIRECT($AI35),0)) -> 0.6 | N35: =IF($I35<8,0.12,IF($I35<10,0.15,0.2)) -> 0.2 | O35: =4.925363+(2.443075-4.925363)/(1+($I35/16.01491)^7.997158) -> 2.4992188 | P35: =10.44333+(1.945487-10.44333)/(1+($I35/34.36317)^4.867813) -> 1.9663147 | Q35: =rptMinUntilExtent -> 17 | R35: =rptNumberOfTimesOfLineNo -> 6 | S35: =rptUntilExtentThenFit -> 2 | T35: 1 | U35: 0 | V35: 0 | W35: 3 | X35: =W35 -> 3 | Y35: 8 | Z35: =IF(B35="Hitano",5,4) -> 4 | AA35: =IF(ROUND(5.509253+(1.199745-5.509253)/(1+($I35/16.61827)^13.04355),1)>3,3,ROUND(5.509253+(1.199745-5.509253)/(1+($I35/16.61827)^13.04355),1)) -> 1.2 | AB35: =AA35/1.727 -> 0.69484655 | AC35: =IF(AA35/1.949>0.7,0.7,AA35/1.949)/1.3 -> 0.47361566 | AD35: =INDEX(INDIRECT($AH35),2,MATCH($I35,INDIRECT($AI35),0)) -> 5 | AE35: =AA35/3 -> 0.4 | AF35: =K35/1000 * 25.4 -> 5.08 | AG35: =1+MATCH($B35,'Lead Tables'!$A:$A,0) -> 8 | AH35: =ADDRESS($AG35,1,TRUE,TRUE,"Lead Tables")&":"&ADDRESS($AG35+3,COLUMN('Lead Tables'!$K:$K),TRUE,TRUE) -> 'Lead Tables'!$A$8:$K$11 | AI35: =ADDRESS($AG35,1,TRUE,TRUE,"Lead Tables")&":"&ADDRESS($AG35,COLUMN('Lead Tables'!$K:$K),TRUE,TRUE) -> 'Lead Tables'!$A$8:$K$8 | AJ35: 0.1 | AK35: =COUNTIF(A:A,A35) -> 1
A36: =$B36&" "&LEFT($C36,1)&"-"&TEXT(ROUND($I36,0),"00.0")&"x"&TEXT(ROUND($J36,0),"00.0") -> Jamicon R-10.0x28.0 | B36: Jamicon | C36: RADIAL | D36: 10x28 | E36: 0.5 | F36: 2 | G36: 0.3 | H36: 20.7 | I36: =VALUE(LEFT($D36,SEARCH("x",$D36)-1)) -> 10 | J36: =VALUE(RIGHT($D36,LEN($D36)-SEARCH("x",$D36))) -> 28 | K36: =1000*ROUNDUP($AD36/25.4,2) -> 200 | L36: =H36+5.6 -> 26.3 | M36: =INDEX(INDIRECT($AH36),3,MATCH($I36,INDIRECT($AI36),0)) -> 0.6 | N36: =IF($I36<8,0.12,IF($I36<10,0.15,0.2)) -> 0.2 | O36: =4.925363+(2.443075-4.925363)/(1+($I36/16.01491)^7.997158) -> 2.4992188 | P36: =10.44333+(1.945487-10.44333)/(1+($I36/34.36317)^4.867813) -> 1.9663147 | Q36: =rptMinUntilExtent -> 17 | R36: =rptNumberOfTimesOfLineNo -> 6 | S36: =rptUntilExtentThenFit -> 2 | T36: 1 | U36: 0 | V36: 0 | W36: 3 | X36: =W36 -> 3 | Y36: 8 | Z36: =IF(B36="Hitano",5,4) -> 4 | AA36: =IF(ROUND(5.509253+(1.199745-5.509253)/(1+($I36/16.61827)^13.04355),1)>3,3,ROUND(5.509253+(1.199745-5.509253)/(1+($I36/16.61827)^13.04355),1)) -> 1.2 | AB36: =AA36/1.727 -> 0.69484655 | AC36: =IF(AA36/1.949>0.7,0.7,AA36/1.949)/1.3 -> 0.47361566 | AD36: =INDEX(INDIRECT($AH36),2,MATCH($I36,INDIRECT($AI36),0)) -> 5 | AE36: =AA36/3 -> 0.4 | AF36: =K36/1000 * 25.4 -> 5.08 | AG36: =1+MATCH($B36,'Lead Tables'!$A:$A,0) -> 8 | AH36: =ADDRESS($AG36,1,TRUE,TRUE,"Lead Tables")&":"&ADDRESS($AG36+3,COLUMN('Lead Tables'!$K:$K),TRUE,TRUE) -> 'Lead Tables'!$A$8:$K$11 | AI36: =ADDRESS($AG36,1,TRUE,TRUE,"Lead Tables")&":"&ADDRESS($AG36,COLUMN('Lead Tables'!$K:$K),TRUE,TRUE) -> 'Lead Tables'!$A$8:$K$8 | AJ36: 0.1 | AK36: =COUNTIF(A:A,A36) -> 1
A37: =$B37&" "&LEFT($C37,1)&"-"&TEXT(ROUND($I37,0),"00.0")&"x"&TEXT(ROUND($J37,0),"00.0") -> Jamicon R-10.0x30.0 | B37: Jamicon | C37: RADIAL | D37: 10x30 | E37: 0.5 | F37: 2 | G37: 0.3 | H37: 20.7 | I37: =VALUE(LEFT($D37,SEARCH("x",$D37)-1)) -> 10 | J37: =VALUE(RIGHT($D37,LEN($D37)-SEARCH("x",$D37))) -> 30 | K37: =1000*ROUNDUP($AD37/25.4,2) -> 200 | L37: =H37+5.6 -> 26.3 | M37: =INDEX(INDIRECT($AH37),3,MATCH($I37,INDIRECT($AI37),0)) -> 0.6 | N37: =IF($I37<8,0.12,IF($I37<10,0.15,0.2)) -> 0.2 | O37: =4.925363+(2.443075-4.925363)/(1+($I37/16.01491)^7.997158) -> 2.4992188 | P37: =10.44333+(1.945487-10.44333)/(1+($I37/34.36317)^4.867813) -> 1.9663147 | Q37: =rptMinUntilExtent -> 17 | R37: =rptNumberOfTimesOfLineNo -> 6 | S37: =rptUntilExtentThenFit -> 2 | T37: 1 | U37: 0 | V37: 0 | W37: 3 | X37: =W37 -> 3 | Y37: 8 | Z37: =IF(B37="Hitano",5,4) -> 4 | AA37: =IF(ROUND(5.509253+(1.199745-5.509253)/(1+($I37/16.61827)^13.04355),1)>3,3,ROUND(5.509253+(1.199745-5.509253)/(1+($I37/16.61827)^13.04355),1)) -> 1.2 | AB37: =AA37/1.727 -> 0.69484655 | AC37: =IF(AA37/1.949>0.7,0.7,AA37/1.949)/1.3 -> 0.47361566 | AD37: =INDEX(INDIRECT($AH37),2,MATCH($I37,INDIRECT($AI37),0)) -> 5 | AE37: =AA37/3 -> 0.4 | AF37: =K37/1000 * 25.4 -> 5.08 | AG37: =1+MATCH($B37,'Lead Tables'!$A:$A,0) -> 8 | AH37: =ADDRESS($AG37,1,TRUE,TRUE,"Lead Tables")&":"&ADDRESS($AG37+3,COLUMN('Lead Tables'!$K:$K),TRUE,TRUE) -> 'Lead Tables'!$A$8:$K$11 | AI37: =ADDRESS($AG37,1,TRUE,TRUE,"Lead Tables")&":"&ADDRESS($AG37,COLUMN('Lead Tables'!$K:$K),TRUE,TRUE) -> 'Lead Tables'!$A$8:$K$8 | AJ37: 0.1 | AK37: =COUNTIF(A:A,A37) -> 1
A38: =$B38&" "&LEFT($C38,1)&"-"&TEXT(ROUND($I38,0),"00.0")&"x"&TEXT(ROUND($J38,0),"00.0") -> Jamicon R-13.0x15.0 | B38: Jamicon | C38: RADIAL | D38: 12.5x15 | E38: 0.5 | F38: 2 | G38: 0.3 | H38: 20.7 | I38: =VALUE(LEFT($D38,SEARCH("x",$D38)-1)) -> 12.5 | J38: =VALUE(RIGHT($D38,LEN($D38)-SEARCH("x",$D38))) -> 15 | K38: =1000*ROUNDUP($AD38/25.4,2) -> 200 | L38: =H38+5.6 -> 26.3 | M38: =INDEX(INDIRECT($AH38),3,MATCH($I38,INDIRECT($AI38),0)) -> 0.6 | N38: =IF($I38<8,0.12,IF($I38<10,0.15,0.2)) -> 0.2 | O38: =4.925363+(2.443075-4.925363)/(1+($I38/16.01491)^7.997158) -> 2.7437928 | P38: =10.44333+(1.945487-10.44333)/(1+($I38/34.36317)^4.867813) -> 2.0069051 | Q38: =rptMinUntilExtent -> 17 | R38: =rptNumberOfTimesOfLineNo -> 6 | S38: =rptUntilExtentThenFit -> 2 | T38: 1 | U38: 0 | V38: 0 | W38: 3 | X38: =W38 -> 3 | Y38: 8 | Z38: =IF(B38="Hitano",5,4) -> 4 | AA38: =IF(ROUND(5.509253+(1.199745-5.509253)/(1+($I38/16.61827)^13.04355),1)>3,3,ROUND(5.509253+(1.199745-5.509253)/(1+($I38/16.61827)^13.04355),1)) -> 1.3 | AB38: =AA38/1.727 -> 0.75275043 | AC38: =IF(AA38/1.949>0.7,0.7,AA38/1.949)/1.3 -> 0.51308363 | AD38: =INDEX(INDIRECT($AH38),2,MATCH($I38,INDIRECT($AI38),0)) -> 5 | AE38: =AA38/3 -> 0.43333333 | AF38: =K38/1000 * 25.4 -> 5.08 | AG38: =1+MATCH($B38,'Lead Tables'!$A:$A,0) -> 8 | AH38: =ADDRESS($AG38,1,TRUE,TRUE,"Lead Tables")&":"&ADDRESS($AG38+3,COLUMN('Lead Tables'!$K:$K),TRUE,TRUE) -> 'Lead Tables'!$A$8:$K$11 | AI38: =ADDRESS($AG38,1,TRUE,TRUE,"Lead Tables")&":"&ADDRESS($AG38,COLUMN('Lead Tables'!$K:$K),TRUE,TRUE) -> 'Lead Tables'!$A$8:$K$8 | AJ38: 0.1 | AK38: =COUNTIF(A:A,A38) -> 1
A39: =$B39&" "&LEFT($C39,1)&"-"&TEXT(ROUND($I39,0),"00.0")&"x"&TEXT(ROUND($J39,0),"00.0") -> Jamicon R-13.0x18.0 | B39: Jamicon | C39: RADIAL | D39: 12.5x18 | E39: 0.5 | F39: 2 | G39: 0.3 | H39: 20.7 | I39: =VALUE(LEFT($D39,SEARCH("x",$D39)-1)) -> 12.5 | J39: =VALUE(RIGHT($D39,LEN($D39)-SEARCH("x",$D39))) -> 18 | K39: =1000*ROUNDUP($AD39/25.4,2) -> 200 | L39: =H39+5.6 -> 26.3 | M39: =INDEX(INDIRECT($AH39),3,MATCH($I39,INDIRECT($AI39),0)) -> 0.6 | N39: =IF($I39<8,0.12,IF($I39<10,0.15,0.2)) -> 0.2 | O39: =4.925363+(2.443075-4.925363)/(1+($I39/16.01491)^7.997158) -> 2.7437928 | P39: =10.44333+(1.945487-10.44333)/(1+($I39/34.36317)^4.867813) -> 2.0069051 | Q39: =rptMinUntilExtent -> 17 | R39: =rptNumberOfTimesOfLineNo -> 6 | S39: =rptUntilExtentThenFit -> 2 | T39: 1 | U39: 0 | V39: 0 | W39: 3 | X39: =W39 -> 3 | Y39: 8 | Z39: =IF(B39="Hitano",5,4) -> 4 | AA39: =IF(ROUND(5.509253+(1.199745-5.509253)/(1+($I39/16.61827)^13.04355),1)>3,3,ROUND(5.509253+(1.199745-5.509253)/(1+($I39/16.61827)^13.04355),1)) -> 1.3 | AB39: =AA39/1.727 -> 0.75275043 | AC39: =IF(AA39/1.949>0.7,0.7,AA39/1.949)/1.3 -> 0.51308363 | AD39: =INDEX(INDIRECT($AH39),2,MATCH($I39,INDIRECT($AI39),0)) -> 5 | AE39: =AA39/3 -> 0.43333333 | AF39: =K39/1000 * 25.4 -> 5.08 | AG39: =1+MATCH($B39,'Lead Tables'!$A:$A,0) -> 8 | AH39: =ADDRESS($AG39,1,TRUE,TRUE,"Lead Tables")&":"&ADDRESS($AG39+3,COLUMN('Lead Tables'!$K:$K),TRUE,TRUE) -> 'Lead Tables'!$A$8:$K$11 | AI39: =ADDRESS($AG39,1,TRUE,TRUE,"Lead Tables")&":"&ADDRESS($AG39,COLUMN('Lead Tables'!$K:$K),TRUE,TRUE) -> 'Lead Tables'!$A$8:$K$8 | AJ39: 0.1 | AK39: =COUNTIF(A:A,A39) -> 1
A40: =$B40&" "&LEFT($C40,1)&"-"&TEXT(ROUND($I40,0),"00.0")&"x"&TEXT(ROUND($J40,0),"00.0") -> Jamicon R-13.0x20.0 | B40: Jamicon | C40: RADIAL | D40: 12.5x20 | E40: 0.5 | F40: 2 | G40: 0.3 | H40: 20.7 | I40: =VALUE(LEFT($D40,SEARCH("x",$D40)-1)) -> 12.5 | J40: =VALUE(RIGHT($D40,LEN($D40)-SEARCH("x",$D40))) -> 20 | K40: =1000*ROUNDUP($AD40/25.4,2) -> 200 | L40: =H40+5.6 -> 26.3 | M40: =INDEX(INDIRECT($AH40),3,MATCH($I40,INDIRECT($AI40),0)) -> 0.6 | N40: =IF($I40<8,0.12,IF($I40<10,0.15,0.2)) -> 0.2 | O40: =4.925363+(2.443075-4.925363)/(1+($I40/16.01491)^7.997158) -> 2.7437928 | P40: =10.44333+(1.945487-10.44333)/(1+($I40/34.36317)^4.867813) -> 2.0069051 | Q40: =rptMinUntilExtent -> 17 | R40: =rptNumberOfTimesOfLineNo -> 6 | S40: =rptUntilExtentThenFit -> 2 | T40: 1 | U40: 0 | V40: 0 | W40: 3 | X40: =W40 -> 3 | Y40: 8 | Z40: =IF(B40="Hitano",5,4) -> 4 | AA40: =IF(ROUND(5.509253+(1.199745-5.509253)/(1+($I40/16.61827)^13.04355),1)>3,3,ROUND(5.509253+(1.199745-5.509253)/(1+($I40/16.61827)^13.04355),1)) -> 1.3 | AB40: =AA40/1.727 -> 0.75275043 | AC40: =IF(AA40/1.949>0.7,0.7,AA40/1.949)/1.3 -> 0.51308363 | AD40: =INDEX(INDIRECT($AH40),2,MATCH($I40,INDIRECT($AI40),0)) -> 5 | AE40: =AA40/3 -> 0.43333333 | AF40: =K40/1000 * 25.4 -> 5.08 | AG40: =1+MATCH($B40,'Lead Tables'!$A:$A,0) -> 8 | AH40: =ADDRESS($AG40,1,TRUE,TRUE,"Lead Tables")&":"&ADDRESS($AG40+3,COLUMN('Lead Tables'!$K:$K),TRUE,TRUE) -> 'Lead Tables'!$A$8:$K$11 | AI40: =ADDRESS($AG40,1,TRUE,TRUE,"Lead Tables")&":"&ADDRESS($AG40,COLUMN('Lead Tables'!$K:$K),TRUE,TRUE) -> 'Lead Tables'!$A$8:$K$8 | AJ40: 0.1 | AK40: =COUNTIF(A:A,A40) -> 1
... A62: =$B62&" "&LEFT($C62,1)&"-"&TEXT(ROUND($I62,0),"00.0")&"x"&TEXT(ROUND($J62,0),"00.0") -> Jamicon R-25.0x50.0 | B62: Jamicon | C62: RADIAL | D62: 25x50 | E62: 0.5 | F62: 2 | G62: 0.3 | H62: 20.7 | I62: =VALUE(LEFT($D62,SEARCH("x",$D62)-1)) -> 25 | J62: =VALUE(RIGHT($D62,LEN($D62)-SEARCH("x",$D62))) -> 50 | K62: =1000*ROUNDUP($AD62/25.4,2) -> 500 | L62: =H62+5.6 -> 26.3 | M62: =INDEX(INDIRECT($AH62),3,MATCH($I62,INDIRECT($AI62),0)) -> 1 | N62: =IF($I62<8,0.12,IF($I62<10,0.15,0.2)) -> 0.2 | O62: =4.925363+(2.443075-4.925363)/(1+($I62/16.01491)^7.997158) -> 4.8568271 | P62: =10.44333+(1.945487-10.44333)/(1+($I62/34.36317)^4.867813) -> 3.4351874 | Q62: =rptMinUntilExtent -> 17 | R62: =rptNumberOfTimesOfLineNo -> 6 | S62: =rptUntilExtentThenFit -> 2 | T62: 1 | U62: 0 | V62: 0 | W62: 3 | X62: =W62 -> 3 | Y62: 8 | Z62: =IF(B62="Hitano",5,4) -> 4 | AA62: =IF(ROUND(5.509253+(1.199745-5.509253)/(1+($I62/16.61827)^13.04355),1)>3,3,ROUND(5.509253+(1.199745-5.509253)/(1+($I62/16.61827)^13.04355),1)) -> 3 | AB62: =AA62/1.727 -> 1.7371164 | AC62: =IF(AA62/1.949>0.7,0.7,AA62/1.949)/1.3 -> 0.53846154 | AD62: =INDEX(INDIRECT($AH62),2,MATCH($I62,INDIRECT($AI62),0)) -> 12.5 | AE62: =AA62/3 -> 1 | AF62: =K62/1000 * 25.4 -> 12.7 | AG62: =1+MATCH($B62,'Lead Tables'!$A:$A,0) -> 8 | AH62: =ADDRESS($AG62,1,TRUE,TRUE,"Lead Tables")&":"&ADDRESS($AG62+3,COLUMN('Lead Tables'!$K:$K),TRUE,TRUE) -> 'Lead Tables'!$A$8:$K$11 | AI62: =ADDRESS($AG62,1,TRUE,TRUE,"Lead Tables")&":"&ADDRESS($AG62,COLUMN('Lead Tables'!$K:$K),TRUE,TRUE) -> 'Lead Tables'!$A$8:$K$8 | AJ62: 0.1 | AK62: =COUNTIF(A:A,A62) -> 1
A63: =$B63&" "&LEFT($C63,1)&"-"&TEXT(ROUND($I63,0),"00.0")&"x"&TEXT(ROUND($J63,0),"00.0") -> Yihcon R-10.0x35.0 | B63: Yihcon | C63: RADIAL | D63: 10.1x35 | E63: 0.5 | F63: 2 | G63: 0.3 | H63: 4.5 | I63: =VALUE(LEFT($D63,SEARCH("x",$D63)-1)) -> 10.1 | J63: =VALUE(RIGHT($D63,LEN($D63)-SEARCH("x",$D63))) -> 35 | K63: =1000*ROUND($AD63/25.4,2) -> 200 | L63: 4.5 | M63: 0.5 | N63: 0.2 | O63: 3 | P63: 2 | Q63: =rptNone -> 0 | R63: =rptNone -> 0 | S63: =rptNone -> 0 | T63: 0 | U63: 0 | V63: 0 | W63: 0 | X63: =W63 -> 0 | Y63: 8 | Z63: =IF(B63="Hitano",5,4) -> 4 | AA63: =IF(ROUND(5.509253+(1.199745-5.509253)/(1+($I63/16.61827)^13.04355),1)>3,3,ROUND(5.509253+(1.199745-5.509253)/(1+($I63/16.61827)^13.04355),1)) -> 1.2 | AB63: =AA63/1.059 -> 1.1331445 | AC63: =AB63/0.75 -> 1.5108593 | AD63: 5 | AE63: =AA63/3 -> 0.4 | AF63: =K63/1000 * 25.4 -> 5.08 | AG63: =1+MATCH($B63,'Lead Tables'!$A:$A,0) -> #N/A | AH63: =ADDRESS($AG63,1,TRUE,TRUE,"Lead Tables")&":"&ADDRESS($AG63+3,COLUMN('Lead Tables'!$K:$K),TRUE,TRUE) -> #N/A | AI63: =ADDRESS($AG63,1,TRUE,TRUE,"Lead Tables")&":"&ADDRESS($AG63,COLUMN('Lead Tables'!$K:$K),TRUE,TRUE) -> #N/A | AJ63: 0.1 | AK63: =COUNTIF(A:A,A63) -> 1
A64: =$B64&" "&LEFT($C64,1)&"-"&TEXT(ROUND($I64,0),"00.0")&"x"&TEXT(ROUND($J64,0),"00.0") -> Nichicon R-08.0x12.0 | B64: Nichicon | C64: RADIAL | D64: 8x12 | E64: 0.5 | F64: 2 | G64: 0.3 | H64: 4.5 | I64: =VALUE(LEFT($D64,SEARCH("x",$D64)-1)) -> 8 | J64: =VALUE(RIGHT($D64,LEN($D64)-SEARCH("x",$D64))) -> 12 | K64: =1000*ROUND($AD64/25.4,2) -> 120 | L64: 4.5 | M64: 0.5 | N64: 0.2 | O64: 2 | P64: 1.5 | Q64: =rptNone -> 0 | R64: =rptNone -> 0 | S64: =rptNone -> 0 | T64: 0 | U64: 0 | V64: 0 | W64: 0 | X64: =W64 -> 0 | Y64: 8 | Z64: =IF(B64="Hitano",5,4) -> 4 | AA64: =IF(ROUND(5.509253+(1.199745-5.509253)/(1+($I64/16.61827)^13.04355),1)>3,3,ROUND(5.509253+(1.199745-5.509253)/(1+($I64/16.61827)^13.04355),1)) -> 1.2 | AB64: =AA64/1.059 -> 1.1331445 | AC64: =IF(AA64/1.8>1.6,1.6,AA64/1.8) -> 0.66666667 | AD64: 3 | AE64: =AA64/3 -> 0.4 | AF64: =K64/1000 * 25.4 -> 3.048 | AG64: =1+MATCH($B64,'Lead Tables'!$A:$A,0) -> #N/A | AH64: =ADDRESS($AG64,1,TRUE,TRUE,"Lead Tables")&":"&ADDRESS($AG64+3,COLUMN('Lead Tables'!$K:$K),TRUE,TRUE) -> #N/A | AI64: =ADDRESS($AG64,1,TRUE,TRUE,"Lead Tables")&":"&ADDRESS($AG64,COLUMN('Lead Tables'!$K:$K),TRUE,TRUE) -> #N/A | AJ64: 0.1 | AK64: =COUNTIF(A:A,A64) -> 1

Sheet Lead Tables
A1: Hitano
A2: Case Diameter | B2: DΦ | C2: 5 | D2: 6.3 | E2: 8 | F2: 10 | G2: 13 | H2: 16 | I2: 18 | J2: 22 | K2: 25
A3: Lead Spacing | B3: F | C3: 2 | D3: 2.5 | E3: 3.5 | F3: 5 | G3: 5 | H3: 7.5 | I3: 7.5 | J3: 10 | K3: 12.5
A4: Lead Diameter | B4: dψ | C4: 0.5 | D4: 0.5 | E4: 0.5 | F4: 0.6 | G4: 0.6 | H4: 0.8 | I4: 0.8 | J4: 1 | K4: 1
A7: Jamicon
A8: Case Diameter | B8: øD | C8: 5 | D8: 6.3 | E8: 8 | F8: 10 | G8: 12.5 | H8: 16 | I8: 18 | J8: 22 | K8: 25
A9: Lead Spacing | B9: F | C9: 2 | D9: 2.5 | E9: 3.5 | F9: 5 | G9: 5 | H9: 7.5 | I9: 7.5 | J9: 10 | K9: 12.5
A10: Lead Diameter | B10: d | C10: 0.5 | D10: 0.5 | E10: 0.6 | F10: 0.6 | G10: 0.6 | H10: 0.8 | I10: 0.8 | J10: 1 | K10: 1
A11: Case Height Tolerance | B11: α | C11: 1.5 | D11: 1.5 | E11: 1.5 | F11: 1.5 | G11: 1.5 | H11: 1.5 | I11: 1.5 | J11: 2 | K11: 2

Sheet Appearances Table
A1: Manufacturer | B1: Series | C1: Key | D1: Colour Sleeve | E1: Colour Decal | F1: Colour Case | G1: Colour Seal | H1: Colour Lead | I1: Indicator Negative | J1: File Sleeve | K1: File Decal | L1: File Case | M1: File Seal | N1: File Lead | O1: Folder
A2: HEC | B2: LS | C2: =A2&"-"&B2 -> HEC-LS | D2: Black | E2: Grey Light | F2: Aluminium | G2: Rubber | H2: Stainless Steel | I2: S | J2: =IF(ISBLANK($A2),"",MID(J$1,1+LEN("File "),255) &" - "&HLOOKUP("Colour "&MID(J$1,1+LEN("File "),255),$A$1:$I$22,1+ROW()-ROW($1:$1),0)&".p2m") -> Sleeve - Black.p2m | K2: =IF(ISBLANK($A2),"",MID(K$1,1+LEN("File "),255) &" - "&HLOOKUP("Colour "&MID(K$1,1+LEN("File "),255),$A$1:$I$22,1+ROW()-ROW($1:$1),0)&".p2m") -> Decal - Grey Light.p2m | L2: =IF(ISBLANK($A2),"",MID(L$1,1+LEN("File "),255) &" - "&HLOOKUP("Colour "&MID(L$1,1+LEN("File "),255),$A$1:$I$22,1+ROW()-ROW($1:$1),0)&".p2m") -> Case - Aluminium.p2m | M2: =IF(ISBLANK($A2),"",MID(M$1,1+LEN("File "),255) &" - "&HLOOKUP("Colour "&MID(M$1,1+LEN("File "),255),$A$1:$I$22,1+ROW()-ROW($1:$1),0)&".p2m") -> Seal - Rubber.p2m | N2: =IF(ISBLANK($A2),"",MID(N$1,1+LEN("File "),255) &" - "&HLOOKUP("Colour "&MID(N$1,1+LEN("File "),255),$A$1:$I$22,1+ROW()-ROW($1:$1),0)&".p2m") -> Lead - Stainless Steel.p2m | O2: C:\Users\Chris\Documents\Electronics\Solidworks\Misc Parts\Electrolytic Cap\
A3: Hitano | B3: ECR | C3: =A3&"-"&B3 -> Hitano-ECR | D3: Black | E3: Grey Light | F3: Aluminium | G3: Rubber | H3: Stainless Steel | I3: CA | J3: =IF(ISBLANK($A3),"",MID(J$1,1+LEN("File "),255) &" - "&HLOOKUP("Colour "&MID(J$1,1+LEN("File "),255),$A$1:$I$22,1+ROW()-ROW($1:$1),0)&".p2m") -> Sleeve - Black.p2m | K3: =IF(ISBLANK($A3),"",MID(K$1,1+LEN("File "),255) &" - "&HLOOKUP("Colour "&MID(K$1,1+LEN("File "),255),$A$1:$I$22,1+ROW()-ROW($1:$1),0)&".p2m") -> Decal - Grey Light.p2m | L3: =IF(ISBLANK($A3),"",MID(L$1,1+LEN("File "),255) &" - "&HLOOKUP("Colour "&MID(L$1,1+LEN("File "),255),$A$1:$I$22,1+ROW()-ROW($1:$1),0)&".p2m") -> Case - Aluminium.p2m | M3: =IF(ISBLANK($A3),"",MID(M$1,1+LEN("File "),255) &" - "&HLOOKUP("Colour "&MID(M$1,1+LEN("File "),255),$A$1:$I$22,1+ROW()-ROW($1:$1),0)&".p2m") -> Seal - Rubber.p2m | N3: =IF(ISBLANK($A3),"",MID(N$1,1+LEN("File "),255) &" - "&HLOOKUP("Colour "&MID(N$1,1+LEN("File "),255),$A$1:$I$22,1+ROW()-ROW($1:$1),0)&".p2m") -> Lead - Stainless Steel.p2m | O3: C:\Users\Chris\Documents\Electronics\Solidworks\Misc Parts\Electrolytic Cap\
A4: Hitano | B4: EXR | C4: =A4&"-"&B4 -> Hitano-EXR | D4: Black | E4: Gold | F4: Aluminium | G4: Rubber | H4: Stainless Steel | I4: TA | J4: =IF(ISBLANK($A4),"",MID(J$1,1+LEN("File "),255) &" - "&HLOOKUP("Colour "&MID(J$1,1+LEN("File "),255),$A$1:$I$22,1+ROW()-ROW($1:$1),0)&".p2m") -> Sleeve - Black.p2m | K4: =IF(ISBLANK($A4),"",MID(K$1,1+LEN("File "),255) &" - "&HLOOKUP("Colour "&MID(K$1,1+LEN("File "),255),$A$1:$I$22,1+ROW()-ROW($1:$1),0)&".p2m") -> Decal - Gold.p2m | L4: =IF(ISBLANK($A4),"",MID(L$1,1+LEN("File "),255) &" - "&HLOOKUP("Colour "&MID(L$1,1+LEN("File "),255),$A$1:$I$22,1+ROW()-ROW($1:$1),0)&".p2m") -> Case - Aluminium.p2m | M4: =IF(ISBLANK($A4),"",MID(M$1,1+LEN("File "),255) &" - "&HLOOKUP("Colour "&MID(M$1,1+LEN("File "),255),$A$1:$I$22,1+ROW()-ROW($1:$1),0)&".p2m") -> Seal - Rubber.p2m | N4: =IF(ISBLANK($A4),"",MID(N$1,1+LEN("File "),255) &" - "&HLOOKUP("Colour "&MID(N$1,1+LEN("File "),255),$A$1:$I$22,1+ROW()-ROW($1:$1),0)&".p2m") -> Lead - Stainless Steel.p2m | O4: C:\Users\Chris\Documents\Electronics\Solidworks\Misc Parts\Electrolytic Cap\
A5: Jamicon | B5: SK | C5: =A5&"-"&B5 -> Jamicon-SK | D5: Black | E5: Grey Light | F5: Aluminium | G5: Rubber | H5: Stainless Steel | I5: S | J5: =IF(ISBLANK($A5),"",MID(J$1,1+LEN("File "),255) &" - "&HLOOKUP("Colour "&MID(J$1,1+LEN("File "),255),$A$1:$I$22,1+ROW()-ROW($1:$1),0)&".p2m") -> Sleeve - Black.p2m | K5: =IF(ISBLANK($A5),"",MID(K$1,1+LEN("File "),255) &" - "&HLOOKUP("Colour "&MID(K$1,1+LEN("File "),255),$A$1:$I$22,1+ROW()-ROW($1:$1),0)&".p2m") -> Decal - Grey Light.p2m | L5: =IF(ISBLANK($A5),"",MID(L$1,1+LEN("File "),255) &" - "&HLOOKUP("Colour "&MID(L$1,1+LEN("File "),255),$A$1:$I$22,1+ROW()-ROW($1:$1),0)&".p2m") -> Case - Aluminium.p2m | M5: =IF(ISBLANK($A5),"",MID(M$1,1+LEN("File "),255) &" - "&HLOOKUP("Colour "&MID(M$1,1+LEN("File "),255),$A$1:$I$22,1+ROW()-ROW($1:$1),0)&".p2m") -> Seal - Rubber.p2m | N5: =IF(ISBLANK($A5),"",MID(N$1,1+LEN("File "),255) &" - "&HLOOKUP("Colour "&MID(N$1,1+LEN("File "),255),$A$1:$I$22,1+ROW()-ROW($1:$1),0)&".p2m") -> Lead - Stainless Steel.p2m | O5: C:\Users\Chris\Documents\Electronics\Solidworks\Misc Parts\Electrolytic Cap\
A6: Jamicon | B6: WL | C6: =A6&"-"&B6 -> Jamicon-WL | D6: Green Dark | E6: Gold | F6: Aluminium | G6: Rubber | H6: Stainless Steel | I6: S | J6: =IF(ISBLANK($A6),"",MID(J$1,1+LEN("File "),255) &" - "&HLOOKUP("Colour "&MID(J$1,1+LEN("File "),255),$A$1:$I$22,1+ROW()-ROW($1:$1),0)&".p2m") -> Sleeve - Green Dark.p2m | K6: =IF(ISBLANK($A6),"",MID(K$1,1+LEN("File "),255) &" - "&HLOOKUP("Colour "&MID(K$1,1+LEN("File "),255),$A$1:$I$22,1+ROW()-ROW($1:$1),0)&".p2m") -> Decal - Gold.p2m | L6: =IF(ISBLANK($A6),"",MID(L$1,1+LEN("File "),255) &" - "&HLOOKUP("Colour "&MID(L$1,1+LEN("File "),255),$A$1:$I$22,1+ROW()-ROW($1:$1),0)&".p2m") -> Case - Aluminium.p2m | M6: =IF(ISBLANK($A6),"",MID(M$1,1+LEN("File "),255) &" - "&HLOOKUP("Colour "&MID(M$1,1+LEN("File "),255),$A$1:$I$22,1+ROW()-ROW($1:$1),0)&".p2m") -> Seal - Rubber.p2m | N6: =IF(ISBLANK($A6),"",MID(N$1,1+LEN("File "),255) &" - "&HLOOKUP("Colour "&MID(N$1,1+LEN("File "),255),$A$1:$I$22,1+ROW()-ROW($1:$1),0)&".p2m") -> Lead - Stainless Steel.p2m | O6: C:\Users\Chris\Documents\Electronics\Solidworks\Misc Parts\Electrolytic Cap\
A7: Nichicon | B7: KX | C7: =A7&"-"&B7 -> Nichicon-KX | D7: Black | E7: Grey Light | F7: Aluminium | G7: Rubber | H7: Stainless Steel | I7: TA | J7: =IF(ISBLANK($A7),"",MID(J$1,1+LEN("File "),255) &" - "&HLOOKUP("Colour "&MID(J$1,1+LEN("File "),255),$A$1:$I$22,1+ROW()-ROW($1:$1),0)&".p2m") -> Sleeve - Black.p2m | K7: =IF(ISBLANK($A7),"",MID(K$1,1+LEN("File "),255) &" - "&HLOOKUP("Colour "&MID(K$1,1+LEN("File "),255),$A$1:$I$22,1+ROW()-ROW($1:$1),0)&".p2m") -> Decal - Grey Light.p2m | L7: =IF(ISBLANK($A7),"",MID(L$1,1+LEN("File "),255) &" - "&HLOOKUP("Colour "&MID(L$1,1+LEN("File "),255),$A$1:$I$22,1+ROW()-ROW($1:$1),0)&".p2m") -> Case - Aluminium.p2m | M7: =IF(ISBLANK($A7),"",MID(M$1,1+LEN("File "),255) &" - "&HLOOKUP("Colour "&MID(M$1,1+LEN("File "),255),$A$1:$I$22,1+ROW()-ROW($1:$1),0)&".p2m") -> Seal - Rubber.p2m | N7: =IF(ISBLANK($A7),"",MID(N$1,1+LEN("File "),255) &" - "&HLOOKUP("Colour "&MID(N$1,1+LEN("File "),255),$A$1:$I$22,1+ROW()-ROW($1:$1),0)&".p2m") -> Lead - Stainless Steel.p2m | O7: C:\Users\Chris\Documents\Electronics\Solidworks\Misc Parts\Electrolytic Cap\
A8: Yihcon | B8: TM1 | C8: =A8&"-"&B8 -> Yihcon-TM1 | D8: Green | E8: Black | F8: Aluminium | G8: Rubber | H8: Stainless Steel | I8: TA | J8: =IF(ISBLANK($A8),"",MID(J$1,1+LEN("File "),255) &" - "&HLOOKUP("Colour "&MID(J$1,1+LEN("File "),255),$A$1:$I$22,1+ROW()-ROW($1:$1),0)&".p2m") -> Sleeve - Green.p2m | K8: =IF(ISBLANK($A8),"",MID(K$1,1+LEN("File "),255) &" - "&HLOOKUP("Colour "&MID(K$1,1+LEN("File "),255),$A$1:$I$22,1+ROW()-ROW($1:$1),0)&".p2m") -> Decal - Black.p2m | L8: =IF(ISBLANK($A8),"",MID(L$1,1+LEN("File "),255) &" - "&HLOOKUP("Colour "&MID(L$1,1+LEN("File "),255),$A$1:$I$22,1+ROW()-ROW($1:$1),0)&".p2m") -> Case - Aluminium.p2m | M8: =IF(ISBLANK($A8),"",MID(M$1,1+LEN("File "),255) &" - "&HLOOKUP("Colour "&MID(M$1,1+LEN("File "),255),$A$1:$I$22,1+ROW()-ROW($1:$1),0)&".p2m") -> Seal - Rubber.p2m | N8: =IF(ISBLANK($A8),"",MID(N$1,1+LEN("File "),255) &" - "&HLOOKUP("Colour "&MID(N$1,1+LEN("File "),255),$A$1:$I$22,1+ROW()-ROW($1:$1),0)&".p2m") -> Lead - Stainless Steel.p2m | O8: C:\Users\Chris\Documents\Electronics\Solidworks\Misc Parts\Electrolytic Cap\
A9: Yihcon | B9: TM2 | C9: =A9&"-"&B9 -> Yihcon-TM2 | D9: Black | E9: Grey Light | F9: Aluminium | G9: Rubber | H9: Stainless Steel | I9: TA | J9: =IF(ISBLANK($A9),"",MID(J$1,1+LEN("File "),255) &" - "&HLOOKUP("Colour "&MID(J$1,1+LEN("File "),255),$A$1:$I$22,1+ROW()-ROW($1:$1),0)&".p2m") -> Sleeve - Black.p2m | K9: =IF(ISBLANK($A9),"",MID(K$1,1+LEN("File "),255) &" - "&HLOOKUP("Colour "&MID(K$1,1+LEN("File "),255),$A$1:$I$22,1+ROW()-ROW($1:$1),0)&".p2m") -> Decal - Grey Light.p2m | L9: =IF(ISBLANK($A9),"",MID(L$1,1+LEN("File "),255) &" - "&HLOOKUP("Colour "&MID(L$1,1+LEN("File "),255),$A$1:$I$22,1+ROW()-ROW($1:$1),0)&".p2m") -> Case - Aluminium.p2m | M9: =IF(ISBLANK($A9),"",MID(M$1,1+LEN("File "),255) &" - "&HLOOKUP("Colour "&MID(M$1,1+LEN("File "),255),$A$1:$I$22,1+ROW()-ROW($1:$1),0)&".p2m") -> Seal - Rubber.p2m | N9: =IF(ISBLANK($A9),"",MID(N$1,1+LEN("File "),255) &" - "&HLOOKUP("Colour "&MID(N$1,1+LEN("File "),255),$A$1:$I$22,1+ROW()-ROW($1:$1),0)&".p2m") -> Lead - Stainless Steel.p2m | O9: C:\Users\Chris\Documents\Electronics\Solidworks\Misc Parts\Electrolytic Cap\
J10: =IF(ISBLANK($A10),"",MID(J$1,1+LEN("File "),255) &" - "&HLOOKUP("Colour "&MID(J$1,1+LEN("File "),255),$A$1:$I$22,1+ROW()-ROW($1:$1),0)&".p2m") | K10: =IF(ISBLANK($A10),"",MID(K$1,1+LEN("File "),255) &" - "&HLOOKUP("Colour "&MID(K$1,1+LEN("File "),255),$A$1:$I$22,1+ROW()-ROW($1:$1),0)&".p2m") | L10: =IF(ISBLANK($A10),"",MID(L$1,1+LEN("File "),255) &" - "&HLOOKUP("Colour "&MID(L$1,1+LEN("File "),255),$A$1:$I$22,1+ROW()-ROW($1:$1),0)&".p2m") | M10: =IF(ISBLANK($A10),"",MID(M$1,1+LEN("File "),255) &" - "&HLOOKUP("Colour "&MID(M$1,1+LEN("File "),255),$A$1:$I$22,1+ROW()-ROW($1:$1),0)&".p2m") | N10: =IF(ISBLANK($A10),"",MID(N$1,1+LEN("File "),255) &" - "&HLOOKUP("Colour "&MID(N$1,1+LEN("File "),255),$A$1:$I$22,1+ROW()-ROW($1:$1),0)&".p2m") | O10: C:\Users\Chris\Documents\Electronics\Solidworks\Misc Parts\Electrolytic Cap\
J11: =IF(ISBLANK($A11),"",MID(J$1,1+LEN("File "),255) &" - "&HLOOKUP("Colour "&MID(J$1,1+LEN("File "),255),$A$1:$I$22,1+ROW()-ROW($1:$1),0)&".p2m") | K11: =IF(ISBLANK($A11),"",MID(K$1,1+LEN("File "),255) &" - "&HLOOKUP("Colour "&MID(K$1,1+LEN("File "),255),$A$1:$I$22,1+ROW()-ROW($1:$1),0)&".p2m") | L11: =IF(ISBLANK($A11),"",MID(L$1,1+LEN("File "),255) &" - "&HLOOKUP("Colour "&MID(L$1,1+LEN("File "),255),$A$1:$I$22,1+ROW()-ROW($1:$1),0)&".p2m") | M11: =IF(ISBLANK($A11),"",MID(M$1,1+LEN("File "),255) &" - "&HLOOKUP("Colour "&MID(M$1,1+LEN("File "),255),$A$1:$I$22,1+ROW()-ROW($1:$1),0)&".p2m") | N11: =IF(ISBLANK($A11),"",MID(N$1,1+LEN("File "),255) &" - "&HLOOKUP("Colour "&MID(N$1,1+LEN("File "),255),$A$1:$I$22,1+ROW()-ROW($1:$1),0)&".p2m") | O11: C:\Users\Chris\Documents\Electronics\Solidworks\Misc Parts\Electrolytic Cap\
J12: =IF(ISBLANK($A12),"",MID(J$1,1+LEN("File "),255) &" - "&HLOOKUP("Colour "&MID(J$1,1+LEN("File "),255),$A$1:$I$22,1+ROW()-ROW($1:$1),0)&".p2m") | K12: =IF(ISBLANK($A12),"",MID(K$1,1+LEN("File "),255) &" - "&HLOOKUP("Colour "&MID(K$1,1+LEN("File "),255),$A$1:$I$22,1+ROW()-ROW($1:$1),0)&".p2m") | L12: =IF(ISBLANK($A12),"",MID(L$1,1+LEN("File "),255) &" - "&HLOOKUP("Colour "&MID(L$1,1+LEN("File "),255),$A$1:$I$22,1+ROW()-ROW($1:$1),0)&".p2m") | M12: =IF(ISBLANK($A12),"",MID(M$1,1+LEN("File "),255) &" - "&HLOOKUP("Colour "&MID(M$1,1+LEN("File "),255),$A$1:$I$22,1+ROW()-ROW($1:$1),0)&".p2m") | N12: =IF(ISBLANK($A12),"",MID(N$1,1+LEN("File "),255) &" - "&HLOOKUP("Colour "&MID(N$1,1+LEN("File "),255),$A$1:$I$22,1+ROW()-ROW($1:$1),0)&".p2m") | O12: C:\Users\Chris\Documents\Electronics\Solidworks\Misc Parts\Electrolytic Cap\
J13: =IF(ISBLANK($A13),"",MID(J$1,1+LEN("File "),255) &" - "&HLOOKUP("Colour "&MID(J$1,1+LEN("File "),255),$A$1:$I$22,1+ROW()-ROW($1:$1),0)&".p2m") | K13: =IF(ISBLANK($A13),"",MID(K$1,1+LEN("File "),255) &" - "&HLOOKUP("Colour "&MID(K$1,1+LEN("File "),255),$A$1:$I$22,1+ROW()-ROW($1:$1),0)&".p2m") | L13: =IF(ISBLANK($A13),"",MID(L$1,1+LEN("File "),255) &" - "&HLOOKUP("Colour "&MID(L$1,1+LEN("File "),255),$A$1:$I$22,1+ROW()-ROW($1:$1),0)&".p2m") | M13: =IF(ISBLANK($A13),"",MID(M$1,1+LEN("File "),255) &" - "&HLOOKUP("Colour "&MID(M$1,1+LEN("File "),255),$A$1:$I$22,1+ROW()-ROW($1:$1),0)&".p2m") | N13: =IF(ISBLANK($A13),"",MID(N$1,1+LEN("File "),255) &" - "&HLOOKUP("Colour "&MID(N$1,1+LEN("File "),255),$A$1:$I$22,1+ROW()-ROW($1:$1),0)&".p2m") | O13: C:\Users\Chris\Documents\Electronics\Solidworks\Misc Parts\Electrolytic Cap\
J14: =IF(ISBLANK($A14),"",MID(J$1,1+LEN("File "),255) &" - "&HLOOKUP("Colour "&MID(J$1,1+LEN("File "),255),$A$1:$I$22,1+ROW()-ROW($1:$1),0)&".p2m") | K14: =IF(ISBLANK($A14),"",MID(K$1,1+LEN("File "),255) &" - "&HLOOKUP("Colour "&MID(K$1,1+LEN("File "),255),$A$1:$I$22,1+ROW()-ROW($1:$1),0)&".p2m") | L14: =IF(ISBLANK($A14),"",MID(L$1,1+LEN("File "),255) &" - "&HLOOKUP("Colour "&MID(L$1,1+LEN("File "),255),$A$1:$I$22,1+ROW()-ROW($1:$1),0)&".p2m") | M14: =IF(ISBLANK($A14),"",MID(M$1,1+LEN("File "),255) &" - "&HLOOKUP("Colour "&MID(M$1,1+LEN("File "),255),$A$1:$I$22,1+ROW()-ROW($1:$1),0)&".p2m") | N14: =IF(ISBLANK($A14),"",MID(N$1,1+LEN("File "),255) &" - "&HLOOKUP("Colour "&MID(N$1,1+LEN("File "),255),$A$1:$I$22,1+ROW()-ROW($1:$1),0)&".p2m") | O14: C:\Users\Chris\Documents\Electronics\Solidworks\Misc Parts\Electrolytic Cap\
J15: =IF(ISBLANK($A15),"",MID(J$1,1+LEN("File "),255) &" - "&HLOOKUP("Colour "&MID(J$1,1+LEN("File "),255),$A$1:$I$22,1+ROW()-ROW($1:$1),0)&".p2m") | K15: =IF(ISBLANK($A15),"",MID(K$1,1+LEN("File "),255) &" - "&HLOOKUP("Colour "&MID(K$1,1+LEN("File "),255),$A$1:$I$22,1+ROW()-ROW($1:$1),0)&".p2m") | L15: =IF(ISBLANK($A15),"",MID(L$1,1+LEN("File "),255) &" - "&HLOOKUP("Colour "&MID(L$1,1+LEN("File "),255),$A$1:$I$22,1+ROW()-ROW($1:$1),0)&".p2m") | M15: =IF(ISBLANK($A15),"",MID(M$1,1+LEN("File "),255) &" - "&HLOOKUP("Colour "&MID(M$1,1+LEN("File "),255),$A$1:$I$22,1+ROW()-ROW($1:$1),0)&".p2m") | N15: =IF(ISBLANK($A15),"",MID(N$1,1+LEN("File "),255) &" - "&HLOOKUP("Colour "&MID(N$1,1+LEN("File "),255),$A$1:$I$22,1+ROW()-ROW($1:$1),0)&".p2m") | O15: C:\Users\Chris\Documents\Electronics\Solidworks\Misc Parts\Electrolytic Cap\
J16: =IF(ISBLANK($A16),"",MID(J$1,1+LEN("File "),255) &" - "&HLOOKUP("Colour "&MID(J$1,1+LEN("File "),255),$A$1:$I$22,1+ROW()-ROW($1:$1),0)&".p2m") | K16: =IF(ISBLANK($A16),"",MID(K$1,1+LEN("File "),255) &" - "&HLOOKUP("Colour "&MID(K$1,1+LEN("File "),255),$A$1:$I$22,1+ROW()-ROW($1:$1),0)&".p2m") | L16: =IF(ISBLANK($A16),"",MID(L$1,1+LEN("File "),255) &" - "&HLOOKUP("Colour "&MID(L$1,1+LEN("File "),255),$A$1:$I$22,1+ROW()-ROW($1:$1),0)&".p2m") | M16: =IF(ISBLANK($A16),"",MID(M$1,1+LEN("File "),255) &" - "&HLOOKUP("Colour "&MID(M$1,1+LEN("File "),255),$A$1:$I$22,1+ROW()-ROW($1:$1),0)&".p2m") | N16: =IF(ISBLANK($A16),"",MID(N$1,1+LEN("File "),255) &" - "&HLOOKUP("Colour "&MID(N$1,1+LEN("File "),255),$A$1:$I$22,1+ROW()-ROW($1:$1),0)&".p2m") | O16: C:\Users\Chris\Documents\Electronics\Solidworks\Misc Parts\Electrolytic Cap\
J17: =IF(ISBLANK($A17),"",MID(J$1,1+LEN("File "),255) &" - "&HLOOKUP("Colour "&MID(J$1,1+LEN("File "),255),$A$1:$I$22,1+ROW()-ROW($1:$1),0)&".p2m") | K17: =IF(ISBLANK($A17),"",MID(K$1,1+LEN("File "),255) &" - "&HLOOKUP("Colour "&MID(K$1,1+LEN("File "),255),$A$1:$I$22,1+ROW()-ROW($1:$1),0)&".p2m") | L17: =IF(ISBLANK($A17),"",MID(L$1,1+LEN("File "),255) &" - "&HLOOKUP("Colour "&MID(L$1,1+LEN("File "),255),$A$1:$I$22,1+ROW()-ROW($1:$1),0)&".p2m") | M17: =IF(ISBLANK($A17),"",MID(M$1,1+LEN("File "),255) &" - "&HLOOKUP("Colour "&MID(M$1,1+LEN("File "),255),$A$1:$I$22,1+ROW()-ROW($1:$1),0)&".p2m") | N17: =IF(ISBLANK($A17),"",MID(N$1,1+LEN("File "),255) &" - "&HLOOKUP("Colour "&MID(N$1,1+LEN("File "),255),$A$1:$I$22,1+ROW()-ROW($1:$1),0)&".p2m") | O17: C:\Users\Chris\Documents\Electronics\Solidworks\Misc Parts\Electrolytic Cap\
J18: =IF(ISBLANK($A18),"",MID(J$1,1+LEN("File "),255) &" - "&HLOOKUP("Colour "&MID(J$1,1+LEN("File "),255),$A$1:$I$22,1+ROW()-ROW($1:$1),0)&".p2m") | K18: =IF(ISBLANK($A18),"",MID(K$1,1+LEN("File "),255) &" - "&HLOOKUP("Colour "&MID(K$1,1+LEN("File "),255),$A$1:$I$22,1+ROW()-ROW($1:$1),0)&".p2m") | L18: =IF(ISBLANK($A18),"",MID(L$1,1+LEN("File "),255) &" - "&HLOOKUP("Colour "&MID(L$1,1+LEN("File "),255),$A$1:$I$22,1+ROW()-ROW($1:$1),0)&".p2m") | M18: =IF(ISBLANK($A18),"",MID(M$1,1+LEN("File "),255) &" - "&HLOOKUP("Colour "&MID(M$1,1+LEN("File "),255),$A$1:$I$22,1+ROW()-ROW($1:$1),0)&".p2m") | N18: =IF(ISBLANK($A18),"",MID(N$1,1+LEN("File "),255) &" - "&HLOOKUP("Colour "&MID(N$1,1+LEN("File "),255),$A$1:$I$22,1+ROW()-ROW($1:$1),0)&".p2m") | O18: C:\Users\Chris\Documents\Electronics\Solidworks\Misc Parts\Electrolytic Cap\
J19: =IF(ISBLANK($A19),"",MID(J$1,1+LEN("File "),255) &" - "&HLOOKUP("Colour "&MID(J$1,1+LEN("File "),255),$A$1:$I$22,1+ROW()-ROW($1:$1),0)&".p2m") | K19: =IF(ISBLANK($A19),"",MID(K$1,1+LEN("File "),255) &" - "&HLOOKUP("Colour "&MID(K$1,1+LEN("File "),255),$A$1:$I$22,1+ROW()-ROW($1:$1),0)&".p2m") | L19: =IF(ISBLANK($A19),"",MID(L$1,1+LEN("File "),255) &" - "&HLOOKUP("Colour "&MID(L$1,1+LEN("File "),255),$A$1:$I$22,1+ROW()-ROW($1:$1),0)&".p2m") | M19: =IF(ISBLANK($A19),"",MID(M$1,1+LEN("File "),255) &" - "&HLOOKUP("Colour "&MID(M$1,1+LEN("File "),255),$A$1:$I$22,1+ROW()-ROW($1:$1),0)&".p2m") | N19: =IF(ISBLANK($A19),"",MID(N$1,1+LEN("File "),255) &" - "&HLOOKUP("Colour "&MID(N$1,1+LEN("File "),255),$A$1:$I$22,1+ROW()-ROW($1:$1),0)&".p2m") | O19: C:\Users\Chris\Documents\Electronics\Solidworks\Misc Parts\Electrolytic Cap\
J20: =IF(ISBLANK($A20),"",MID(J$1,1+LEN("File "),255) &" - "&HLOOKUP("Colour "&MID(J$1,1+LEN("File "),255),$A$1:$I$22,1+ROW()-ROW($1:$1),0)&".p2m") | K20: =IF(ISBLANK($A20),"",MID(K$1,1+LEN("File "),255) &" - "&HLOOKUP("Colour "&MID(K$1,1+LEN("File "),255),$A$1:$I$22,1+ROW()-ROW($1:$1),0)&".p2m") | L20: =IF(ISBLANK($A20),"",MID(L$1,1+LEN("File "),255) &" - "&HLOOKUP("Colour "&MID(L$1,1+LEN("File "),255),$A$1:$I$22,1+ROW()-ROW($1:$1),0)&".p2m") | M20: =IF(ISBLANK($A20),"",MID(M$1,1+LEN("File "),255) &" - "&HLOOKUP("Colour "&MID(M$1,1+LEN("File "),255),$A$1:$I$22,1+ROW()-ROW($1:$1),0)&".p2m") | N20: =IF(ISBLANK($A20),"",MID(N$1,1+LEN("File "),255) &" - "&HLOOKUP("Colour "&MID(N$1,1+LEN("File "),255),$A$1:$I$22,1+ROW()-ROW($1:$1),0)&".p2m") | O20: C:\Users\Chris\Documents\Electronics\Solidworks\Misc Parts\Electrolytic Cap\
J21: =IF(ISBLANK($A21),"",MID(J$1,1+LEN("File "),255) &" - "&HLOOKUP("Colour "&MID(J$1,1+LEN("File "),255),$A$1:$I$22,1+ROW()-ROW($1:$1),0)&".p2m") | K21: =IF(ISBLANK($A21),"",MID(K$1,1+LEN("File "),255) &" - "&HLOOKUP("Colour "&MID(K$1,1+LEN("File "),255),$A$1:$I$22,1+ROW()-ROW($1:$1),0)&".p2m") | L21: =IF(ISBLANK($A21),"",MID(L$1,1+LEN("File "),255) &" - "&HLOOKUP("Colour "&MID(L$1,1+LEN("File "),255),$A$1:$I$22,1+ROW()-ROW($1:$1),0)&".p2m") | M21: =IF(ISBLANK($A21),"",MID(M$1,1+LEN("File "),255) &" - "&HLOOKUP("Colour "&MID(M$1,1+LEN("File "),255),$A$1:$I$22,1+ROW()-ROW($1:$1),0)&".p2m") | N21: =IF(ISBLANK($A21),"",MID(N$1,1+LEN("File "),255) &" - "&HLOOKUP("Colour "&MID(N$1,1+LEN("File "),255),$A$1:$I$22,1+ROW()-ROW($1:$1),0)&".p2m") | O21: C:\Users\Chris\Documents\Electronics\Solidworks\Misc Parts\Electrolytic Cap\

Sheet TextFormats
A1: Manufacturer | B1: Series | C1: Key | D1: Format Manufacturer | E1: Font Manufacturer | F1: Stretch Manufacturer | G1: Format Value | H1: Font Value | I1: Stretch Value | J1: Format Series | K1: Font Series | L1: Stretch Series
A2: HEC | B2: LS | C2: =A2&"-"&B2 -> HEC-LS | D2: Bold, Italic | E2: Times New Roman | F2: 1 | G2: Normal | H2: Arial Unicode MS | I2: 0.6 | J2: Normal | K2: Arial Unicode MS | L2: 1
A3: Hitano | B3: ECR | C3: =A3&"-"&B3 -> Hitano-ECR | D3: Bold, Justified | E3: Myriad Pro | F3: 1 | G3: Normal | H3: Arial Unicode MS | I3: 1 | J3: Normal | K3: Arial Unicode MS | L3: 1 | M3: NB: Justified = same width as Value Text | N3: Myriad Pro
A4: Hitano | B4: EXR | C4: =A4&"-"&B4 -> Hitano-EXR | D4: Bold, Justified | E4: Myriad Pro | F4: 1 | G4: Normal | H4: Arial Unicode MS | I4: 1 | J4: Normal | K4: Arial Unicode MS | L4: 1
A5: Jamicon | B5: SK | C5: =A5&"-"&B5 -> Jamicon-SK | D5: Justified | E5: Bauhaus 93 | F5: 1 | G5: Normal | H5: Arial Unicode MS | I5: 0.6 | J5: Normal | K5: Arial Unicode MS | L5: 1 | M5: Bauhaus 93 | N5: 0.7
A6: Jamicon | B6: WL | C6: =A6&"-"&B6 -> Jamicon-WL | D6: Justified | E6: Bauhaus 93 | F6: 1 | G6: Normal | H6: Arial Unicode MS | I6: 0.6 | J6: Normal | K6: Arial Unicode MS | L6: 1 | M6: Arial Rounded MT | N6: 0.7
A7: Nichicon | B7: KX | C7: =A7&"-"&B7 -> Nichicon-KX | D7: Bold, Justified | E7: Myriad Pro | F7: 1 | G7: Normal | H7: Arial Unicode MS | I7: 1 | J7: Normal | K7: Arial Unicode MS | L7: 1
A8: Yihcon | B8: TM1 | C8: =A8&"-"&B8 -> Yihcon-TM1 | D8: Bold, Italic | E8: Arial Unicode MS | F8: 1 | G8: Normal | H8: Arial Unicode MS | I8: 0.9 | J8: Normal | K8: Arial Unicode MS | L8: 1
A9: Yihcon | B9: TM2 | C9: =A9&"-"&B9 -> Yihcon-TM2 | D9: Bold, Italic | E9: Arial Unicode MS | F9: 1 | G9: Normal | H9: Arial Unicode MS | I9: 0.9 | J9: Normal | K9: Arial Unicode MS | L9: 1 | M9: HITANO
M12: Arial Rounded MT
M13: Arial Unicode MS

Sheet swAppearances
C1: BlurryReflection | D1: Color | E1: Diffuse | F1: DoubleSided | G1: Luminous | H1: Reflection | I1: RoundSharpEdges | J1: Specular | K1: SpecularColor | L1: SpecularSpread | M1: Transparent | N1: HexTriplet | O1: R | P1: G | Q1: B
A2: Sleeve | B2: Black | C2: FALSE | D2: 1052688 | E2: 1 | F2: TRUE | G2: 0 | H2: 0.15000001 | I2: 0 | J2: 0.4 | K2: 16777215 | L2: 0.60000002 | M2: 0 | N2: ="#"&DEC2HEX(D2,6) -> #101010 | O2: =($D2-MOD($D2,65536))/65536 -> 16 | P2: =(MOD($D2,65536)-$Q2)/256 -> 16 | Q2: =MOD($D2,256) -> 16
A3: Sleeve | B3: Green | C3: FALSE | D3: 5548361 | E3: 1 | F3: TRUE | G3: 0 | H3: 0.050000001 | I3: 0 | J3: 0.3 | K3: 16777215 | L3: 0.5 | M3: 0 | N3: ="#"&DEC2HEX(D3,6) -> #54A949 | O3: =($D3-MOD($D3,65536))/65536 -> 84 | P3: =(MOD($D3,65536)-$Q3)/256 -> 169 | Q3: =MOD($D3,256) -> 73
A4: Sleeve | B4: Green Dark | C4: FALSE | D4: 5124 | E4: 1 | F4: TRUE | G4: 0 | H4: 0.050000001 | I4: 0 | J4: 0.3 | K4: 16777215 | L4: 0.5 | M4: 0 | N4: ="#"&DEC2HEX(D4,6) -> #001404 | O4: =($D4-MOD($D4,65536))/65536 -> 0 | P4: =(MOD($D4,65536)-$Q4)/256 -> 20 | Q4: =MOD($D4,256) -> 4
A5: Sleeve | B5: Grey Light | C5: FALSE | D5: =160*65536+160*256+160 -> 10526880 | E5: 1 | F5: TRUE | G5: 0 | H5: 0.050000001 | I5: 0 | J5: 0.3 | K5: 16777215 | L5: 0.5 | M5: 0 | N5: ="#"&DEC2HEX(D5,6) -> #A0A0A0 | O5: =($D5-MOD($D5,65536))/65536 -> 160 | P5: =(MOD($D5,65536)-$Q5)/256 -> 160 | Q5: =MOD($D5,256) -> 160
B6: Gold

Sheet Validate
A1: TextRepeatTypes
A2: 0 | B2: rptNone
A3: 1 | B3: rptUntilExtent
A4: 2 | B4: rptUntilExtentThenFit
A5: 3 | B5: rptOverExtent
A6: 4 | B6: rptOverExtentThenFit
A7: 5 | B7: rptNumberOfTimes
A8: 6 | B8: rptNumberOfTimesOfLineNo
A9: 15 | B9: rptTextMASK
A10: 16 | B10: rptNumberIsMinimum
A11: =rptUntilExtent+rptNumberIsMinimum -> 17 | B11: rptMinUntilExtent
A12: =rptUntilExtentThenFit+rptNumberIsMinimum -> 18 | B12: rptMinUntilExtentThenFit
A13: =rptOverExtent+rptNumberIsMinimum -> 19 | B13: rptMinOverExtent
A14: =rptOverExtentThenFit+rptNumberIsMinimum -> 20 | B14: rptMinOverExtentThenFit
A15: =rptNumberOfTimes+rptNumberIsMinimum -> 21 | B15: rptMinNumberOfTimes
A16: =rptNumberOfTimesOfLineNo+rptNumberIsMinimum -> 22 | B16: rptMinNumberOfTimesOfLineNo
