Workbook
Name _SWX_0: _SWX!$A$2:$A$22
Name Case_Circumference: 'Design Table Calc1'!$BW1
Name Case_Diameter: 'Design Table Calc1'!$BI1
Name Case_Length: 'Design Table Calc1'!$BM1
Name Cathode_Indicator_Ring_Width: 'Design Table Calc1'!$BO1
Name Config_Lead_Spacing: 'Design Table Calc1'!$BC1
Name Config_Stand_Off: 'Design Table Calc1'!$BF1
Name End_Fillet_Radius: 'Design Table Calc1'!$BL1
Name Family: Sheet1!$A$2
Name Lead_Bend_Radius: 'Design Table Calc1'!$BX1
Name Lead_Diameter: 'Design Table Calc1'!$BN1
Name Lead_Extend_Length: 'Design Table Calc1'!$BU1
Name Lead_Length: 'Design Table Calc1'!$BJ1
Name Lead_Spacing: 'Design Table Calc1'!$BV1
Name Lead_Spacing__mils: 'Design Table Calc1'!$BA1
Name Lead_Spacing_Increment: 'Design Table Calc1'!$BB1
Name Lead_Spacing_Text: 'Design Table Calc1'!$BG1
Name Package: 'Design Table Calc1'!$AZ1
Name Parent?: 'Design Table Calc1'!$AY1
Name PkgInstanceHdr: 'Design Table Calc1'!$AY$2:$CJ$2
Name PkgInstanceValues: 'Design Table Calc1'!$AY1:$CJ1
Name PkgTable: 'Package Dimensions'!$A$3:$CI$103
Name PkgTblHdr: 'Package Dimensions'!$A$2:$CI$2
Name Protrusion_Length: 'Design Table Calc1'!$BT$3
Name Stand_Off: 'Design Table Calc1'!$BD$3
Name Stand_Off_Increment: 'Design Table Calc1'!$BE$3
Name Stand_Off_Text: 'Design Table Calc1'!$BH$3
Name Text_Height: 'Design Table Calc1'!$BP$3

Sheet Sheet1
A1: Design Table for: Diode | BC1: ='Design Table Calc1'!CK1 -> 0
B2: $DESCRIPTION | C2: $PARTNUMBER | D2: $COLOR | E2: $VALUE@Case Diameter@Equations | F2: $VALUE@Lead Length@Equations | G2: $VALUE@Stand Off@Equations | H2: $VALUE@End Fillet Radius@Equations | I2: $VALUE@Case Length@Equations | J2: $VALUE@Lead Diameter@Equations | K2: $VALUE@Cathode Indicator Ring Width@Equations | L2: $VALUE@Text Height@Equations | M2: $VALUE@Protrusion Length@Equations | N2: $VALUE@Lead Extend Length@Equations | O2: $VALUE@Lead Spacing@Equations | P2: $LIBRARY:MATERIAL@Diode | Q2: $PARENT | R2: $COMMENT | S2: $STATE@Internal H1 | T2: $STATE@Internal H2 | U2: $STATE@Text C1.0 S0.7 | V2: $STATE@TSketch C1.0 S0.7 | W2: $STATE@Text L2.0 S0.7 | X2: $STATE@TSketch L2.0 S0.7 | Y2: $STATE@Text L1.2 S0.6 | Z2: $STATE@TSketch L1.2 S0.6 | AA2: $STATE@Text C1.3 S0.2 | AB2: $STATE@TSketch C1.3 S0.2 | AC2: $STATE@Wrap2 | AD2: $STATE@Surface-Offset1 | AE2: $STATE@Thicken1 | AF2: $STATE@SurfaceCut1 | AG2: $VALUE@Text Indent@Equations | AH2: $VALUE@Text Indent Line2@Equations | AI2: $VALUE@Case Circumference@Equations | AJ2: $VALUE@Lead Bend Radius@Equations | AK2: $STATE@Case Axis | AL2: $STATE@Case Axis Sketch | AM2: $STATE@Lead Cut Surface | AN2: $VALUE@Text Vertical Space@Equations | AO2: $VALUE@Internal Centre Gap@Equations | BC2: ='Design Table Calc1'!CK2 -> 0
A3: DO-41 | B3: DO-41 AXIAL-0.3 Glass | C3: $C | D3: 16777215 | E3: =2.6mm | F3: =26mm | G3: =1mm | H3: =0.65mm | I3: =4.1mm | J3: =0.7mm | K3: =0.9mm | L3: =1mm | M3: =0.1mm | N3: =2mm | O3: =7.62mm | P3: SOLIDWORKS Materials:Glass | R3: AXIAL-0.3 | S3: U | T3: U | U3: U | V3: U | W3: S | X3: U | Y3: S | Z3: U | AA3: S | AB3: U | AC3: U | AD3: U | AE3: U | AF3: U | AG3: =0.001mm | AH3: =0.001mm | AI3: =8.16814089933346mm | AJ3: =0.84mm | AK3: U | AL3: U | AM3: U | AN3: =0.7mm | AO3: =0.1mm | BC3: ='Design Table Calc1'!CK3 -> 0
A4: DO-41 AXIAL-0.4 | B4: DO-41 AXIAL-0.4 Glass | C4: $P | D4: 16777215 | E4: =2.6mm | F4: =26mm | G4: =1mm | H4: =0.65mm | I4: =4.1mm | J4: =0.7mm | K4: =0.9mm | L4: =1mm | M4: =0.1mm | N4: =2mm | O4: =10.16mm | P4: SOLIDWORKS Materials:Glass | Q4: DO-41 | R4: AXIAL-0.4 | AG4: =0.001mm | AH4: =0.001mm | AI4: =8.16814089933346mm | AJ4: =0.84mm | AN4: =0.7mm | AO4: =0.1mm | BC4: ='Design Table Calc1'!CK4 -> 0
A5: DO-41 AXIAL-0.5 | B5: DO-41 AXIAL-0.5 Glass | C5: $P | D5: 16777215 | E5: =2.6mm | F5: =26mm | G5: =1mm | H5: =0.65mm | I5: =4.1mm | J5: =0.7mm | K5: =0.9mm | L5: =1mm | M5: =0.1mm | N5: =2mm | O5: =12.7mm | P5: SOLIDWORKS Materials:Glass | Q5: DO-41 | R5: AXIAL-0.5 | AG5: =0.001mm | AH5: =0.001mm | AI5: =8.16814089933346mm | AJ5: =0.84mm | AN5: =0.7mm | AO5: =0.1mm | BC5: ='Design Table Calc1'!CK5 -> 0
A6: DO-201AD | B6: DO-201AD AXIAL-0.6 Plastic | C6: $C | D6: 328965 | E6: =5.3mm | F6: =25.4mm | G6: =1mm | H6: =0.0828125mm | I6: =9.5mm | J6: =1.3mm | K6: =1.8mm | L6: =2mm | M6: =0.001mm | N6: =2mm | O6: =15.24mm | P6: SOLIDWORKS Materials:PUR | R6: AXIAL-0.6 | S6: S | T6: S | U6: S | V6: U | W6: U | X6: U | Y6: S | Z6: U | AA6: S | AB6: U | AC6: U | AD6: U | AE6: U | AF6: U | AG6: =0.4mm | AH6: =0.4mm | AI6: =16.6504410640259mm | AJ6: =1.56mm | AK6: U | AL6: U | AM6: U | AN6: =0.7mm | AO6: =0.1mm | BC6: ='Design Table Calc1'!CK6 -> 0
A7: DO-201AD AXIAL-0.7 | B7: DO-201AD AXIAL-0.7 Plastic | C7: $P | D7: 328965 | E7: =5.3mm | F7: =25.4mm | G7: =1mm | H7: =0.0828125mm | I7: =9.5mm | J7: =1.3mm | K7: =1.8mm | L7: =2mm | M7: =0.001mm | N7: =2mm | O7: =17.78mm | P7: SOLIDWORKS Materials:PUR | Q7: DO-201AD | R7: AXIAL-0.7 | AG7: =0.4mm | AH7: =0.4mm | AI7: =16.6504410640259mm | AJ7: =1.56mm | AN7: =0.7mm | AO7: =0.1mm | BC7: ='Design Table Calc1'!CK7 -> 0
A8: DO-201AD AXIAL-0.8 | B8: DO-201AD AXIAL-0.8 Plastic | C8: $P | D8: 328965 | E8: =5.3mm | F8: =25.4mm | G8: =1mm | H8: =0.0828125mm | I8: =9.5mm | J8: =1.3mm | K8: =1.8mm | L8: =2mm | M8: =0.001mm | N8: =2mm | O8: =20.32mm | P8: SOLIDWORKS Materials:PUR | Q8: DO-201AD | R8: AXIAL-0.8 | AG8: =0.4mm | AH8: =0.4mm | AI8: =16.6504410640259mm | AJ8: =1.56mm | AN8: =0.7mm | AO8: =0.1mm | BC8: ='Design Table Calc1'!CK8 -> 0
A9: 017AA | B9: 017AA AXIAL-0.5 Plastic | C9: $C | D9: 328965 | E9: =3.68mm | F9: =25.4mm | G9: =1mm | H9: =0.0575mm | I9: =8.89mm | J9: =1.09mm | K9: =1.5mm | L9: =1.2mm | M9: =0.001mm | N9: =2mm | O9: =12.7mm | P9: SOLIDWORKS Materials:PUR | R9: AXIAL-0.5 | S9: S | T9: S | U9: S | V9: U | W9: S | X9: U | Y9: U | Z9: U | AA9: S | AB9: U | AC9: U | AD9: U | AE9: U | AF9: U | AG9: =1mm | AH9: =0.4mm | AI9: =11.5610609652104mm | AJ9: =1.308mm | AK9: U | AL9: U | AM9: U | AN9: =0.6mm | AO9: =0.1mm | BC9: ='Design Table Calc1'!CK9 -> 0
A10: 017AA AXIAL-0.6 | B10: 017AA AXIAL-0.6 Plastic | C10: $P | D10: 328965 | E10: =3.68mm | F10: =25.4mm | G10: =1mm | H10: =0.0575mm | I10: =8.89mm | J10: =1.09mm | K10: =1.5mm | L10: =1.2mm | M10: =0.001mm | N10: =2mm | O10: =15.24mm | P10: SOLIDWORKS Materials:PUR | Q10: 017AA | R10: AXIAL-0.6 | AG10: =1mm | AH10: =0.4mm | AI10: =11.5610609652104mm | AJ10: =1.308mm | AN10: =0.6mm | AO10: =0.1mm | BC10: ='Design Table Calc1'!CK10 -> 0
A11: 017AA AXIAL-0.7 | B11: 017AA AXIAL-0.7 Plastic | C11: $P | D11: 328965 | E11: =3.68mm | F11: =25.4mm | G11: =1mm | H11: =0.0575mm | I11: =8.89mm | J11: =1.09mm | K11: =1.5mm | L11: =1.2mm | M11: =0.001mm | N11: =2mm | O11: =17.78mm | P11: SOLIDWORKS Materials:PUR | Q11: 017AA | R11: AXIAL-0.7 | AG11: =1mm | AH11: =0.4mm | AI11: =11.5610609652104mm | AJ11: =1.308mm | AN11: =0.6mm | AO11: =0.1mm | BC11: ='Design Table Calc1'!CK11 -> 0
A12: 017AA AXIAL-0.8 | B12: 017AA AXIAL-0.8 Plastic | C12: $P | D12: 328965 | E12: =3.68mm | F12: =25.4mm | G12: =1mm | H12: =0.0575mm | I12: =8.89mm | J12: =1.09mm | K12: =1.5mm | L12: =1.2mm | M12: =0.001mm | N12: =2mm | O12: =20.32mm | P12: SOLIDWORKS Materials:PUR | Q12: 017AA | R12: AXIAL-0.8 | AG12: =1mm | AH12: =0.4mm | AI12: =11.5610609652104mm | AJ12: =1.308mm | AN12: =0.6mm | AO12: =0.1mm | BC12: ='Design Table Calc1'!CK12 -> 0
A13: DO-204AL | B13: DO-204AL AXIAL-0.3 Plastic | C13: $C | D13: 328965 | E13: =2.7mm | F13: =25.4mm | G13: =1mm | H13: =0.0421875mm | I13: =5.2mm | J13: =0.86mm | K13: =0.96mm | L13: =1.3mm | M13: =0.001mm | N13: =2mm | O13: =7.62mm | P13: SOLIDWORKS Materials:PUR | R13: AXIAL-0.3 | S13: S | T13: S | U13: S | V13: U | W13: S | X13: U | Y13: S | Z13: U | AA13: U | AB13: U | AC13: U | AD13: U | AE13: U | AF13: U | AG13: =0.001mm | AH13: =0.001mm | AI13: =8.48230016469244mm | AJ13: =1.032mm | AK13: U | AL13: U | AM13: U | AN13: =0.16mm | AO13: =0.1mm | BC13: ='Design Table Calc1'!CK13 -> 0
A14: DO-204AL AXIAL-0.4 | B14: DO-204AL AXIAL-0.4 Plastic | C14: $P | D14: 328965 | E14: =2.7mm | F14: =25.4mm | G14: =1mm | H14: =0.0421875mm | I14: =5.2mm | J14: =0.86mm | K14: =0.96mm | L14: =1.3mm | M14: =0.001mm | N14: =2mm | O14: =10.16mm | P14: SOLIDWORKS Materials:PUR | Q14: DO-204AL | R14: AXIAL-0.4 | AG14: =0.001mm | AH14: =0.001mm | AI14: =8.48230016469244mm | AJ14: =1.032mm | AN14: =0.16mm | AO14: =0.1mm | BC14: ='Design Table Calc1'!CK14 -> 0
A15: DO-204AL AXIAL-0.5 | B15: DO-204AL AXIAL-0.5 Plastic | C15: $P | D15: 328965 | E15: =2.7mm | F15: =25.4mm | G15: =1mm | H15: =0.0421875mm | I15: =5.2mm | J15: =0.86mm | K15: =0.96mm | L15: =1.3mm | M15: =0.001mm | N15: =2mm | O15: =12.7mm | P15: SOLIDWORKS Materials:PUR | Q15: DO-204AL | R15: AXIAL-0.5 | AG15: =0.001mm | AH15: =0.001mm | AI15: =8.48230016469244mm | AJ15: =1.032mm | AN15: =0.16mm | AO15: =0.1mm | BC15: ='Design Table Calc1'!CK15 -> 0
A16: DO-204AL AXIAL-0.6 | B16: DO-204AL AXIAL-0.6 Plastic | C16: $P | D16: 328965 | E16: =2.7mm | F16: =25.4mm | G16: =1mm | H16: =0.0421875mm | I16: =5.2mm | J16: =0.86mm | K16: =0.96mm | L16: =1.3mm | M16: =0.001mm | N16: =2mm | O16: =15.24mm | P16: SOLIDWORKS Materials:PUR | Q16: DO-204AL | R16: AXIAL-0.6 | AF16: U | AG16: =0.001mm | AH16: =0.001mm | AI16: =8.48230016469244mm | AJ16: =1.032mm | AN16: =0.16mm | AO16: =0.1mm | BC16: ='Design Table Calc1'!CK16 -> 0
A17: DO-35 | B17: DO-35 AXIAL-0.25 Glass | C17: $C | D17: 16777215 | E17: =2mm | F17: =28mm | G17: =1mm | H17: ="="&INDEX(PkgInstanceValues,1,MATCH(MID(H$2,1+LEN("$VALUE@"),LEN(H$2)-LEN("$Value@@Equations")),PkgInstanceHdr,0))&"mm" -> =0.25mm | I17: =4mm | J17: =0.5mm | K17: =1mm | L17: =1.3mm | M17: =0.1mm | N17: =2mm | O17: =6.35mm | P17: SOLIDWORKS Materials:Glass | R17: AXIAL-0.25 | S17: U | T17: U | U17: S | V17: U | W17: S | X17: U | Y17: S | Z17: U | AA17: S | AB17: U | AC17: S | AD17: S | AE17: S | AF17: U | AG17: =0.4mm | AH17: =0.4mm | AI17: =6.28318530717959mm | AJ17: =0.6mm | AK17: U | AL17: U | AM17: U | AN17: =0.16mm | AO17: =0.2mm | BC17: ='Design Table Calc1'!CK17 -> 0
A18: DO-35 AXIAL-0.25 [05.0] | B18: DO-35 AXIAL-0.25 [05.0] Glass | C18: $P | D18: 16777215 | E18: =2mm | F18: =28mm | G18: =5mm | H18: ="="&INDEX(PkgInstanceValues,1,MATCH(MID(H$2,1+LEN("$VALUE@"),LEN(H$2)-LEN("$Value@@Equations")),PkgInstanceHdr,0))&"mm" -> =0.25mm | I18: =4mm | J18: =0.5mm | K18: =1mm | L18: =1.3mm | M18: =0.1mm | N18: =2mm | O18: =6.35mm | P18: SOLIDWORKS Materials:Glass | Q18: DO-35 | R18: AXIAL-0.25 | AG18: =0.4mm | AH18: =0.4mm | AI18: =6.28318530717959mm | AJ18: =0.6mm | AN18: =0.16mm | AO18: =0.2mm | BC18: ='Design Table Calc1'!CK18 -> 0
A19: DO-35 AXIAL-0.25 [10.0] | B19: DO-35 AXIAL-0.25 [10.0] Glass | C19: $P | D19: 16777215 | E19: =2mm | F19: =28mm | G19: =10mm | H19: ="="&INDEX(PkgInstanceValues,1,MATCH(MID(H$2,1+LEN("$VALUE@"),LEN(H$2)-LEN("$Value@@Equations")),PkgInstanceHdr,0))&"mm" -> =0.25mm | I19: =4mm | J19: =0.5mm | K19: =1mm | L19: =1.3mm | M19: =0.1mm | N19: =2mm | O19: =6.35mm | P19: SOLIDWORKS Materials:Glass | Q19: DO-35 | R19: AXIAL-0.25 | AG19: =0.4mm | AH19: =0.4mm | AI19: =6.28318530717959mm | AJ19: =0.6mm | AN19: =0.16mm | AO19: =0.2mm | BC19: ='Design Table Calc1'!CK19 -> 0
A20: DO-35 AXIAL-0.25 [15.0] | B20: DO-35 AXIAL-0.25 [15.0] Glass | C20: $P | D20: 16777215 | E20: =2mm | F20: =28mm | G20: =15mm | H20: ="="&INDEX(PkgInstanceValues,1,MATCH(MID(H$2,1+LEN("$VALUE@"),LEN(H$2)-LEN("$Value@@Equations")),PkgInstanceHdr,0))&"mm" -> =0.25mm | I20: =4mm | J20: =0.5mm | K20: =1mm | L20: =1.3mm | M20: =0.1mm | N20: =2mm | O20: =6.35mm | P20: SOLIDWORKS Materials:Glass | Q20: DO-35 | R20: AXIAL-0.25 | AG20: =0.4mm | AH20: =0.4mm | AI20: =6.28318530717959mm | AJ20: =0.6mm | AN20: =0.16mm | AO20: =0.2mm | BC20: ='Design Table Calc1'!CK20 -> 0
A21: DO-35 AXIAL-0.25 [20.0] | B21: DO-35 AXIAL-0.25 [20.0] Glass | C21: $P | D21: 16777215 | E21: =2mm | F21: =28mm | G21: =20mm | H21: ="="&INDEX(PkgInstanceValues,1,MATCH(MID(H$2,1+LEN("$VALUE@"),LEN(H$2)-LEN("$Value@@Equations")),PkgInstanceHdr,0))&"mm" -> =0.25mm | I21: =4mm | J21: =0.5mm | K21: =1mm | L21: =1.3mm | M21: =0.1mm | N21: =2mm | O21: =6.35mm | P21: SOLIDWORKS Materials:Glass | Q21: DO-35 | R21: AXIAL-0.25 | AG21: =0.4mm | AH21: =0.4mm | AI21: =6.28318530717959mm | AJ21: =0.6mm | AN21: =0.16mm | AO21: =0.2mm | BC21: ='Design Table Calc1'!CK21 -> 0
A22: DO-35 AXIAL-0.3 | B22: DO-35 AXIAL-0.3 Glass | C22: $P | D22: 16777215 | E22: =2mm | F22: =28mm | G22: =1mm | H22: ="="&INDEX(PkgInstanceValues,1,MATCH(MID(H$2,1+LEN("$VALUE@"),LEN(H$2)-LEN("$Value@@Equations")),PkgInstanceHdr,0))&"mm" -> =0.25mm | I22: =4mm | J22: =0.5mm | K22: =1mm | L22: =1.3mm | M22: =0.1mm | N22: =2mm | O22: =7.62mm | P22: SOLIDWORKS Materials:Glass | Q22: DO-35 | R22: AXIAL-0.3 | AG22: =0.4mm | AH22: =0.4mm | AI22: =6.28318530717959mm | AJ22: =0.6mm | AN22: =0.16mm | AO22: =0.2mm | BC22: ='Design Table Calc1'!CK22 -> 0
A23: DO-35 AXIAL-0.3 [05.0] | B23: DO-35 AXIAL-0.3 [05.0] Glass | C23: $P | D23: 16777215 | E23: =2mm | F23: =28mm | G23: =5mm | H23: ="="&INDEX(PkgInstanceValues,1,MATCH(MID(H$2,1+LEN("$VALUE@"),LEN(H$2)-LEN("$Value@@Equations")),PkgInstanceHdr,0))&"mm" -> =0.25mm | I23: =4mm | J23: =0.5mm | K23: =1mm | L23: =1.3mm | M23: =0.1mm | N23: =2mm | O23: =7.62mm | P23: SOLIDWORKS Materials:Glass | Q23: DO-35 | R23: AXIAL-0.3 | AG23: =0.4mm | AH23: =0.4mm | AI23: =6.28318530717959mm | AJ23: =0.6mm | AN23: =0.16mm | AO23: =0.2mm | BC23: ='Design Table Calc1'!CK23 -> 0
A24: DO-35 AXIAL-0.3 [10.0] | B24: DO-35 AXIAL-0.3 [10.0] Glass | C24: $P | D24: 16777215 | E24: =2mm | F24: =28mm | G24: =10mm | H24: ="="&INDEX(PkgInstanceValues,1,MATCH(MID(H$2,1+LEN("$VALUE@"),LEN(H$2)-LEN("$Value@@Equations")),PkgInstanceHdr,0))&"mm" -> =0.25mm | I24: =4mm | J24: =0.5mm | K24: =1mm | L24: =1.3mm | M24: =0.1mm | N24: =2mm | O24: =7.62mm | P24: SOLIDWORKS Materials:Glass | Q24: DO-35 | R24: AXIAL-0.3 | AG24: =0.4mm | AH24: =0.4mm | AI24: =6.28318530717959mm | AJ24: =0.6mm | AN24: =0.16mm | AO24: =0.2mm | BC24: ='Design Table Calc1'!CK24 -> 0
A25: DO-35 AXIAL-0.3 [15.0] | B25: DO-35 AXIAL-0.3 [15.0] Glass | C25: $P | D25: 16777215 | E25: =2mm | F25: =28mm | G25: =15mm | H25: ="="&INDEX(PkgInstanceValues,1,MATCH(MID(H$2,1+LEN("$VALUE@"),LEN(H$2)-LEN("$Value@@Equations")),PkgInstanceHdr,0))&"mm" -> =0.25mm | I25: =4mm | J25: =0.5mm | K25: =1mm | L25: =1.3mm | M25: =0.1mm | N25: =2mm | O25: =7.62mm | P25: SOLIDWORKS Materials:Glass | Q25: DO-35 | R25: AXIAL-0.3 | AG25: =0.4mm | AH25: =0.4mm | AI25: =6.28318530717959mm | AJ25: =0.6mm | AN25: =0.16mm | AO25: =0.2mm | BC25: ='Design Table Calc1'!CK25 -> 0
A26: DO-35 AXIAL-0.3 [20.0] | B26: DO-35 AXIAL-0.3 [20.0] Glass | C26: $P | D26: 16777215 | E26: =2mm | F26: =28mm | G26: =20mm | H26: ="="&INDEX(PkgInstanceValues,1,MATCH(MID(H$2,1+LEN("$VALUE@"),LEN(H$2)-LEN("$Value@@Equations")),PkgInstanceHdr,0))&"mm" -> =0.25mm | I26: =4mm | J26: =0.5mm | K26: =1mm | L26: =1.3mm | M26: =0.1mm | N26: =2mm | O26: =7.62mm | P26: SOLIDWORKS Materials:Glass | Q26: DO-35 | R26: AXIAL-0.3 | AG26: =0.4mm | AH26: =0.4mm | AI26: =6.28318530717959mm | AJ26: =0.6mm | AN26: =0.16mm | AO26: =0.2mm | BC26: ='Design Table Calc1'!CK26 -> 0

Sheet _SWX
A1: $PARENT
A2: DO-41
A3: DO-41 AXIAL-0.4
A4: DO-41 AXIAL-0.5
A5: DO-201AD
A6: DO-201AD AXIAL-0.8
A7: DO-201AD AXIAL-0.7
A8: 017AA
A9: 017AA AXIAL-0.7
A10: 017AA AXIAL-0.8
A11: 017AA AXIAL-0.6
A12: DO-204AL
... A22: DO-35 AXIAL-0.4 [20.0]

Sheet Design Table Calc1
A1: Design Table for: Diode | CK1: {=IFERROR(MATCH(FALSE,$A1:$AX1=Sheet1!$A1:$AX1,0),0)} -> 0
B2: $DESCRIPTION | C2: $PARTNUMBER | D2: $COLOR | E2: $VALUE@Case Diameter@Equations | F2: $VALUE@Lead Length@Equations | G2: $VALUE@Stand Off@Equations | H2: $VALUE@End Fillet Radius@Equations | I2: $VALUE@Case Length@Equations | J2: $VALUE@Lead Diameter@Equations | K2: $VALUE@Cathode Indicator Ring Width@Equations | L2: $VALUE@Text Height@Equations | M2: $VALUE@Protrusion Length@Equations | N2: $VALUE@Lead Extend Length@Equations | O2: $VALUE@Lead Spacing@Equations | P2: $LIBRARY:MATERIAL@Diode | Q2: $PARENT | R2: $COMMENT | S2: $STATE@Internal H1 | T2: $STATE@Internal H2 | U2: $STATE@Text C1.0 S0.7 | V2: $STATE@TSketch C1.0 S0.7 | W2: $STATE@Text L2.0 S0.7 | X2: $STATE@TSketch L2.0 S0.7 | Y2: $STATE@Text L1.2 S0.6 | Z2: $STATE@TSketch L1.2 S0.6 | AA2: $STATE@Text C1.3 S0.2 | AB2: $STATE@TSketch C1.3 S0.2 | AC2: $STATE@Wrap2 | AD2: $STATE@Surface-Offset1 | AE2: $STATE@Thicken1 | AF2: $STATE@SurfaceCut1 | AG2: $VALUE@Text Indent@Equations | AH2: $VALUE@Text Indent Line2@Equations | AI2: $VALUE@Case Circumference@Equations | AJ2: $VALUE@Lead Bend Radius@Equations | AK2: $STATE@Case Axis | AL2: $STATE@Case Axis Sketch | AM2: $STATE@Lead Cut Surface | AN2: $VALUE@Text Vertical Space@Equations | AO2: $VALUE@Internal Centre Gap@Equations | AY2: Parent? | AZ2: Package | BA2: Lead Spacing (mils) | BB2: Lead Spacing Increment | BC2: Config Lead Spacing | BD2: Stand Off | BE2: Stand Off Increment | BF2: Config Stand Off | BG2: Lead Spacing Text | BH2: Stand Off Text | BI2: Case Diameter | BJ2: Lead Length | BK2: Stand Off | BL2: End Fillet Radius | BM2: Case Length | BN2: Lead Diameter | BO2: Cathode Indicator Ring Width | BP2: Text Height | BQ2: Text Vertical Space | BR2: Text Indent | BS2: Text Indent Line2 | BT2: Protrusion Length | BU2: Lead Extend Length | BV2: Lead Spacing | BW2: Case Circumference | BX2: Lead Bend Radius | BY2: Remaining Lead Length | BZ2: Internal Centre Gap | CA2: Package Index | CB2: Package Count | CC2: Package Instance | CD2: Lead Spacing Instances | CE2: Stand Off Instances | CF2: Lead Spacing Instance | CG2: Stand Off Instance | CH2: Required Package Instances | CK2: {=IFERROR(MATCH(FALSE,$A2:$AX2=Sheet1!$A2:$AX2,0),0)} -> 0
A3: DO-41 | B3: =TRIM(Package&" "&Lead_Spacing_Text&Stand_Off_Text&INDEX(PkgTable,$CA3,MATCH("Package Material",PkgTblHdr,0))) -> DO-41 AXIAL-0.3 Glass | C3: =IF(Parent?,"$C","$P") -> $C | D3: =INDEX(PkgTable,$CA3,MATCH(D$2,PkgTblHdr,0)) -> 16777215 | E3: ="="&INDEX(PkgInstanceValues,1,MATCH(MID(E$2,1+LEN("$VALUE@"),LEN(E$2)-LEN("$Value@@Equations")),PkgInstanceHdr,0))&"mm" -> =2.6mm | F3: ="="&INDEX(PkgInstanceValues,1,MATCH(MID(F$2,1+LEN("$VALUE@"),LEN(F$2)-LEN("$Value@@Equations")),PkgInstanceHdr,0))&"mm" -> =26mm | G3: ="="&Config_Stand_Off&"mm" -> =1mm | H3: ="="&INDEX(PkgInstanceValues,1,MATCH(MID(H$2,1+LEN("$VALUE@"),LEN(H$2)-LEN("$Value@@Equations")),PkgInstanceHdr,0))&"mm" -> =0.65mm | I3: ="="&INDEX(PkgInstanceValues,1,MATCH(MID(I$2,1+LEN("$VALUE@"),LEN(I$2)-LEN("$Value@@Equations")),PkgInstanceHdr,0))&"mm" -> =4.1mm | J3: ="="&INDEX(PkgInstanceValues,1,MATCH(MID(J$2,1+LEN("$VALUE@"),LEN(J$2)-LEN("$Value@@Equations")),PkgInstanceHdr,0))&"mm" -> =0.7mm | K3: ="="&INDEX(PkgInstanceValues,1,MATCH(MID(K$2,1+LEN("$VALUE@"),LEN(K$2)-LEN("$Value@@Equations")),PkgInstanceHdr,0))&"mm" -> =0.9mm | L3: ="="&INDEX(PkgInstanceValues,1,MATCH(MID(L$2,1+LEN("$VALUE@"),LEN(L$2)-LEN("$Value@@Equations")),PkgInstanceHdr,0))&"mm" -> =1mm | M3: ="="&INDEX(PkgInstanceValues,1,MATCH(MID(M$2,1+LEN("$VALUE@"),LEN(M$2)-LEN("$Value@@Equations")),PkgInstanceHdr,0))&"mm" -> =0.1mm | N3: ="="&INDEX(PkgInstanceValues,1,MATCH(MID(N$2,1+LEN("$VALUE@"),LEN(N$2)-LEN("$Value@@Equations")),PkgInstanceHdr,0))&"mm" -> =2mm | O3: ="="&Config_Lead_Spacing*25.4/1000&"mm" -> =7.62mm | P3: =INDEX(PkgTable,$CA3,MATCH(P$2,PkgTblHdr,0)) -> SOLIDWORKS Materials:Glass | R3: =Lead_Spacing_Text -> AXIAL-0.3 | S3: =IF($AY3,INDEX(PkgTable,$CA3,MATCH(S$2,PkgTblHdr,0)),"") -> U | T3: =IF($AY3,INDEX(PkgTable,$CA3,MATCH(T$2,PkgTblHdr,0)),"") -> U | U3: =IF($AY3,INDEX(PkgTable,$CA3,MATCH(U$2,PkgTblHdr,0)),"") -> U | V3: =IF($AY3,INDEX(PkgTable,$CA3,MATCH(V$2,PkgTblHdr,0)),"") -> U | W3: =IF($AY3,INDEX(PkgTable,$CA3,MATCH(W$2,PkgTblHdr,0)),"") -> S | X3: =IF($AY3,INDEX(PkgTable,$CA3,MATCH(X$2,PkgTblHdr,0)),"") -> U | Y3: =IF($AY3,INDEX(PkgTable,$CA3,MATCH(Y$2,PkgTblHdr,0)),"") -> S | Z3: =IF($AY3,INDEX(PkgTable,$CA3,MATCH(Z$2,PkgTblHdr,0)),"") -> U | ... AE3: =IF($AY3,INDEX(PkgTable,$CA3,MATCH(AE$2,PkgTblHdr,0)),"") -> U | AF3: U | AG3: ="="&INDEX(PkgInstanceValues,1,MATCH(MID(AG$2,1+LEN("$VALUE@"),LEN(AG$2)-LEN("$Value@@Equations")),PkgInstanceHdr,0))&"mm" -> =0.001mm | AH3: ="="&INDEX(PkgInstanceValues,1,MATCH(MID(AH$2,1+LEN("$VALUE@"),LEN(AH$2)-LEN("$Value@@Equations")),PkgInstanceHdr,0))&"mm" -> =0.001mm | AI3: ="="&INDEX(PkgInstanceValues,1,MATCH(MID(AI$2,1+LEN("$VALUE@"),LEN(AI$2)-LEN("$Value@@Equations")),PkgInstanceHdr,0))&"mm" -> =8.16814089933346mm | AJ3: ="="&INDEX(PkgInstanceValues,1,MATCH(MID(AJ$2,1+LEN("$VALUE@"),LEN(AJ$2)-LEN("$Value@@Equations")),PkgInstanceHdr,0))&"mm" -> =0.84mm | AK3: =IF($AY3,"U","") -> U | AL3: =IF($AY3,"U","") -> U | AM3: =IF($AY3,"U","") -> U | AN3: ="="&INDEX(PkgInstanceValues,1,MATCH(MID(AN$2,1+LEN("$VALUE@"),LEN(AN$2)-LEN("$Value@@Equations")),PkgInstanceHdr,0))&"mm" -> =0.7mm | AO3: ="="&INDEX(PkgInstanceValues,1,MATCH(MID(AO$2,1+LEN("$VALUE@"),LEN(AO$2)-LEN("$Value@@Equations")),PkgInstanceHdr,0))&"mm" -> =0.1mm | AY3: =ISBLANK($Q3) -> TRUE | AZ3: =IF(Parent?,$A3,$Q3) -> DO-41 | BA3: =INDEX(PkgTable,$CA3,MATCH(BA$2,PkgTblHdr,0)) -> 300 | BB3: =INDEX(PkgTable,$CA3,MATCH(BB$2,PkgTblHdr,0)) -> 100 | BC3: =Lead_Spacing__mils+Lead_Spacing_Increment*($CF3-1)-IF(AND(Lead_Spacing_Increment>0,$CF3>1),MOD(Lead_Spacing__mils,Lead_Spacing_Increment),0) -> 300 | BD3: =INDEX(PkgTable,$CA3,MATCH(BD$2,PkgTblHdr,0)) -> 1 | BE3: =INDEX(PkgTable,$CA3,MATCH(BE$2,PkgTblHdr,0)) -> 0 | BF3: =Stand_Off+Stand_Off_Increment*($CG3-1)-IF(AND(Stand_Off_Increment>0,$CG3>1),MOD(Stand_Off,Stand_Off_Increment),0) -> 1 | BG3: ="AXIAL-"&TEXT($BC3/1000,"0.0##")&" " -> AXIAL-0.3 | BH3: =IF(Config_Stand_Off=1,"","["&TEXT(Config_Stand_Off,"00.0##")&"] ") | BI3: =INDEX(PkgTable,$CA3,MATCH(BI$2,PkgTblHdr,0)) -> 2.6 | BJ3: =INDEX(PkgTable,$CA3,MATCH(BJ$2,PkgTblHdr,0)) -> 26 | BK3: =INDEX(PkgTable,$CA3,MATCH(BK$2,PkgTblHdr,0)) -> 1 | BL3: =INDEX(PkgTable,$CA3,MATCH(BL$2,PkgTblHdr,0)) -> 0.65 | BM3: =INDEX(PkgTable,$CA3,MATCH(BM$2,PkgTblHdr,0)) -> 4.1 | BN3: =INDEX(PkgTable,$CA3,MATCH(BN$2,PkgTblHdr,0)) -> 0.7 | BO3: =INDEX(PkgTable,$CA3,MATCH(BO$2,PkgTblHdr,0)) -> 0.9 | BP3: =INDEX(PkgTable,$CA3,MATCH(BP$2,PkgTblHdr,0)) -> 1 | ... BX3: =INDEX(PkgTable,$CA3,MATCH(BX$2,PkgTblHdr,0)) -> 0.84 | BY3: =BJ3-(Lead_Extend_Length+Config_Stand_Off-2*Lead_Bend_Radius)-(Case_Diameter+Config_Lead_Spacing*25.4/1000+Lead_Bend_Radius*PI()-Case_Length)/2 -> 20.300531 | BZ3: =INDEX(PkgTable,$CA3,MATCH(BZ$2,PkgTblHdr,0)) -> 0.1 | CA3: =MATCH(Package,'Package Dimensions'!$B:$B,0)-2 -> 1 | CB3: =COUNTIF($AZ:$AZ,Package) -> 3 | CC3: =IF(Parent?,1,CC2+1) -> 1 | CD3: =INDEX(PkgTable,$CA3,MATCH(CD$2,PkgTblHdr,0)) -> 3 | CE3: =INDEX(PkgTable,$CA3,MATCH(CE$2,PkgTblHdr,0)) -> 1 | CF3: =1+MOD((CC3-MOD(CC3-1,CE3)-1)/CE3,CD3) -> 1 | CG3: =MOD($CC3-1,$CE3)+1 -> 1 | CH3: =CD3*CE3 -> 3 | CK3: {=IFERROR(MATCH(FALSE,$A3:$AX3=Sheet1!$A3:$AX3,0),0)} -> 0
A4: =TRIM($AZ4&" "&$BG4&$BH4) -> DO-41 AXIAL-0.4 | B4: =TRIM($AZ4&" "&$BG4&$BH4&INDEX(PkgTable,$CA4,MATCH("Package Material",PkgTblHdr,0))) -> DO-41 AXIAL-0.4 Glass | C4: =IF($AY4,"$C","$P") -> $P | D4: =INDEX(PkgTable,$CA4,MATCH(D$2,PkgTblHdr,0)) -> 16777215 | E4: ="="&INDEX(PkgInstanceValues,1,MATCH(MID(E$2,1+LEN("$VALUE@"),LEN(E$2)-LEN("$Value@@Equations")),PkgInstanceHdr,0))&"mm" -> =2.6mm | F4: ="="&INDEX(PkgInstanceValues,1,MATCH(MID(F$2,1+LEN("$VALUE@"),LEN(F$2)-LEN("$Value@@Equations")),PkgInstanceHdr,0))&"mm" -> =26mm | G4: ="="&$BF4&"mm" -> =1mm | H4: ="="&INDEX(PkgInstanceValues,1,MATCH(MID(H$2,1+LEN("$VALUE@"),LEN(H$2)-LEN("$Value@@Equations")),PkgInstanceHdr,0))&"mm" -> =0.65mm | I4: ="="&INDEX(PkgInstanceValues,1,MATCH(MID(I$2,1+LEN("$VALUE@"),LEN(I$2)-LEN("$Value@@Equations")),PkgInstanceHdr,0))&"mm" -> =4.1mm | J4: ="="&INDEX(PkgInstanceValues,1,MATCH(MID(J$2,1+LEN("$VALUE@"),LEN(J$2)-LEN("$Value@@Equations")),PkgInstanceHdr,0))&"mm" -> =0.7mm | K4: ="="&INDEX(PkgInstanceValues,1,MATCH(MID(K$2,1+LEN("$VALUE@"),LEN(K$2)-LEN("$Value@@Equations")),PkgInstanceHdr,0))&"mm" -> =0.9mm | L4: ="="&INDEX(PkgInstanceValues,1,MATCH(MID(L$2,1+LEN("$VALUE@"),LEN(L$2)-LEN("$Value@@Equations")),PkgInstanceHdr,0))&"mm" -> =1mm | M4: ="="&INDEX(PkgInstanceValues,1,MATCH(MID(M$2,1+LEN("$VALUE@"),LEN(M$2)-LEN("$Value@@Equations")),PkgInstanceHdr,0))&"mm" -> =0.1mm | N4: ="="&INDEX(PkgInstanceValues,1,MATCH(MID(N$2,1+LEN("$VALUE@"),LEN(N$2)-LEN("$Value@@Equations")),PkgInstanceHdr,0))&"mm" -> =2mm | O4: ="="&$BC4*25.4/1000&"mm" -> =10.16mm | P4: =INDEX(PkgTable,$CA4,MATCH(P$2,PkgTblHdr,0)) -> SOLIDWORKS Materials:Glass | Q4: =IF(ISBLANK($Q3),$A3,$Q3) -> DO-41 | R4: =$BG4 -> AXIAL-0.4 | S4: =IF($AY4,INDEX(PkgTable,$CA4,MATCH(S$2,PkgTblHdr,0)),"") | T4: =IF($AY4,INDEX(PkgTable,$CA4,MATCH(T$2,PkgTblHdr,0)),"") | U4: =IF($AY4,INDEX(PkgTable,$CA4,MATCH(U$2,PkgTblHdr,0)),"") | V4: =IF($AY4,INDEX(PkgTable,$CA4,MATCH(V$2,PkgTblHdr,0)),"") | W4: =IF($AY4,INDEX(PkgTable,$CA4,MATCH(W$2,PkgTblHdr,0)),"") | X4: =IF($AY4,INDEX(PkgTable,$CA4,MATCH(X$2,PkgTblHdr,0)),"") | Y4: =IF($AY4,INDEX(PkgTable,$CA4,MATCH(Y$2,PkgTblHdr,0)),"") | Z4: =IF($AY4,INDEX(PkgTable,$CA4,MATCH(Z$2,PkgTblHdr,0)),"") | ... AE4: =IF($AY4,INDEX(PkgTable,$CA4,MATCH(AE$2,PkgTblHdr,0)),"") | AG4: ="="&INDEX(PkgInstanceValues,1,MATCH(MID(AG$2,1+LEN("$VALUE@"),LEN(AG$2)-LEN("$Value@@Equations")),PkgInstanceHdr,0))&"mm" -> =0.001mm | AH4: ="="&INDEX(PkgInstanceValues,1,MATCH(MID(AH$2,1+LEN("$VALUE@"),LEN(AH$2)-LEN("$Value@@Equations")),PkgInstanceHdr,0))&"mm" -> =0.001mm | AI4: ="="&INDEX(PkgInstanceValues,1,MATCH(MID(AI$2,1+LEN("$VALUE@"),LEN(AI$2)-LEN("$Value@@Equations")),PkgInstanceHdr,0))&"mm" -> =8.16814089933346mm | AJ4: ="="&INDEX(PkgInstanceValues,1,MATCH(MID(AJ$2,1+LEN("$VALUE@"),LEN(AJ$2)-LEN("$Value@@Equations")),PkgInstanceHdr,0))&"mm" -> =0.84mm | AK4: =IF($AY4,"U","") | AL4: =IF($AY4,"U","") | AM4: =IF($AY4,"U","") | AN4: ="="&INDEX(PkgInstanceValues,1,MATCH(MID(AN$2,1+LEN("$VALUE@"),LEN(AN$2)-LEN("$Value@@Equations")),PkgInstanceHdr,0))&"mm" -> =0.7mm | AO4: ="="&INDEX(PkgInstanceValues,1,MATCH(MID(AO$2,1+LEN("$VALUE@"),LEN(AO$2)-LEN("$Value@@Equations")),PkgInstanceHdr,0))&"mm" -> =0.1mm | AY4: =ISBLANK($Q4) -> FALSE | AZ4: =IF(Parent?,$A4,$Q4) -> DO-41 | BA4: =INDEX(PkgTable,$CA4,MATCH(BA$2,PkgTblHdr,0)) -> 300 | BB4: =INDEX(PkgTable,$CA4,MATCH(BB$2,PkgTblHdr,0)) -> 100 | BC4: =$BA4+$BB4*($CF4-1)-IF(AND($BB4>0,$CF4>1),MOD($BA4,$BB4),0) -> 400 | BD4: =INDEX(PkgTable,$CA4,MATCH(BD$2,PkgTblHdr,0)) -> 1 | BE4: =INDEX(PkgTable,$CA4,MATCH(BE$2,PkgTblHdr,0)) -> 0 | BF4: =$BD4+$BE4*($CG4-1)-IF(AND($BE4>0,$CG4>1),MOD($BD4,$BE4),0) -> 1 | BG4: ="AXIAL-"&TEXT($BC4/1000,"0.0##")&" " -> AXIAL-0.4 | BH4: =IF(BF4=1,"","["&TEXT(BF4,"00.0##")&"] ") | BI4: =INDEX(PkgTable,$CA4,MATCH(BI$2,PkgTblHdr,0)) -> 2.6 | BJ4: =INDEX(PkgTable,$CA4,MATCH(BJ$2,PkgTblHdr,0)) -> 26 | BK4: =INDEX(PkgTable,$CA4,MATCH(BK$2,PkgTblHdr,0)) -> 1 | BL4: =INDEX(PkgTable,$CA4,MATCH(BL$2,PkgTblHdr,0)) -> 0.65 | BM4: =INDEX(PkgTable,$CA4,MATCH(BM$2,PkgTblHdr,0)) -> 4.1 | BN4: =INDEX(PkgTable,$CA4,MATCH(BN$2,PkgTblHdr,0)) -> 0.7 | BO4: =INDEX(PkgTable,$CA4,MATCH(BO$2,PkgTblHdr,0)) -> 0.9 | BP4: =INDEX(PkgTable,$CA4,MATCH(BP$2,PkgTblHdr,0)) -> 1 | ... BX4: =INDEX(PkgTable,$CA4,MATCH(BX$2,PkgTblHdr,0)) -> 0.84 | BY4: =BJ4-(Lead_Extend_Length+Config_Stand_Off-2*Lead_Bend_Radius)-(Case_Diameter+Config_Lead_Spacing*25.4/1000+Lead_Bend_Radius*PI()-Case_Length)/2 -> 19.030531 | BZ4: =INDEX(PkgTable,$CA4,MATCH(BZ$2,PkgTblHdr,0)) -> 0.1 | CA4: =MATCH($AZ4,'Package Dimensions'!$B:$B,0)-2 -> 1 | CB4: =COUNTIF($AZ:$AZ,$AZ4) -> 3 | CC4: =IF($AY4,1,CC3+1) -> 2 | CD4: =INDEX(PkgTable,$CA4,MATCH(CD$2,PkgTblHdr,0)) -> 3 | CE4: =INDEX(PkgTable,$CA4,MATCH(CE$2,PkgTblHdr,0)) -> 1 | CF4: =1+MOD((CC4-MOD(CC4-1,CE4)-1)/CE4,CD4) -> 2 | CG4: =MOD($CC4-1,$CE4)+1 -> 1 | CH4: =CD4*CE4 -> 3 | CK4: {=IFERROR(MATCH(FALSE,$A4:$AX4=Sheet1!$A4:$AX4,0),0)} -> 0
A5: =TRIM($AZ5&" "&$BG5&$BH5) -> DO-41 AXIAL-0.5 | B5: =TRIM($AZ5&" "&$BG5&$BH5&INDEX(PkgTable,$CA5,MATCH("Package Material",PkgTblHdr,0))) -> DO-41 AXIAL-0.5 Glass | C5: =IF($AY5,"$C","$P") -> $P | D5: =INDEX(PkgTable,$CA5,MATCH(D$2,PkgTblHdr,0)) -> 16777215 | E5: ="="&INDEX(PkgInstanceValues,1,MATCH(MID(E$2,1+LEN("$VALUE@"),LEN(E$2)-LEN("$Value@@Equations")),PkgInstanceHdr,0))&"mm" -> =2.6mm | F5: ="="&INDEX(PkgInstanceValues,1,MATCH(MID(F$2,1+LEN("$VALUE@"),LEN(F$2)-LEN("$Value@@Equations")),PkgInstanceHdr,0))&"mm" -> =26mm | G5: ="="&$BF5&"mm" -> =1mm | H5: ="="&INDEX(PkgInstanceValues,1,MATCH(MID(H$2,1+LEN("$VALUE@"),LEN(H$2)-LEN("$Value@@Equations")),PkgInstanceHdr,0))&"mm" -> =0.65mm | I5: ="="&INDEX(PkgInstanceValues,1,MATCH(MID(I$2,1+LEN("$VALUE@"),LEN(I$2)-LEN("$Value@@Equations")),PkgInstanceHdr,0))&"mm" -> =4.1mm | J5: ="="&INDEX(PkgInstanceValues,1,MATCH(MID(J$2,1+LEN("$VALUE@"),LEN(J$2)-LEN("$Value@@Equations")),PkgInstanceHdr,0))&"mm" -> =0.7mm | K5: ="="&INDEX(PkgInstanceValues,1,MATCH(MID(K$2,1+LEN("$VALUE@"),LEN(K$2)-LEN("$Value@@Equations")),PkgInstanceHdr,0))&"mm" -> =0.9mm | L5: ="="&INDEX(PkgInstanceValues,1,MATCH(MID(L$2,1+LEN("$VALUE@"),LEN(L$2)-LEN("$Value@@Equations")),PkgInstanceHdr,0))&"mm" -> =1mm | M5: ="="&INDEX(PkgInstanceValues,1,MATCH(MID(M$2,1+LEN("$VALUE@"),LEN(M$2)-LEN("$Value@@Equations")),PkgInstanceHdr,0))&"mm" -> =0.1mm | N5: ="="&INDEX(PkgInstanceValues,1,MATCH(MID(N$2,1+LEN("$VALUE@"),LEN(N$2)-LEN("$Value@@Equations")),PkgInstanceHdr,0))&"mm" -> =2mm | O5: ="="&$BC5*25.4/1000&"mm" -> =12.7mm | P5: =INDEX(PkgTable,$CA5,MATCH(P$2,PkgTblHdr,0)) -> SOLIDWORKS Materials:Glass | Q5: =IF(ISBLANK($Q4),$A4,$Q4) -> DO-41 | R5: =$BG5 -> AXIAL-0.5 | S5: =IF($AY5,INDEX(PkgTable,$CA5,MATCH(S$2,PkgTblHdr,0)),"") | T5: =IF($AY5,INDEX(PkgTable,$CA5,MATCH(T$2,PkgTblHdr,0)),"") | U5: =IF($AY5,INDEX(PkgTable,$CA5,MATCH(U$2,PkgTblHdr,0)),"") | V5: =IF($AY5,INDEX(PkgTable,$CA5,MATCH(V$2,PkgTblHdr,0)),"") | W5: =IF($AY5,INDEX(PkgTable,$CA5,MATCH(W$2,PkgTblHdr,0)),"") | X5: =IF($AY5,INDEX(PkgTable,$CA5,MATCH(X$2,PkgTblHdr,0)),"") | Y5: =IF($AY5,INDEX(PkgTable,$CA5,MATCH(Y$2,PkgTblHdr,0)),"") | Z5: =IF($AY5,INDEX(PkgTable,$CA5,MATCH(Z$2,PkgTblHdr,0)),"") | ... AE5: =IF($AY5,INDEX(PkgTable,$CA5,MATCH(AE$2,PkgTblHdr,0)),"") | AG5: ="="&INDEX(PkgInstanceValues,1,MATCH(MID(AG$2,1+LEN("$VALUE@"),LEN(AG$2)-LEN("$Value@@Equations")),PkgInstanceHdr,0))&"mm" -> =0.001mm | AH5: ="="&INDEX(PkgInstanceValues,1,MATCH(MID(AH$2,1+LEN("$VALUE@"),LEN(AH$2)-LEN("$Value@@Equations")),PkgInstanceHdr,0))&"mm" -> =0.001mm | AI5: ="="&INDEX(PkgInstanceValues,1,MATCH(MID(AI$2,1+LEN("$VALUE@"),LEN(AI$2)-LEN("$Value@@Equations")),PkgInstanceHdr,0))&"mm" -> =8.16814089933346mm | AJ5: ="="&INDEX(PkgInstanceValues,1,MATCH(MID(AJ$2,1+LEN("$VALUE@"),LEN(AJ$2)-LEN("$Value@@Equations")),PkgInstanceHdr,0))&"mm" -> =0.84mm | AK5: =IF($AY5,"U","") | AL5: =IF($AY5,"U","") | AM5: =IF($AY5,"U","") | AN5: ="="&INDEX(PkgInstanceValues,1,MATCH(MID(AN$2,1+LEN("$VALUE@"),LEN(AN$2)-LEN("$Value@@Equations")),PkgInstanceHdr,0))&"mm" -> =0.7mm | AO5: ="="&INDEX(PkgInstanceValues,1,MATCH(MID(AO$2,1+LEN("$VALUE@"),LEN(AO$2)-LEN("$Value@@Equations")),PkgInstanceHdr,0))&"mm" -> =0.1mm | AY5: =ISBLANK($Q5) -> FALSE | AZ5: =IF(Parent?,$A5,$Q5) -> DO-41 | BA5: =INDEX(PkgTable,$CA5,MATCH(BA$2,PkgTblHdr,0)) -> 300 | BB5: =INDEX(PkgTable,$CA5,MATCH(BB$2,PkgTblHdr,0)) -> 100 | BC5: =$BA5+$BB5*($CF5-1)-IF(AND($BB5>0,$CF5>1),MOD($BA5,$BB5),0) -> 500 | BD5: =INDEX(PkgTable,$CA5,MATCH(BD$2,PkgTblHdr,0)) -> 1 | BE5: =INDEX(PkgTable,$CA5,MATCH(BE$2,PkgTblHdr,0)) -> 0 | BF5: =$BD5+$BE5*($CG5-1)-IF(AND($BE5>0,$CG5>1),MOD($BD5,$BE5),0) -> 1 | BG5: ="AXIAL-"&TEXT($BC5/1000,"0.0##")&" " -> AXIAL-0.5 | BH5: =IF(BF5=1,"","["&TEXT(BF5,"00.0##")&"] ") | BI5: =INDEX(PkgTable,$CA5,MATCH(BI$2,PkgTblHdr,0)) -> 2.6 | BJ5: =INDEX(PkgTable,$CA5,MATCH(BJ$2,PkgTblHdr,0)) -> 26 | BK5: =INDEX(PkgTable,$CA5,MATCH(BK$2,PkgTblHdr,0)) -> 1 | BL5: =INDEX(PkgTable,$CA5,MATCH(BL$2,PkgTblHdr,0)) -> 0.65 | BM5: =INDEX(PkgTable,$CA5,MATCH(BM$2,PkgTblHdr,0)) -> 4.1 | BN5: =INDEX(PkgTable,$CA5,MATCH(BN$2,PkgTblHdr,0)) -> 0.7 | BO5: =INDEX(PkgTable,$CA5,MATCH(BO$2,PkgTblHdr,0)) -> 0.9 | BP5: =INDEX(PkgTable,$CA5,MATCH(BP$2,PkgTblHdr,0)) -> 1 | ... BX5: =INDEX(PkgTable,$CA5,MATCH(BX$2,PkgTblHdr,0)) -> 0.84 | BY5: =BJ5-(Lead_Extend_Length+Config_Stand_Off-2*Lead_Bend_Radius)-(Case_Diameter+Config_Lead_Spacing*25.4/1000+Lead_Bend_Radius*PI()-Case_Length)/2 -> 17.760531 | BZ5: =INDEX(PkgTable,$CA5,MATCH(BZ$2,PkgTblHdr,0)) -> 0.1 | CA5: =MATCH($AZ5,'Package Dimensions'!$B:$B,0)-2 -> 1 | CB5: =COUNTIF($AZ:$AZ,$AZ5) -> 3 | CC5: =IF($AY5,1,CC4+1) -> 3 | CD5: =INDEX(PkgTable,$CA5,MATCH(CD$2,PkgTblHdr,0)) -> 3 | CE5: =INDEX(PkgTable,$CA5,MATCH(CE$2,PkgTblHdr,0)) -> 1 | CF5: =1+MOD((CC5-MOD(CC5-1,CE5)-1)/CE5,CD5) -> 3 | CG5: =MOD($CC5-1,$CE5)+1 -> 1 | CH5: =CD5*CE5 -> 3 | CK5: {=IFERROR(MATCH(FALSE,$A5:$AX5=Sheet1!$A5:$AX5,0),0)} -> 0
A6: DO-201AD | B6: =TRIM($AZ6&" "&$BG6&$BH6&INDEX(PkgTable,$CA6,MATCH("Package Material",PkgTblHdr,0))) -> DO-201AD AXIAL-0.6 Plastic | C6: =IF($AY6,"$C","$P") -> $C | D6: =INDEX(PkgTable,$CA6,MATCH(D$2,PkgTblHdr,0)) -> 328965 | E6: ="="&INDEX(PkgInstanceValues,1,MATCH(MID(E$2,1+LEN("$VALUE@"),LEN(E$2)-LEN("$Value@@Equations")),PkgInstanceHdr,0))&"mm" -> =5.3mm | F6: ="="&INDEX(PkgInstanceValues,1,MATCH(MID(F$2,1+LEN("$VALUE@"),LEN(F$2)-LEN("$Value@@Equations")),PkgInstanceHdr,0))&"mm" -> =25.4mm | G6: ="="&$BF6&"mm" -> =1mm | H6: ="="&INDEX(PkgInstanceValues,1,MATCH(MID(H$2,1+LEN("$VALUE@"),LEN(H$2)-LEN("$Value@@Equations")),PkgInstanceHdr,0))&"mm" -> =0.0828125mm | I6: ="="&INDEX(PkgInstanceValues,1,MATCH(MID(I$2,1+LEN("$VALUE@"),LEN(I$2)-LEN("$Value@@Equations")),PkgInstanceHdr,0))&"mm" -> =9.5mm | J6: ="="&INDEX(PkgInstanceValues,1,MATCH(MID(J$2,1+LEN("$VALUE@"),LEN(J$2)-LEN("$Value@@Equations")),PkgInstanceHdr,0))&"mm" -> =1.3mm | K6: ="="&INDEX(PkgInstanceValues,1,MATCH(MID(K$2,1+LEN("$VALUE@"),LEN(K$2)-LEN("$Value@@Equations")),PkgInstanceHdr,0))&"mm" -> =1.8mm | L6: ="="&INDEX(PkgInstanceValues,1,MATCH(MID(L$2,1+LEN("$VALUE@"),LEN(L$2)-LEN("$Value@@Equations")),PkgInstanceHdr,0))&"mm" -> =2mm | M6: ="="&INDEX(PkgInstanceValues,1,MATCH(MID(M$2,1+LEN("$VALUE@"),LEN(M$2)-LEN("$Value@@Equations")),PkgInstanceHdr,0))&"mm" -> =0.001mm | N6: ="="&INDEX(PkgInstanceValues,1,MATCH(MID(N$2,1+LEN("$VALUE@"),LEN(N$2)-LEN("$Value@@Equations")),PkgInstanceHdr,0))&"mm" -> =2mm | O6: ="="&$BC6*25.4/1000&"mm" -> =15.24mm | P6: =INDEX(PkgTable,$CA6,MATCH(P$2,PkgTblHdr,0)) -> SOLIDWORKS Materials:PUR | R6: =$BG6 -> AXIAL-0.6 | S6: =IF($AY6,INDEX(PkgTable,$CA6,MATCH(S$2,PkgTblHdr,0)),"") -> S | T6: =IF($AY6,INDEX(PkgTable,$CA6,MATCH(T$2,PkgTblHdr,0)),"") -> S | U6: =IF($AY6,INDEX(PkgTable,$CA6,MATCH(U$2,PkgTblHdr,0)),"") -> S | V6: =IF($AY6,INDEX(PkgTable,$CA6,MATCH(V$2,PkgTblHdr,0)),"") -> U | W6: =IF($AY6,INDEX(PkgTable,$CA6,MATCH(W$2,PkgTblHdr,0)),"") -> U | X6: =IF($AY6,INDEX(PkgTable,$CA6,MATCH(X$2,PkgTblHdr,0)),"") -> U | Y6: =IF($AY6,INDEX(PkgTable,$CA6,MATCH(Y$2,PkgTblHdr,0)),"") -> S | Z6: =IF($AY6,INDEX(PkgTable,$CA6,MATCH(Z$2,PkgTblHdr,0)),"") -> U | ... AE6: =IF($AY6,INDEX(PkgTable,$CA6,MATCH(AE$2,PkgTblHdr,0)),"") -> U | AF6: U | AG6: ="="&INDEX(PkgInstanceValues,1,MATCH(MID(AG$2,1+LEN("$VALUE@"),LEN(AG$2)-LEN("$Value@@Equations")),PkgInstanceHdr,0))&"mm" -> =0.4mm | AH6: ="="&INDEX(PkgInstanceValues,1,MATCH(MID(AH$2,1+LEN("$VALUE@"),LEN(AH$2)-LEN("$Value@@Equations")),PkgInstanceHdr,0))&"mm" -> =0.4mm | AI6: ="="&INDEX(PkgInstanceValues,1,MATCH(MID(AI$2,1+LEN("$VALUE@"),LEN(AI$2)-LEN("$Value@@Equations")),PkgInstanceHdr,0))&"mm" -> =16.6504410640259mm | AJ6: ="="&INDEX(PkgInstanceValues,1,MATCH(MID(AJ$2,1+LEN("$VALUE@"),LEN(AJ$2)-LEN("$Value@@Equations")),PkgInstanceHdr,0))&"mm" -> =1.56mm | AK6: =IF($AY6,"U","") -> U | AL6: =IF($AY6,"U","") -> U | AM6: =IF($AY6,"U","") -> U | AN6: ="="&INDEX(PkgInstanceValues,1,MATCH(MID(AN$2,1+LEN("$VALUE@"),LEN(AN$2)-LEN("$Value@@Equations")),PkgInstanceHdr,0))&"mm" -> =0.7mm | AO6: ="="&INDEX(PkgInstanceValues,1,MATCH(MID(AO$2,1+LEN("$VALUE@"),LEN(AO$2)-LEN("$Value@@Equations")),PkgInstanceHdr,0))&"mm" -> =0.1mm | AY6: =ISBLANK($Q6) -> TRUE | AZ6: =IF(Parent?,$A6,$Q6) -> DO-201AD | BA6: =INDEX(PkgTable,$CA6,MATCH(BA$2,PkgTblHdr,0)) -> 600 | BB6: =INDEX(PkgTable,$CA6,MATCH(BB$2,PkgTblHdr,0)) -> 100 | BC6: =$BA6+$BB6*($CF6-1)-IF(AND($BB6>0,$CF6>1),MOD($BA6,$BB6),0) -> 600 | BD6: =INDEX(PkgTable,$CA6,MATCH(BD$2,PkgTblHdr,0)) -> 1 | BE6: =INDEX(PkgTable,$CA6,MATCH(BE$2,PkgTblHdr,0)) -> 0 | BF6: =$BD6+$BE6*($CG6-1)-IF(AND($BE6>0,$CG6>1),MOD($BD6,$BE6),0) -> 1 | BG6: ="AXIAL-"&TEXT($BC6/1000,"0.0##")&" " -> AXIAL-0.6 | BH6: =IF(BF6=1,"","["&TEXT(BF6,"00.0##")&"] ") | BI6: =INDEX(PkgTable,$CA6,MATCH(BI$2,PkgTblHdr,0)) -> 5.3 | BJ6: =INDEX(PkgTable,$CA6,MATCH(BJ$2,PkgTblHdr,0)) -> 25.4 | BK6: =INDEX(PkgTable,$CA6,MATCH(BK$2,PkgTblHdr,0)) -> 1 | BL6: =INDEX(PkgTable,$CA6,MATCH(BL$2,PkgTblHdr,0)) -> 0.0828125 | BM6: =INDEX(PkgTable,$CA6,MATCH(BM$2,PkgTblHdr,0)) -> 9.5 | BN6: =INDEX(PkgTable,$CA6,MATCH(BN$2,PkgTblHdr,0)) -> 1.3 | BO6: =INDEX(PkgTable,$CA6,MATCH(BO$2,PkgTblHdr,0)) -> 1.8 | BP6: =INDEX(PkgTable,$CA6,MATCH(BP$2,PkgTblHdr,0)) -> 2 | ... BX6: =INDEX(PkgTable,$CA6,MATCH(BX$2,PkgTblHdr,0)) -> 1.56 | BY6: =BJ6-(Lead_Extend_Length+Config_Stand_Off-2*Lead_Bend_Radius)-(Case_Diameter+Config_Lead_Spacing*25.4/1000+Lead_Bend_Radius*PI()-Case_Length)/2 -> 17.549558 | BZ6: =INDEX(PkgTable,$CA6,MATCH(BZ$2,PkgTblHdr,0)) -> 0.1 | CA6: =MATCH($AZ6,'Package Dimensions'!$B:$B,0)-2 -> 2 | CB6: =COUNTIF($AZ:$AZ,$AZ6) -> 3 | CC6: =IF($AY6,1,CC5+1) -> 1 | CD6: =INDEX(PkgTable,$CA6,MATCH(CD$2,PkgTblHdr,0)) -> 3 | CE6: =INDEX(PkgTable,$CA6,MATCH(CE$2,PkgTblHdr,0)) -> 1 | CF6: =1+MOD((CC6-MOD(CC6-1,CE6)-1)/CE6,CD6) -> 1 | CG6: =MOD($CC6-1,$CE6)+1 -> 1 | CH6: =CD6*CE6 -> 3 | CK6: {=IFERROR(MATCH(FALSE,$A6:$AX6=Sheet1!$A6:$AX6,0),0)} -> 0
A7: =TRIM($AZ7&" "&$BG7&$BH7) -> DO-201AD AXIAL-0.7 | B7: =TRIM($AZ7&" "&$BG7&$BH7&INDEX(PkgTable,$CA7,MATCH("Package Material",PkgTblHdr,0))) -> DO-201AD AXIAL-0.7 Plastic | C7: =IF($AY7,"$C","$P") -> $P | D7: =INDEX(PkgTable,$CA7,MATCH(D$2,PkgTblHdr,0)) -> 328965 | E7: ="="&INDEX(PkgInstanceValues,1,MATCH(MID(E$2,1+LEN("$VALUE@"),LEN(E$2)-LEN("$Value@@Equations")),PkgInstanceHdr,0))&"mm" -> =5.3mm | F7: ="="&INDEX(PkgInstanceValues,1,MATCH(MID(F$2,1+LEN("$VALUE@"),LEN(F$2)-LEN("$Value@@Equations")),PkgInstanceHdr,0))&"mm" -> =25.4mm | G7: ="="&$BF7&"mm" -> =1mm | H7: ="="&INDEX(PkgInstanceValues,1,MATCH(MID(H$2,1+LEN("$VALUE@"),LEN(H$2)-LEN("$Value@@Equations")),PkgInstanceHdr,0))&"mm" -> =0.0828125mm | I7: ="="&INDEX(PkgInstanceValues,1,MATCH(MID(I$2,1+LEN("$VALUE@"),LEN(I$2)-LEN("$Value@@Equations")),PkgInstanceHdr,0))&"mm" -> =9.5mm | J7: ="="&INDEX(PkgInstanceValues,1,MATCH(MID(J$2,1+LEN("$VALUE@"),LEN(J$2)-LEN("$Value@@Equations")),PkgInstanceHdr,0))&"mm" -> =1.3mm | K7: ="="&INDEX(PkgInstanceValues,1,MATCH(MID(K$2,1+LEN("$VALUE@"),LEN(K$2)-LEN("$Value@@Equations")),PkgInstanceHdr,0))&"mm" -> =1.8mm | L7: ="="&INDEX(PkgInstanceValues,1,MATCH(MID(L$2,1+LEN("$VALUE@"),LEN(L$2)-LEN("$Value@@Equations")),PkgInstanceHdr,0))&"mm" -> =2mm | M7: ="="&INDEX(PkgInstanceValues,1,MATCH(MID(M$2,1+LEN("$VALUE@"),LEN(M$2)-LEN("$Value@@Equations")),PkgInstanceHdr,0))&"mm" -> =0.001mm | N7: ="="&INDEX(PkgInstanceValues,1,MATCH(MID(N$2,1+LEN("$VALUE@"),LEN(N$2)-LEN("$Value@@Equations")),PkgInstanceHdr,0))&"mm" -> =2mm | O7: ="="&$BC7*25.4/1000&"mm" -> =17.78mm | P7: =INDEX(PkgTable,$CA7,MATCH(P$2,PkgTblHdr,0)) -> SOLIDWORKS Materials:PUR | Q7: =IF(ISBLANK($Q6),$A6,$Q6) -> DO-201AD | R7: =$BG7 -> AXIAL-0.7 | S7: =IF($AY7,INDEX(PkgTable,$CA7,MATCH(S$2,PkgTblHdr,0)),"") | T7: =IF($AY7,INDEX(PkgTable,$CA7,MATCH(T$2,PkgTblHdr,0)),"") | U7: =IF($AY7,INDEX(PkgTable,$CA7,MATCH(U$2,PkgTblHdr,0)),"") | V7: =IF($AY7,INDEX(PkgTable,$CA7,MATCH(V$2,PkgTblHdr,0)),"") | W7: =IF($AY7,INDEX(PkgTable,$CA7,MATCH(W$2,PkgTblHdr,0)),"") | X7: =IF($AY7,INDEX(PkgTable,$CA7,MATCH(X$2,PkgTblHdr,0)),"") | Y7: =IF($AY7,INDEX(PkgTable,$CA7,MATCH(Y$2,PkgTblHdr,0)),"") | Z7: =IF($AY7,INDEX(PkgTable,$CA7,MATCH(Z$2,PkgTblHdr,0)),"") | ... AE7: =IF($AY7,INDEX(PkgTable,$CA7,MATCH(AE$2,PkgTblHdr,0)),"") | AG7: ="="&INDEX(PkgInstanceValues,1,MATCH(MID(AG$2,1+LEN("$VALUE@"),LEN(AG$2)-LEN("$Value@@Equations")),PkgInstanceHdr,0))&"mm" -> =0.4mm | AH7: ="="&INDEX(PkgInstanceValues,1,MATCH(MID(AH$2,1+LEN("$VALUE@"),LEN(AH$2)-LEN("$Value@@Equations")),PkgInstanceHdr,0))&"mm" -> =0.4mm | AI7: ="="&INDEX(PkgInstanceValues,1,MATCH(MID(AI$2,1+LEN("$VALUE@"),LEN(AI$2)-LEN("$Value@@Equations")),PkgInstanceHdr,0))&"mm" -> =16.6504410640259mm | AJ7: ="="&INDEX(PkgInstanceValues,1,MATCH(MID(AJ$2,1+LEN("$VALUE@"),LEN(AJ$2)-LEN("$Value@@Equations")),PkgInstanceHdr,0))&"mm" -> =1.56mm | AK7: =IF($AY7,"U","") | AL7: =IF($AY7,"U","") | AM7: =IF($AY7,"U","") | AN7: ="="&INDEX(PkgInstanceValues,1,MATCH(MID(AN$2,1+LEN("$VALUE@"),LEN(AN$2)-LEN("$Value@@Equations")),PkgInstanceHdr,0))&"mm" -> =0.7mm | AO7: ="="&INDEX(PkgInstanceValues,1,MATCH(MID(AO$2,1+LEN("$VALUE@"),LEN(AO$2)-LEN("$Value@@Equations")),PkgInstanceHdr,0))&"mm" -> =0.1mm | AY7: =ISBLANK($Q7) -> FALSE | AZ7: =IF(Parent?,$A7,$Q7) -> DO-201AD | BA7: =INDEX(PkgTable,$CA7,MATCH(BA$2,PkgTblHdr,0)) -> 600 | BB7: =INDEX(PkgTable,$CA7,MATCH(BB$2,PkgTblHdr,0)) -> 100 | BC7: =$BA7+$BB7*($CF7-1)-IF(AND($BB7>0,$CF7>1),MOD($BA7,$BB7),0) -> 700 | BD7: =INDEX(PkgTable,$CA7,MATCH(BD$2,PkgTblHdr,0)) -> 1 | BE7: =INDEX(PkgTable,$CA7,MATCH(BE$2,PkgTblHdr,0)) -> 0 | BF7: =$BD7+$BE7*($CG7-1)-IF(AND($BE7>0,$CG7>1),MOD($BD7,$BE7),0) -> 1 | BG7: ="AXIAL-"&TEXT($BC7/1000,"0.0##")&" " -> AXIAL-0.7 | BH7: =IF(BF7=1,"","["&TEXT(BF7,"00.0##")&"] ") | BI7: =INDEX(PkgTable,$CA7,MATCH(BI$2,PkgTblHdr,0)) -> 5.3 | BJ7: =INDEX(PkgTable,$CA7,MATCH(BJ$2,PkgTblHdr,0)) -> 25.4 | BK7: =INDEX(PkgTable,$CA7,MATCH(BK$2,PkgTblHdr,0)) -> 1 | BL7: =INDEX(PkgTable,$CA7,MATCH(BL$2,PkgTblHdr,0)) -> 0.0828125 | BM7: =INDEX(PkgTable,$CA7,MATCH(BM$2,PkgTblHdr,0)) -> 9.5 | BN7: =INDEX(PkgTable,$CA7,MATCH(BN$2,PkgTblHdr,0)) -> 1.3 | BO7: =INDEX(PkgTable,$CA7,MATCH(BO$2,PkgTblHdr,0)) -> 1.8 | BP7: =INDEX(PkgTable,$CA7,MATCH(BP$2,PkgTblHdr,0)) -> 2 | ... BX7: =INDEX(PkgTable,$CA7,MATCH(BX$2,PkgTblHdr,0)) -> 1.56 | BY7: =BJ7-(Lead_Extend_Length+Config_Stand_Off-2*Lead_Bend_Radius)-(Case_Diameter+Config_Lead_Spacing*25.4/1000+Lead_Bend_Radius*PI()-Case_Length)/2 -> 16.279558 | BZ7: =INDEX(PkgTable,$CA7,MATCH(BZ$2,PkgTblHdr,0)) -> 0.1 | CA7: =MATCH($AZ7,'Package Dimensions'!$B:$B,0)-2 -> 2 | CB7: =COUNTIF($AZ:$AZ,$AZ7) -> 3 | CC7: =IF($AY7,1,CC6+1) -> 2 | CD7: =INDEX(PkgTable,$CA7,MATCH(CD$2,PkgTblHdr,0)) -> 3 | CE7: =INDEX(PkgTable,$CA7,MATCH(CE$2,PkgTblHdr,0)) -> 1 | CF7: =1+MOD((CC7-MOD(CC7-1,CE7)-1)/CE7,CD7) -> 2 | CG7: =MOD($CC7-1,$CE7)+1 -> 1 | CH7: =CD7*CE7 -> 3 | CK7: {=IFERROR(MATCH(FALSE,$A7:$AX7=Sheet1!$A7:$AX7,0),0)} -> 0
A8: =TRIM($AZ8&" "&$BG8&$BH8) -> DO-201AD AXIAL-0.8 | B8: =TRIM($AZ8&" "&$BG8&$BH8&INDEX(PkgTable,$CA8,MATCH("Package Material",PkgTblHdr,0))) -> DO-201AD AXIAL-0.8 Plastic | C8: =IF($AY8,"$C","$P") -> $P | D8: =INDEX(PkgTable,$CA8,MATCH(D$2,PkgTblHdr,0)) -> 328965 | E8: ="="&INDEX(PkgInstanceValues,1,MATCH(MID(E$2,1+LEN("$VALUE@"),LEN(E$2)-LEN("$Value@@Equations")),PkgInstanceHdr,0))&"mm" -> =5.3mm | F8: ="="&INDEX(PkgInstanceValues,1,MATCH(MID(F$2,1+LEN("$VALUE@"),LEN(F$2)-LEN("$Value@@Equations")),PkgInstanceHdr,0))&"mm" -> =25.4mm | G8: ="="&$BF8&"mm" -> =1mm | H8: ="="&INDEX(PkgInstanceValues,1,MATCH(MID(H$2,1+LEN("$VALUE@"),LEN(H$2)-LEN("$Value@@Equations")),PkgInstanceHdr,0))&"mm" -> =0.0828125mm | I8: ="="&INDEX(PkgInstanceValues,1,MATCH(MID(I$2,1+LEN("$VALUE@"),LEN(I$2)-LEN("$Value@@Equations")),PkgInstanceHdr,0))&"mm" -> =9.5mm | J8: ="="&INDEX(PkgInstanceValues,1,MATCH(MID(J$2,1+LEN("$VALUE@"),LEN(J$2)-LEN("$Value@@Equations")),PkgInstanceHdr,0))&"mm" -> =1.3mm | K8: ="="&INDEX(PkgInstanceValues,1,MATCH(MID(K$2,1+LEN("$VALUE@"),LEN(K$2)-LEN("$Value@@Equations")),PkgInstanceHdr,0))&"mm" -> =1.8mm | L8: ="="&INDEX(PkgInstanceValues,1,MATCH(MID(L$2,1+LEN("$VALUE@"),LEN(L$2)-LEN("$Value@@Equations")),PkgInstanceHdr,0))&"mm" -> =2mm | M8: ="="&INDEX(PkgInstanceValues,1,MATCH(MID(M$2,1+LEN("$VALUE@"),LEN(M$2)-LEN("$Value@@Equations")),PkgInstanceHdr,0))&"mm" -> =0.001mm | N8: ="="&INDEX(PkgInstanceValues,1,MATCH(MID(N$2,1+LEN("$VALUE@"),LEN(N$2)-LEN("$Value@@Equations")),PkgInstanceHdr,0))&"mm" -> =2mm | O8: ="="&$BC8*25.4/1000&"mm" -> =20.32mm | P8: =INDEX(PkgTable,$CA8,MATCH(P$2,PkgTblHdr,0)) -> SOLIDWORKS Materials:PUR | Q8: =IF(ISBLANK($Q7),$A7,$Q7) -> DO-201AD | R8: =$BG8 -> AXIAL-0.8 | S8: =IF($AY8,INDEX(PkgTable,$CA8,MATCH(S$2,PkgTblHdr,0)),"") | T8: =IF($AY8,INDEX(PkgTable,$CA8,MATCH(T$2,PkgTblHdr,0)),"") | U8: =IF($AY8,INDEX(PkgTable,$CA8,MATCH(U$2,PkgTblHdr,0)),"") | V8: =IF($AY8,INDEX(PkgTable,$CA8,MATCH(V$2,PkgTblHdr,0)),"") | W8: =IF($AY8,INDEX(PkgTable,$CA8,MATCH(W$2,PkgTblHdr,0)),"") | X8: =IF($AY8,INDEX(PkgTable,$CA8,MATCH(X$2,PkgTblHdr,0)),"") | Y8: =IF($AY8,INDEX(PkgTable,$CA8,MATCH(Y$2,PkgTblHdr,0)),"") | Z8: =IF($AY8,INDEX(PkgTable,$CA8,MATCH(Z$2,PkgTblHdr,0)),"") | ... AE8: =IF($AY8,INDEX(PkgTable,$CA8,MATCH(AE$2,PkgTblHdr,0)),"") | AG8: ="="&INDEX(PkgInstanceValues,1,MATCH(MID(AG$2,1+LEN("$VALUE@"),LEN(AG$2)-LEN("$Value@@Equations")),PkgInstanceHdr,0))&"mm" -> =0.4mm | AH8: ="="&INDEX(PkgInstanceValues,1,MATCH(MID(AH$2,1+LEN("$VALUE@"),LEN(AH$2)-LEN("$Value@@Equations")),PkgInstanceHdr,0))&"mm" -> =0.4mm | AI8: ="="&INDEX(PkgInstanceValues,1,MATCH(MID(AI$2,1+LEN("$VALUE@"),LEN(AI$2)-LEN("$Value@@Equations")),PkgInstanceHdr,0))&"mm" -> =16.6504410640259mm | AJ8: ="="&INDEX(PkgInstanceValues,1,MATCH(MID(AJ$2,1+LEN("$VALUE@"),LEN(AJ$2)-LEN("$Value@@Equations")),PkgInstanceHdr,0))&"mm" -> =1.56mm | AK8: =IF($AY8,"U","") | AL8: =IF($AY8,"U","") | AM8: =IF($AY8,"U","") | AN8: ="="&INDEX(PkgInstanceValues,1,MATCH(MID(AN$2,1+LEN("$VALUE@"),LEN(AN$2)-LEN("$Value@@Equations")),PkgInstanceHdr,0))&"mm" -> =0.7mm | AO8: ="="&INDEX(PkgInstanceValues,1,MATCH(MID(AO$2,1+LEN("$VALUE@"),LEN(AO$2)-LEN("$Value@@Equations")),PkgInstanceHdr,0))&"mm" -> =0.1mm | AY8: =ISBLANK($Q8) -> FALSE | AZ8: =IF(Parent?,$A8,$Q8) -> DO-201AD | BA8: =INDEX(PkgTable,$CA8,MATCH(BA$2,PkgTblHdr,0)) -> 600 | BB8: =INDEX(PkgTable,$CA8,MATCH(BB$2,PkgTblHdr,0)) -> 100 | BC8: =$BA8+$BB8*($CF8-1)-IF(AND($BB8>0,$CF8>1),MOD($BA8,$BB8),0) -> 800 | BD8: =INDEX(PkgTable,$CA8,MATCH(BD$2,PkgTblHdr,0)) -> 1 | BE8: =INDEX(PkgTable,$CA8,MATCH(BE$2,PkgTblHdr,0)) -> 0 | BF8: =$BD8+$BE8*($CG8-1)-IF(AND($BE8>0,$CG8>1),MOD($BD8,$BE8),0) -> 1 | BG8: ="AXIAL-"&TEXT($BC8/1000,"0.0##")&" " -> AXIAL-0.8 | BH8: =IF(BF8=1,"","["&TEXT(BF8,"00.0##")&"] ") | BI8: =INDEX(PkgTable,$CA8,MATCH(BI$2,PkgTblHdr,0)) -> 5.3 | BJ8: =INDEX(PkgTable,$CA8,MATCH(BJ$2,PkgTblHdr,0)) -> 25.4 | BK8: =INDEX(PkgTable,$CA8,MATCH(BK$2,PkgTblHdr,0)) -> 1 | BL8: =INDEX(PkgTable,$CA8,MATCH(BL$2,PkgTblHdr,0)) -> 0.0828125 | BM8: =INDEX(PkgTable,$CA8,MATCH(BM$2,PkgTblHdr,0)) -> 9.5 | BN8: =INDEX(PkgTable,$CA8,MATCH(BN$2,PkgTblHdr,0)) -> 1.3 | BO8: =INDEX(PkgTable,$CA8,MATCH(BO$2,PkgTblHdr,0)) -> 1.8 | BP8: =INDEX(PkgTable,$CA8,MATCH(BP$2,PkgTblHdr,0)) -> 2 | ... BX8: =INDEX(PkgTable,$CA8,MATCH(BX$2,PkgTblHdr,0)) -> 1.56 | BY8: =BJ8-(Lead_Extend_Length+Config_Stand_Off-2*Lead_Bend_Radius)-(Case_Diameter+Config_Lead_Spacing*25.4/1000+Lead_Bend_Radius*PI()-Case_Length)/2 -> 15.009558 | BZ8: =INDEX(PkgTable,$CA8,MATCH(BZ$2,PkgTblHdr,0)) -> 0.1 | CA8: =MATCH($AZ8,'Package Dimensions'!$B:$B,0)-2 -> 2 | CB8: =COUNTIF($AZ:$AZ,$AZ8) -> 3 | CC8: =IF($AY8,1,CC7+1) -> 3 | CD8: =INDEX(PkgTable,$CA8,MATCH(CD$2,PkgTblHdr,0)) -> 3 | CE8: =INDEX(PkgTable,$CA8,MATCH(CE$2,PkgTblHdr,0)) -> 1 | CF8: =1+MOD((CC8-MOD(CC8-1,CE8)-1)/CE8,CD8) -> 3 | CG8: =MOD($CC8-1,$CE8)+1 -> 1 | CH8: =CD8*CE8 -> 3 | CK8: {=IFERROR(MATCH(FALSE,$A8:$AX8=Sheet1!$A8:$AX8,0),0)} -> 0
A9: 017AA | B9: =TRIM($AZ9&" "&$BG9&$BH9&INDEX(PkgTable,$CA9,MATCH("Package Material",PkgTblHdr,0))) -> 017AA AXIAL-0.5 Plastic | C9: =IF($AY9,"$C","$P") -> $C | D9: =INDEX(PkgTable,$CA9,MATCH(D$2,PkgTblHdr,0)) -> 328965 | E9: ="="&INDEX(PkgInstanceValues,1,MATCH(MID(E$2,1+LEN("$VALUE@"),LEN(E$2)-LEN("$Value@@Equations")),PkgInstanceHdr,0))&"mm" -> =3.68mm | F9: ="="&INDEX(PkgInstanceValues,1,MATCH(MID(F$2,1+LEN("$VALUE@"),LEN(F$2)-LEN("$Value@@Equations")),PkgInstanceHdr,0))&"mm" -> =25.4mm | G9: ="="&$BF9&"mm" -> =1mm | H9: ="="&INDEX(PkgInstanceValues,1,MATCH(MID(H$2,1+LEN("$VALUE@"),LEN(H$2)-LEN("$Value@@Equations")),PkgInstanceHdr,0))&"mm" -> =0.0575mm | I9: ="="&INDEX(PkgInstanceValues,1,MATCH(MID(I$2,1+LEN("$VALUE@"),LEN(I$2)-LEN("$Value@@Equations")),PkgInstanceHdr,0))&"mm" -> =8.89mm | J9: ="="&INDEX(PkgInstanceValues,1,MATCH(MID(J$2,1+LEN("$VALUE@"),LEN(J$2)-LEN("$Value@@Equations")),PkgInstanceHdr,0))&"mm" -> =1.09mm | K9: ="="&INDEX(PkgInstanceValues,1,MATCH(MID(K$2,1+LEN("$VALUE@"),LEN(K$2)-LEN("$Value@@Equations")),PkgInstanceHdr,0))&"mm" -> =1.5mm | L9: ="="&INDEX(PkgInstanceValues,1,MATCH(MID(L$2,1+LEN("$VALUE@"),LEN(L$2)-LEN("$Value@@Equations")),PkgInstanceHdr,0))&"mm" -> =1.2mm | M9: ="="&INDEX(PkgInstanceValues,1,MATCH(MID(M$2,1+LEN("$VALUE@"),LEN(M$2)-LEN("$Value@@Equations")),PkgInstanceHdr,0))&"mm" -> =0.001mm | N9: ="="&INDEX(PkgInstanceValues,1,MATCH(MID(N$2,1+LEN("$VALUE@"),LEN(N$2)-LEN("$Value@@Equations")),PkgInstanceHdr,0))&"mm" -> =2mm | O9: ="="&$BC9*25.4/1000&"mm" -> =12.7mm | P9: =INDEX(PkgTable,$CA9,MATCH(P$2,PkgTblHdr,0)) -> SOLIDWORKS Materials:PUR | R9: =$BG9 -> AXIAL-0.5 | S9: =IF($AY9,INDEX(PkgTable,$CA9,MATCH(S$2,PkgTblHdr,0)),"") -> S | T9: =IF($AY9,INDEX(PkgTable,$CA9,MATCH(T$2,PkgTblHdr,0)),"") -> S | U9: =IF($AY9,INDEX(PkgTable,$CA9,MATCH(U$2,PkgTblHdr,0)),"") -> S | V9: =IF($AY9,INDEX(PkgTable,$CA9,MATCH(V$2,PkgTblHdr,0)),"") -> U | W9: =IF($AY9,INDEX(PkgTable,$CA9,MATCH(W$2,PkgTblHdr,0)),"") -> S | X9: =IF($AY9,INDEX(PkgTable,$CA9,MATCH(X$2,PkgTblHdr,0)),"") -> U | Y9: =IF($AY9,INDEX(PkgTable,$CA9,MATCH(Y$2,PkgTblHdr,0)),"") -> U | Z9: =IF($AY9,INDEX(PkgTable,$CA9,MATCH(Z$2,PkgTblHdr,0)),"") -> U | ... AE9: =IF($AY9,INDEX(PkgTable,$CA9,MATCH(AE$2,PkgTblHdr,0)),"") -> U | AF9: U | AG9: ="="&INDEX(PkgInstanceValues,1,MATCH(MID(AG$2,1+LEN("$VALUE@"),LEN(AG$2)-LEN("$Value@@Equations")),PkgInstanceHdr,0))&"mm" -> =1mm | AH9: ="="&INDEX(PkgInstanceValues,1,MATCH(MID(AH$2,1+LEN("$VALUE@"),LEN(AH$2)-LEN("$Value@@Equations")),PkgInstanceHdr,0))&"mm" -> =0.4mm | AI9: ="="&INDEX(PkgInstanceValues,1,MATCH(MID(AI$2,1+LEN("$VALUE@"),LEN(AI$2)-LEN("$Value@@Equations")),PkgInstanceHdr,0))&"mm" -> =11.5610609652104mm | AJ9: ="="&INDEX(PkgInstanceValues,1,MATCH(MID(AJ$2,1+LEN("$VALUE@"),LEN(AJ$2)-LEN("$Value@@Equations")),PkgInstanceHdr,0))&"mm" -> =1.308mm | AK9: =IF($AY9,"U","") -> U | AL9: =IF($AY9,"U","") -> U | AM9: =IF($AY9,"U","") -> U | AN9: ="="&INDEX(PkgInstanceValues,1,MATCH(MID(AN$2,1+LEN("$VALUE@"),LEN(AN$2)-LEN("$Value@@Equations")),PkgInstanceHdr,0))&"mm" -> =0.6mm | AO9: ="="&INDEX(PkgInstanceValues,1,MATCH(MID(AO$2,1+LEN("$VALUE@"),LEN(AO$2)-LEN("$Value@@Equations")),PkgInstanceHdr,0))&"mm" -> =0.1mm | AY9: =ISBLANK($Q9) -> TRUE | AZ9: =IF(Parent?,$A9,$Q9) -> 017AA | BA9: =INDEX(PkgTable,$CA9,MATCH(BA$2,PkgTblHdr,0)) -> 500 | BB9: =INDEX(PkgTable,$CA9,MATCH(BB$2,PkgTblHdr,0)) -> 100 | BC9: =$BA9+$BB9*($CF9-1)-IF(AND($BB9>0,$CF9>1),MOD($BA9,$BB9),0) -> 500 | BD9: =INDEX(PkgTable,$CA9,MATCH(BD$2,PkgTblHdr,0)) -> 1 | BE9: =INDEX(PkgTable,$CA9,MATCH(BE$2,PkgTblHdr,0)) -> 0 | BF9: =$BD9+$BE9*($CG9-1)-IF(AND($BE9>0,$CG9>1),MOD($BD9,$BE9),0) -> 1 | BG9: ="AXIAL-"&TEXT($BC9/1000,"0.0##")&" " -> AXIAL-0.5 | BH9: =IF(BF9=1,"","["&TEXT(BF9,"00.0##")&"] ") | BI9: =INDEX(PkgTable,$CA9,MATCH(BI$2,PkgTblHdr,0)) -> 3.68 | BJ9: =INDEX(PkgTable,$CA9,MATCH(BJ$2,PkgTblHdr,0)) -> 25.4 | BK9: =INDEX(PkgTable,$CA9,MATCH(BK$2,PkgTblHdr,0)) -> 1 | BL9: =INDEX(PkgTable,$CA9,MATCH(BL$2,PkgTblHdr,0)) -> 0.0575 | BM9: =INDEX(PkgTable,$CA9,MATCH(BM$2,PkgTblHdr,0)) -> 8.89 | BN9: =INDEX(PkgTable,$CA9,MATCH(BN$2,PkgTblHdr,0)) -> 1.09 | BO9: =INDEX(PkgTable,$CA9,MATCH(BO$2,PkgTblHdr,0)) -> 1.5 | BP9: =INDEX(PkgTable,$CA9,MATCH(BP$2,PkgTblHdr,0)) -> 1.2 | ... BX9: =INDEX(PkgTable,$CA9,MATCH(BX$2,PkgTblHdr,0)) -> 1.308 | BY9: =BJ9-(Lead_Extend_Length+Config_Stand_Off-2*Lead_Bend_Radius)-(Case_Diameter+Config_Lead_Spacing*25.4/1000+Lead_Bend_Radius*PI()-Case_Length)/2 -> 19.216398 | BZ9: =INDEX(PkgTable,$CA9,MATCH(BZ$2,PkgTblHdr,0)) -> 0.1 | CA9: =MATCH($AZ9,'Package Dimensions'!$B:$B,0)-2 -> 3 | CB9: =COUNTIF($AZ:$AZ,$AZ9) -> 4 | CC9: =IF($AY9,1,CC8+1) -> 1 | CD9: =INDEX(PkgTable,$CA9,MATCH(CD$2,PkgTblHdr,0)) -> 4 | CE9: =INDEX(PkgTable,$CA9,MATCH(CE$2,PkgTblHdr,0)) -> 1 | CF9: =1+MOD((CC9-MOD(CC9-1,CE9)-1)/CE9,CD9) -> 1 | CG9: =MOD($CC9-1,$CE9)+1 -> 1 | CH9: =CD9*CE9 -> 4 | CK9: {=IFERROR(MATCH(FALSE,$A9:$AX9=Sheet1!$A9:$AX9,0),0)} -> 0
A10: =TRIM($AZ10&" "&$BG10&$BH10) -> 017AA AXIAL-0.6 | B10: =TRIM($AZ10&" "&$BG10&$BH10&INDEX(PkgTable,$CA10,MATCH("Package Material",PkgTblHdr,0))) -> 017AA AXIAL-0.6 Plastic | C10: =IF($AY10,"$C","$P") -> $P | D10: =INDEX(PkgTable,$CA10,MATCH(D$2,PkgTblHdr,0)) -> 328965 | E10: ="="&INDEX(PkgInstanceValues,1,MATCH(MID(E$2,1+LEN("$VALUE@"),LEN(E$2)-LEN("$Value@@Equations")),PkgInstanceHdr,0))&"mm" -> =3.68mm | F10: ="="&INDEX(PkgInstanceValues,1,MATCH(MID(F$2,1+LEN("$VALUE@"),LEN(F$2)-LEN("$Value@@Equations")),PkgInstanceHdr,0))&"mm" -> =25.4mm | G10: ="="&$BF10&"mm" -> =1mm | H10: ="="&INDEX(PkgInstanceValues,1,MATCH(MID(H$2,1+LEN("$VALUE@"),LEN(H$2)-LEN("$Value@@Equations")),PkgInstanceHdr,0))&"mm" -> =0.0575mm | I10: ="="&INDEX(PkgInstanceValues,1,MATCH(MID(I$2,1+LEN("$VALUE@"),LEN(I$2)-LEN("$Value@@Equations")),PkgInstanceHdr,0))&"mm" -> =8.89mm | J10: ="="&INDEX(PkgInstanceValues,1,MATCH(MID(J$2,1+LEN("$VALUE@"),LEN(J$2)-LEN("$Value@@Equations")),PkgInstanceHdr,0))&"mm" -> =1.09mm | K10: ="="&INDEX(PkgInstanceValues,1,MATCH(MID(K$2,1+LEN("$VALUE@"),LEN(K$2)-LEN("$Value@@Equations")),PkgInstanceHdr,0))&"mm" -> =1.5mm | L10: ="="&INDEX(PkgInstanceValues,1,MATCH(MID(L$2,1+LEN("$VALUE@"),LEN(L$2)-LEN("$Value@@Equations")),PkgInstanceHdr,0))&"mm" -> =1.2mm | M10: ="="&INDEX(PkgInstanceValues,1,MATCH(MID(M$2,1+LEN("$VALUE@"),LEN(M$2)-LEN("$Value@@Equations")),PkgInstanceHdr,0))&"mm" -> =0.001mm | N10: ="="&INDEX(PkgInstanceValues,1,MATCH(MID(N$2,1+LEN("$VALUE@"),LEN(N$2)-LEN("$Value@@Equations")),PkgInstanceHdr,0))&"mm" -> =2mm | O10: ="="&$BC10*25.4/1000&"mm" -> =15.24mm | P10: =INDEX(PkgTable,$CA10,MATCH(P$2,PkgTblHdr,0)) -> SOLIDWORKS Materials:PUR | Q10: =IF(ISBLANK($Q9),$A9,$Q9) -> 017AA | R10: =$BG10 -> AXIAL-0.6 | S10: =IF($AY10,INDEX(PkgTable,$CA10,MATCH(S$2,PkgTblHdr,0)),"") | T10: =IF($AY10,INDEX(PkgTable,$CA10,MATCH(T$2,PkgTblHdr,0)),"") | U10: =IF($AY10,INDEX(PkgTable,$CA10,MATCH(U$2,PkgTblHdr,0)),"") | V10: =IF($AY10,INDEX(PkgTable,$CA10,MATCH(V$2,PkgTblHdr,0)),"") | W10: =IF($AY10,INDEX(PkgTable,$CA10,MATCH(W$2,PkgTblHdr,0)),"") | X10: =IF($AY10,INDEX(PkgTable,$CA10,MATCH(X$2,PkgTblHdr,0)),"") | Y10: =IF($AY10,INDEX(PkgTable,$CA10,MATCH(Y$2,PkgTblHdr,0)),"") | Z10: =IF($AY10,INDEX(PkgTable,$CA10,MATCH(Z$2,PkgTblHdr,0)),"") | ... AE10: =IF($AY10,INDEX(PkgTable,$CA10,MATCH(AE$2,PkgTblHdr,0)),"") | AG10: ="="&INDEX(PkgInstanceValues,1,MATCH(MID(AG$2,1+LEN("$VALUE@"),LEN(AG$2)-LEN("$Value@@Equations")),PkgInstanceHdr,0))&"mm" -> =1mm | AH10: ="="&INDEX(PkgInstanceValues,1,MATCH(MID(AH$2,1+LEN("$VALUE@"),LEN(AH$2)-LEN("$Value@@Equations")),PkgInstanceHdr,0))&"mm" -> =0.4mm | AI10: ="="&INDEX(PkgInstanceValues,1,MATCH(MID(AI$2,1+LEN("$VALUE@"),LEN(AI$2)-LEN("$Value@@Equations")),PkgInstanceHdr,0))&"mm" -> =11.5610609652104mm | AJ10: ="="&INDEX(PkgInstanceValues,1,MATCH(MID(AJ$2,1+LEN("$VALUE@"),LEN(AJ$2)-LEN("$Value@@Equations")),PkgInstanceHdr,0))&"mm" -> =1.308mm | AK10: =IF($AY10,"U","") | AL10: =IF($AY10,"U","") | AM10: =IF($AY10,"U","") | AN10: ="="&INDEX(PkgInstanceValues,1,MATCH(MID(AN$2,1+LEN("$VALUE@"),LEN(AN$2)-LEN("$Value@@Equations")),PkgInstanceHdr,0))&"mm" -> =0.6mm | AO10: ="="&INDEX(PkgInstanceValues,1,MATCH(MID(AO$2,1+LEN("$VALUE@"),LEN(AO$2)-LEN("$Value@@Equations")),PkgInstanceHdr,0))&"mm" -> =0.1mm | AY10: =ISBLANK($Q10) -> FALSE | AZ10: =IF(Parent?,$A10,$Q10) -> 017AA | BA10: =INDEX(PkgTable,$CA10,MATCH(BA$2,PkgTblHdr,0)) -> 500 | BB10: =INDEX(PkgTable,$CA10,MATCH(BB$2,PkgTblHdr,0)) -> 100 | BC10: =$BA10+$BB10*($CF10-1)-IF(AND($BB10>0,$CF10>1),MOD($BA10,$BB10),0) -> 600 | BD10: =INDEX(PkgTable,$CA10,MATCH(BD$2,PkgTblHdr,0)) -> 1 | BE10: =INDEX(PkgTable,$CA10,MATCH(BE$2,PkgTblHdr,0)) -> 0 | BF10: =$BD10+$BE10*($CG10-1)-IF(AND($BE10>0,$CG10>1),MOD($BD10,$BE10),0) -> 1 | BG10: ="AXIAL-"&TEXT($BC10/1000,"0.0##")&" " -> AXIAL-0.6 | BH10: =IF(BF10=1,"","["&TEXT(BF10,"00.0##")&"] ") | BI10: =INDEX(PkgTable,$CA10,MATCH(BI$2,PkgTblHdr,0)) -> 3.68 | BJ10: =INDEX(PkgTable,$CA10,MATCH(BJ$2,PkgTblHdr,0)) -> 25.4 | BK10: =INDEX(PkgTable,$CA10,MATCH(BK$2,PkgTblHdr,0)) -> 1 | BL10: =INDEX(PkgTable,$CA10,MATCH(BL$2,PkgTblHdr,0)) -> 0.0575 | BM10: =INDEX(PkgTable,$CA10,MATCH(BM$2,PkgTblHdr,0)) -> 8.89 | BN10: =INDEX(PkgTable,$CA10,MATCH(BN$2,PkgTblHdr,0)) -> 1.09 | BO10: =INDEX(PkgTable,$CA10,MATCH(BO$2,PkgTblHdr,0)) -> 1.5 | BP10: =INDEX(PkgTable,$CA10,MATCH(BP$2,PkgTblHdr,0)) -> 1.2 | ... BX10: =INDEX(PkgTable,$CA10,MATCH(BX$2,PkgTblHdr,0)) -> 1.308 | BY10: =BJ10-(Lead_Extend_Length+Config_Stand_Off-2*Lead_Bend_Radius)-(Case_Diameter+Config_Lead_Spacing*25.4/1000+Lead_Bend_Radius*PI()-Case_Length)/2 -> 17.946398 | BZ10: =INDEX(PkgTable,$CA10,MATCH(BZ$2,PkgTblHdr,0)) -> 0.1 | CA10: =MATCH($AZ10,'Package Dimensions'!$B:$B,0)-2 -> 3 | CB10: =COUNTIF($AZ:$AZ,$AZ10) -> 4 | CC10: =IF($AY10,1,CC9+1) -> 2 | CD10: =INDEX(PkgTable,$CA10,MATCH(CD$2,PkgTblHdr,0)) -> 4 | CE10: =INDEX(PkgTable,$CA10,MATCH(CE$2,PkgTblHdr,0)) -> 1 | CF10: =1+MOD((CC10-MOD(CC10-1,CE10)-1)/CE10,CD10) -> 2 | CG10: =MOD($CC10-1,$CE10)+1 -> 1 | CH10: =CD10*CE10 -> 4 | CK10: {=IFERROR(MATCH(FALSE,$A10:$AX10=Sheet1!$A10:$AX10,0),0)} -> 0
