Workbook
Name _SWX_0: _SWX!$A$2:$A$22
Name Case_Circumference: 'Design Table Calc1'!$BW1
Name Case_Diameter: 'Design Table Calc1'!$BI1
Name Case_Length: 'Design Table Calc1'!$BM1
Name Cathode_Indicator_Ring_Width: 'Design Table Calc1'!$BO1
Name Config_Lead_Spacing: 'Design Table Calc1'!$BC1
Name Config_Stand_Off: 'Design Table Calc1'!$BF1
Name End_Fillet_Radius: 'Design Table Calc1'!$BL1
Name Family: Sheet1!$A$2
Name Lead_Bend_Radius: 'Design Table Calc1'!$BX1
Name Lead_Diameter: 'Design Table Calc1'!$BN1
Name Lead_Extend_Length: 'Design Table Calc1'!$BU1
Name Lead_Length: 'Design Table Calc1'!$BJ1
Name Lead_Spacing: 'Design Table Calc1'!$BV1
Name Lead_Spacing__mils: 'Design Table Calc1'!$BA1
Name Lead_Spacing_Increment: 'Design Table Calc1'!$BB1
Name Lead_Spacing_Text: 'Design Table Calc1'!$BG1
Name Package: 'Design Table Calc1'!$AZ1
Name Parent?: 'Design Table Calc1'!$AY1
Name PkgInstanceHdr: 'Design Table Calc1'!$AY$2:$CJ$2
Name PkgInstanceValues: 'Design Table Calc1'!$AY1:$CJ1
Name PkgTable: 'Package Dimensions'!$A$3:$CI$103
Name PkgTblHdr: 'Package Dimensions'!$A$2:$CI$2
Name Protrusion_Length: 'Design Table Calc1'!$BT$3
Name Stand_Off: 'Design Table Calc1'!$BD$3
Name Stand_Off_Increment: 'Design Table Calc1'!$BE$3
Name Stand_Off_Text: 'Design Table Calc1'!$BH$3
Name Text_Height: 'Design Table Calc1'!$BP$3

Sheet Sheet1
A1: Design Table for: Diode | BC1: ='Design Table Calc1'!CK1 -> 0
B2: $DESCRIPTION | C2: $PARTNUMBER | D2: $COLOR | E2: $VALUE@Case Diameter@Equations | F2: $VALUE@Lead Length@Equations | G2: $VALUE@Stand Off@Equations | H2: $VALUE@End Fillet Radius@Equations | I2: $VALUE@Case Length@Equations | J2: $VALUE@Lead Diameter@Equations | K2: $VALUE@Cathode Indicator Ring Width@Equations | L2: $VALUE@Text Height@Equations | M2: $VALUE@Protrusion Length@Equations | N2: $VALUE@Lead Extend Length@Equations | O2: $VALUE@Lead Spacing@Equations | P2: $LIBRARY:MATERIAL@Diode | Q2: $PARENT | R2: $COMMENT | S2: $STATE@Internal H1 | T2: $STATE@Internal H2 | U2: $STATE@Text C1.0 S0.7 | V2: $STATE@TSketch C1.0 S0.7 | W2: $STATE@Text L2.0 S0.7 | X2: $STATE@TSketch L2.0 S0.7 | Y2: $STATE@Text L1.2 S0.6 | Z2: $STATE@TSketch L1.2 S0.6 | AA2: $STATE@Text C1.3 S0.2 | AB2: $STATE@TSketch C1.3 S0.2 | AC2: $STATE@Wrap2 | AD2: $STATE@Surface-Offset1 | AE2: $STATE@Thicken1 | AF2: $STATE@SurfaceCut1 | AG2: $VALUE@Text Indent@Equations | AH2: $VALUE@Text Indent Line2@Equations | AI2: $VALUE@Case Circumference@Equations | AJ2: $VALUE@Lead Bend Radius@Equations | AK2: $STATE@Case Axis | AL2: $STATE@Case Axis Sketch | AM2: $STATE@Lead Cut Surface | AN2: $VALUE@Text Vertical Space@Equations | AO2: $VALUE@Internal Centre Gap@Equations | BC2: ='Design Table Calc1'!CK2 -> 0
A3: DO-41 | B3: DO-41 AXIAL-0.3 Glass | C3: $C | D3: 16777215 | E3: =2.6mm | F3: =26mm | G3: =1mm | H3: =0.65mm | I3: =4.1mm | J3: =0.7mm | K3: =0.9mm | L3: =1mm | M3: =0.1mm | N3: =2mm | O3: =7.62mm | P3: SOLIDWORKS Materials:Glass | R3: AXIAL-0.3 | S3: U | T3: U | U3: U | V3: U | W3: S | X3: U | Y3: S | Z3: U | AA3: S | AB3: U | AC3: U | AD3: U | AE3: U | AF3: U | AG3: =0.001mm | AH3: =0.001mm | AI3: =8.16814089933346mm | AJ3: =0.84mm | AK3: U | AL3: U | AM3: U | AN3: =0.7mm | AO3: =0.1mm | BC3: ='Design Table Calc1'!CK3 -> 0
A4: DO-41 AXIAL-0.4 | B4: DO-41 AXIAL-0.4 Glass | C4: $P | D4: 16777215 | E4: =2.6mm | F4: =26mm | G4: =1mm | H4: =0.65mm | I4: =4.1mm | J4: =0.7mm | K4: =0.9mm | L4: =1mm | M4: =0.1mm | N4: =2mm | O4: =10.16mm | P4: SOLIDWORKS Materials:Glass | Q4: DO-41 | R4: AXIAL-0.4 | AG4: =0.001mm | AH4: =0.001mm | AI4: =8.16814089933346mm | AJ4: =0.84mm | AN4: =0.7mm | AO4: =0.1mm | BC4: ='Design Table Calc1'!CK4 -> 0
A5: DO-41 AXIAL-0.5 | B5: DO-41 AXIAL-0.5 Glass | C5: $P | D5: 16777215 | E5: =2.6mm | F5: =26mm | G5: =1mm | H5: =0.65mm | I5: =4.1mm | J5: =0.7mm | K5: =0.9mm | L5: =1mm | M5: =0.1mm | N5: =2mm | O5: =12.7mm | P5: SOLIDWORKS Materials:Glass | Q5: DO-41 | R5: AXIAL-0.5 | AG5: =0.001mm | AH5: =0.001mm | AI5: =8.16814089933346mm | AJ5: =0.84mm | AN5: =0.7mm | AO5: =0.1mm | BC5: ='Design Table Calc1'!CK5 -> 0
A6: DO-201AD | B6: DO-201AD AXIAL-0.6 Plastic | C6: $C | D6: 328965 | E6: =5.3mm | F6: =25.4mm | G6: =1mm | H6: =0.0828125mm | I6: =9.5mm | J6: =1.3mm | K6: =1.8mm | L6: =2mm | M6: =0.001mm | N6: =2mm | O6: =15.24mm | P6: SOLIDWORKS Materials:PUR | R6: AXIAL-0.6 | S6: S | T6: S | U6: S | V6: U | W6: U | X6: U | Y6: S | Z6: U | AA6: S | AB6: U | AC6: U | AD6: U | AE6: U | AF6: U | AG6: =0.4mm | AH6: =0.4mm | AI6: =16.6504410640259mm | AJ6: =1.56mm | AK6: U | AL6: U | AM6: U | AN6: =0.7mm | AO6: =0.1mm | BC6: ='Design Table Calc1'!CK6 -> 0
A7: DO-201AD AXIAL-0.7 | B7: DO-201AD AXIAL-0.7 Plastic | C7: $P | D7: 328965 | E7: =5.3mm | F7: =25.4mm | G7: =1mm | H7: =0.0828125mm | I7: =9.5mm | J7: =1.3mm | K7: =1.8mm | L7: =2mm | M7: =0.001mm | N7: =2mm | O7: =17.78mm | P7: SOLIDWORKS Materials:PUR | Q7: DO-201AD | R7: AXIAL-0.7 | AG7: =0.4mm | AH7: =0.4mm | AI7: =16.6504410640259mm | AJ7: =1.56mm | AN7: =0.7mm | AO7: =0.1mm | BC7: ='Design Table Calc1'!CK7 -> 0
A8: DO-201AD AXIAL-0.8 | B8: DO-201AD AXIAL-0.8 Plastic | C8: $P | D8: 328965 | E8: =5.3mm | F8: =25.4mm | G8: =1mm | H8: =0.0828125mm | I8: =9.5mm | J8: =1.3mm | K8: =1.8mm | L8: =2mm | M8: =0.001mm | N8: =2mm | O8: =20.32mm | P8: SOLIDWORKS Materials:PUR | Q8: DO-201AD | R8: AXIAL-0.8 | AG8: =0.4mm | AH8: =0.4mm | AI8: =16.6504410640259mm | AJ8: =1.56mm | AN8: =0.7mm | AO8: =0.1mm | BC8: ='Design Table Calc1'!CK8 -> 0
A9: 017AA | B9: 017AA AXIAL-0.5 Plastic | C9: $C | D9: 328965 | E9: =3.68mm | F9: =25.4mm | G9: =1mm | H9: =0.0575mm | I9: =8.89mm | J9: =1.09mm | K9: =1.5mm | L9: =1.2mm | M9: =0.001mm | N9: =2mm | O9: =12.7mm | P9: SOLIDWORKS Materials:PUR | R9: AXIAL-0.5 | S9: S | T9: S | U9: S | V9: U | W9: S | X9: U | Y9: U | Z9: U | AA9: S | AB9: U | AC9: U | AD9: U | AE9: U | AF9: U | AG9: =1mm | AH9: =0.4mm | AI9: =11.5610609652104mm | AJ9: =1.308mm | AK9: U | AL9: U | AM9: U | AN9: =0.6mm | AO9: =0.1mm | BC9: ='Design Table Calc1'!CK9 -> 0
A10: 017AA AXIAL-0.6 | B10: 017AA AXIAL-0.6 Plastic | C10: $P | D10: 328965 | E10: =3.68mm | F10: =25.4mm | G10: =1mm | H10: =0.0575mm | I10: =8.89mm | J10: =1.09mm | K10: =1.5mm | L10: =1.2mm | M10: =0.001mm | N10: =2mm | O10: =15.24mm | P10: SOLIDWORKS Materials:PUR | Q10: 017AA | R10: AXIAL-0.6 | AG10: =1mm | AH10: =0.4mm | AI10: =11.5610609652104mm | AJ10: =1.308mm | AN10: =0.6mm | AO10: =0.1mm | BC10: ='Design Table Calc1'!CK10 -> 0
A11: 017AA AXIAL-0.7 | B11: 017AA AXIAL-0.7 Plastic | C11: $P | D11: 328965 | E11: =3.68mm | F11: =25.4mm | G11: =1mm | H11: =0.0575mm | I11: =8.89mm | J11: =1.09mm | K11: =1.5mm | L11: =1.2mm | M11: =0.001mm | N11: =2mm | O11: =17.78mm | P11: SOLIDWORKS Materials:PUR | Q11: 017AA | R11: AXIAL-0.7 | AG11: =1mm | AH11: =0.4mm | AI11: =11.5610609652104mm | AJ11: =1.308mm | AN11: =0.6mm | AO11: =0.1mm | BC11: ='Design Table Calc1'!CK11 -> 0
A12: 017AA AXIAL-0.8 | B12: 017AA AXIAL-0.8 Plastic | C12: $P | D12: 328965 | E12: =3.68mm | F12: =25.4mm | G12: =1mm | H12: =0.0575mm | I12: =8.89mm | J12: =1.09mm | K12: =1.5mm | L12: =1.2mm | M12: =0.001mm | N12: =2mm | O12: =20.32mm | P12: SOLIDWORKS Materials:PUR | Q12: 017AA | R12: AXIAL-0.8 | AG12: =1mm | AH12: =0.4mm | AI12: =11.5610609652104mm | AJ12: =1.308mm | AN12: =0.6mm | AO12: =0.1mm | BC12: ='Design Table Calc1'!CK12 -> 0
A13: DO-204AL | B13: DO-204AL AXIAL-0.3 Plastic | C13: $C | D13: 328965 | E13: =2.7mm | F13: =25.4mm | G13: =1mm | H13: =0.0421875mm | I13: =5.2mm | J13: =0.86mm | K13: =0.96mm | L13: =1.3mm | M13: =0.001mm | N13: =2mm | O13: =7.62mm | P13: SOLIDWORKS Materials:PUR | R13: AXIAL-0.3 | S13: S | T13: S | U13: S | V13: U | W13: S | X13: U | Y13: S | Z13: U | AA13: U | AB13: U | AC13: U | AD13: U | AE13: U | AF13: U | AG13: =0.001mm | AH13: =0.001mm | AI13: =8.48230016469244mm | AJ13: =1.032mm | AK13: U | AL13: U | AM13: U | AN13: =0.16mm | AO13: =0.1mm | BC13: ='Design Table Calc1'!CK13 -> 0
A14: DO-204AL AXIAL-0.4 | B14: DO-204AL AXIAL-0.4 Plastic | C14: $P | D14: 328965 | E14: =2.7mm | F14: =25.4mm | G14: =1mm | H14: =0.0421875mm | I14: =5.2mm | J14: =0.86mm | K14: =0.96mm | L14: =1.3mm | M14: =0.001mm | N14: =2mm | O14: =10.16mm | P14: SOLIDWORKS Materials:PUR | Q14: DO-204AL | R14: AXIAL-0.4 | AG14: =0.001mm | AH14: =0.001mm | AI14: =8.48230016469244mm | AJ14: =1.032mm | AN14: =0.16mm | AO14: =0.1mm | BC14: ='Design Table Calc1'!CK14 -> 0
A15: DO-204AL AXIAL-0.5 | B15: DO-204AL AXIAL-0.5 Plastic | C15: $P | D15: 328965 | E15: =2.7mm | F15: =25.4mm | G15: =1mm | H15: =0.0421875mm | I15: =5.2mm | J15: =0.86mm | K15: =0.96mm | L15: =1.3mm | M15: =0.001mm | N15: =2mm | O15: =12.7mm | P15: SOLIDWORKS Materials:PUR | Q15: DO-204AL | R15: AXIAL-0.5 | AG15: =0.001mm | AH15: =0.001mm | AI15: =8.48230016469244mm | AJ15: =1.032mm | AN15: =0.16mm | AO15: =0.1mm | BC15: ='Design Table Calc1'!CK15 -> 0
A16: DO-204AL AXIAL-0.6 | B16: DO-204AL AXIAL-0.6 Plastic | C16: $P | D16: 328965 | E16: =2.7mm | F16: =25.4mm | G16: =1mm | H16: =0.0421875mm | I16: =5.2mm | J16: =0.86mm | K16: =0.96mm | L16: =1.3mm | M16: =0.001mm | N16: =2mm | O16: =15.24mm | P16: SOLIDWORKS Materials:PUR | Q16: DO-204AL | R16: AXIAL-0.6 | AF16: U | AG16: =0.001mm | AH16: =0.001mm | AI16: =8.48230016469244mm | AJ16: =1.032mm | AN16: =0.16mm | AO16: =0.1mm | BC16: ='Design Table Calc1'!CK16 -> 0
A17: DO-35 | B17: DO-35 AXIAL-0.25 Glass | C17: $C | D17: 16777215 | E17: =2mm | F17: =28mm | G17: =1mm | H17: ="="&INDEX(PkgInstanceValues,1,MATCH(MID(H$2,1+LEN("$VALUE@"),LEN(H$2)-LEN("$Value@@Equations")),PkgInstanceHdr,0))&"mm" -> =0.25mm | I17: =4mm | J17: =0.5mm | K17: =1mm | L17: =1.3mm | M17: =0.1mm | N17: =2mm | O17: =6.35mm | P17: SOLIDWORKS Materials:Glass | R17: AXIAL-0.25 | S17: U | T17: U | U17: S | V17: U | W17: S | X17: U | Y17: S | Z17: U | AA17: S | AB17: U | AC17: S | AD17: S | AE17: S | AF17: U | AG17: =0.4mm | AH17: =0.4mm | AI17: =6.28318530717959mm | AJ17: =0.6mm | AK17: U | AL17: U | AM17: U | AN17: =0.16mm | AO17: =0.2mm | BC17: ='Design Table Calc1'!CK17 -> 0
A18: DO-35 AXIAL-0.25 [05.0] | B18: DO-35 AXIAL-0.25 [05.0] Glass | C18: $P | D18: 16777215 | E18: =2mm | F18: =28mm | G18: =5mm | H18: ="="&INDEX(PkgInstanceValues,1,MATCH(MID(H$2,1+LEN("$VALUE@"),LEN(H$2)-LEN("$Value@@Equations")),PkgInstanceHdr,0))&"mm" -> =0.25mm | I18: =4mm | J18: =0.5mm | K18: =1mm | L18: =1.3mm | M18: =0.1mm | N18: =2mm | O18: =6.35mm | P18: SOLIDWORKS Materials:Glass | Q18: DO-35 | R18: AXIAL-0.25 | AG18: =0.4mm | AH18: =0.4mm | AI18: =6.28318530717959mm | AJ18: =0.6mm | AN18: =0.16mm | AO18: =0.2mm | BC18: ='Design Table Calc1'!CK18 -> 0
A19: DO-35 AXIAL-0.25 [10.0] | B19: DO-35 AXIAL-0.25 [10.0] Glass | C19: $P | D19: 16777215 | E19: =2mm | F19: =28mm | G19: =10mm | H19: ="="&INDEX(PkgInstanceValues,1,MATCH(MID(H$2,1+LEN("$VALUE@"),LEN(H$2)-LEN("$Value@@Equations")),PkgInstanceHdr,0))&"mm" -> =0.25mm | I19: =4mm | J19: =0.5mm | K19: =1mm | L19: =1.3mm | M19: =0.1mm | N19: =2mm | O19: =6.35mm | P19: SOLIDWORKS Materials:Glass | Q19: DO-35 | R19: AXIAL-0.25 | AG19: =0.4mm | AH19: =0.4mm | AI19: =6.28318530717959mm | AJ19: =0.6mm | AN19: =0.16mm | AO19: =0.2mm | BC19: ='Design Table Calc1'!CK19 -> 0
A20: DO-35 AXIAL-0.25 [15.0] | B20: DO-35 AXIAL-0.25 [15.0] Glass | C20: $P | D20: 16777215 | E20: =2mm | F20: =28mm | G20: =15mm | H20: ="="&INDEX(PkgInstanceValues,1,MATCH(MID(H$2,1+LEN("$VALUE@"),LEN(H$2)-LEN("$Value@@Equations")),PkgInstanceHdr,0))&"mm" -> =0.25mm | I20: =4mm | J20: =0.5mm | K20: =1mm | L20: =1.3mm | M20: =0.1mm | N20: =2mm | O20: =6.35mm | P20: SOLIDWORKS Materials:Glass | Q20: DO-35 | R20: AXIAL-0.25 | AG20: =0.4mm | AH20: =0.4mm | AI20: =6.28318530717959mm | AJ20: =0.6mm | AN20: =0.16mm | AO20: =0.2mm | BC20: ='Design Table Calc1'!CK20 -> 0
A21: DO-35 AXIAL-0.25 [20.0] | B21: DO-35 AXIAL-0.25 [20.0] Glass | C21: $P | D21: 16777215 | E21: =2mm | F21: =28mm | G21: =20mm | H21: ="="&INDEX(PkgInstanceValues,1,MATCH(MID(H$2,1+LEN("$VALUE@"),LEN(H$2)-LEN("$Value@@Equations")),PkgInstanceHdr,0))&"mm" -> =0.25mm | I21: =4mm | J21: =0.5mm | K21: =1mm | L21: =1.3mm | M21: =0.1mm | N21: =2mm | O21: =6.35mm | P21: SOLIDWORKS Materials:Glass | Q21: DO-35 | R21: AXIAL-0.25 | AG21: =0.4mm | AH21: =0.4mm | AI21: =6.28318530717959mm | AJ21: =0.6mm | AN21: =0.16mm | AO21: =0.2mm | BC21: ='Design Table Calc1'!CK21 -> 0
A22: DO-35 AXIAL-0.3 | B22: DO-35 AXIAL-0.3 Glass | C22: $P | D22: 16777215 | E22: =2mm | F22: =28mm | G22: =1mm | H22: ="="&INDEX(PkgInstanceValues,1,MATCH(MID(H$2,1+LEN("$VALUE@"),LEN(H$2)-LEN("$Value@@Equations")),PkgInstanceHdr,0))&"mm" -> =0.25mm | I22: =4mm | J22: =0.5mm | K22: =1mm | L22: =1.3mm | M22: =0.1mm | N22: =2mm | O22: =7.62mm | P22: SOLIDWORKS Materials:Glass | Q22: DO-35 | R22: AXIAL-0.3 | AG22: =0.4mm | AH22: =0.4mm | AI22: =6.28318530717959mm | AJ22: =0.6mm | AN22: =0.16mm | AO22: =0.2mm | BC22: ='Design Table Calc1'!CK22 -> 0
A23: DO-35 AXIAL-0.3 [05.0] | B23: DO-35 AXIAL-0.3 [05.0] Glass | C23: $P | D23: 16777215 | E23: =2mm | F23: =28mm | G23: =5mm | H23: ="="&INDEX(PkgInstanceValues,1,MATCH(MID(H$2,1+LEN("$VALUE@"),LEN(H$2)-LEN("$Value@@Equations")),PkgInstanceHdr,0))&"mm" -> =0.25mm | I23: =4mm | J23: =0.5mm | K23: =1mm | L23: =1.3mm | M23: =0.1mm | N23: =2mm | O23: =7.62mm | P23: SOLIDWORKS Materials:Glass | Q23: DO-35 | R23: AXIAL-0.3 | AG23: =0.4mm | AH23: =0.4mm | AI23: =6.28318530717959mm | AJ23: =0.6mm | AN23: =0.16mm | AO23: =0.2mm | BC23: ='Design Table Calc1'!CK23 -> 0
A24: DO-35 AXIAL-0.3 [10.0] | B24: DO-35 AXIAL-0.3 [10.0] Glass | C24: $P | D24: 16777215 | E24: =2mm | F24: =28mm | G24: =10mm | H24: ="="&INDEX(PkgInstanceValues,1,MATCH(MID(H$2,1+LEN("$VALUE@"),LEN(H$2)-LEN("$Value@@Equations")),PkgInstanceHdr,0))&"mm" -> =0.25mm | I24: =4mm | J24: =0.5mm | K24: =1mm | L24: =1.3mm | M24: =0.1mm | N24: =2mm | O24: =7.62mm | P24: SOLIDWORKS Materials:Glass | Q24: DO-35 | R24: AXIAL-0.3 | AG24: =0.4mm | AH24: =0.4mm | AI24: =6.28318530717959mm | AJ24: =0.6mm | AN24: =0.16mm | AO24: =0.2mm | BC24: ='Design Table Calc1'!CK24 -> 0
A25: DO-35 AXIAL-0.3 [15.0] | B25: DO-35 AXIAL-0.3 [15.0] Glass | C25: $P | D25: 16777215 | E25: =2mm | F25: =28mm | G25: =15mm | H25: ="="&INDEX(PkgInstanceValues,1,MATCH(MID(H$2,1+LEN("$VALUE@"),LEN(H$2)-LEN("$Value@@Equations")),PkgInstanceHdr,0))&"mm" -> =0.25mm | I25: =4mm | J25: =0.5mm | K25: =1mm | L25: =1.3mm | M25: =0.1mm | N25: =2mm | O25: =7.62mm | P25: SOLIDWORKS Materials:Glass | Q25: DO-35 | R25: AXIAL-0.3 | AG25: =0.4mm | AH25: =0.4mm | AI25: =6.28318530717959mm | AJ25: =0.6mm | AN25: =0.16mm | AO25: =0.2mm | BC25: ='Design Table Calc1'!CK25 -> 0
A26: DO-35 AXIAL-0.3 [20.0] | B26: DO-35 AXIAL-0.3 [20.0] Glass | C26: $P | D26: 16777215 | E26: =2mm | F26: =28mm | G26: =20mm | H26: ="="&INDEX(PkgInstanceValues,1,MATCH(MID(H$2,1+LEN("$VALUE@"),LEN(H$2)-LEN("$Value@@Equations")),PkgInstanceHdr,0))&"mm" -> =0.25mm | I26: =4mm | J26: =0.5mm | K26: =1mm | L26: =1.3mm | M26: =0.1mm | N26: =2mm | O26: =7.62mm | P26: SOLIDWORKS Materials:Glass | Q26: DO-35 | R26: AXIAL-0.3 | AG26: =0.4mm | AH26: =0.4mm | AI26: =6.28318530717959mm | AJ26: =0.6mm | AN26: =0.16mm | AO26: =0.2mm | BC26: ='Design Table Calc1'!CK26 -> 0

Sheet _SWX
A1: $PARENT
A2: DO-41
A3: DO-41 AXIAL-0.4
A4: DO-41 AXIAL-0.5
A5: DO-201AD
A6: DO-201AD AXIAL-0.8
A7: DO-201AD AXIAL-0.7
A8: 017AA
A9: 017AA AXIAL-0.7
A10: 017AA AXIAL-0.8
A11: 017AA AXIAL-0.6
A12: DO-204AL
... A22: DO-35 AXIAL-0.4 [20.0]

Sheet Design Table Calc1
A1: Design Table for: Diode | CK1: {=IFERROR(MATCH(FALSE,$A1:$AX1=Sheet1!$A1:$AX1,0),0)} -> 0
B2: $DESCRIPTION | C2: $PARTNUMBER | D2: $COLOR | E2: $VALUE@Case Diameter@Equations | F2: $VALUE@Lead Length@Equations | G2: $VALUE@Stand Off@Equations | H2: $VALUE@End Fillet Radius@Equations | I2: $VALUE@Case Length@Equations | J2: $VALUE@Lead Diameter@Equations | K2: $VALUE@Cathode Indicator Ring Width@Equations | L2: $VALUE@Text Height@Equations | M2: $VALUE@Protrusion Length@Equations | N2: $VALUE@Lead Extend Length@Equations | O2: $VALUE@Lead Spacing@Equations | P2: $LIBRARY:MATERIAL@Diode | Q2: $PARENT | R2: $COMMENT | S2: $STATE@Internal H1 | T2: $STATE@Internal H2 | U2: $STATE@Text C1.0 S0.7 | V2: $STATE@TSketch C1.0 S0.7 | W2: $STATE@Text L2.0 S0.7 | X2: $STATE@TSketch L2.0 S0.7 | Y2: $STATE@Text L1.2 S0.6 | Z2: $STATE@TSketch L1.2 S0.6 | AA2: $STATE@Text C1.3 S0.2 | AB2: $STATE@TSketch C1.3 S0.2 | AC2: $STATE@Wrap2 | AD2: $STATE@Surface-Offset1 | AE2: $STATE@Thicken1 | AF2: $STATE@SurfaceCut1 | AG2: $VALUE@Text Indent@Equations | AH2: $VALUE@Text Indent Line2@Equations | AI2: $VALUE@Case Circumference@Equations | AJ2: $VALUE@Lead Bend Radius@Equations | AK2: $STATE@Case Axis | AL2: $STATE@Case Axis Sketch | AM2: $STATE@Lead Cut Surface | AN2: $VALUE@Text Vertical Space@Equations | AO2: $VALUE@Internal Centre Gap@Equations | AY2: Parent? | AZ2: Package | BA2: Lead Spacing (mils) | BB2: Lead Spacing Increment | BC2: Config Lead Spacing | BD2: Stand Off | BE2: Stand Off Increment | BF2: Config Stand Off | BG2: Lead Spacing Text | BH2: Stand Off Text | BI2: Case Diameter | BJ2: Lead Length | BK2: Stand Off | BL2: End Fillet Radius | BM2: Case Length | BN2: Lead Diameter | BO2: Cathode Indicator Ring Width | BP2: Text Height | BQ2: Text Vertical Space | BR2: Text Indent | BS2: Text Indent Line2 | BT2: Protrusion Length | BU2: Lead Extend Length | BV2: Lead Spacing | BW2: Case Circumference | BX2: Lead Bend Radius | BY2: Remaining Lead Length | BZ2: Internal Centre Gap | CA2: Package Index | CB2: Package Count | CC2: Package Instance | CD2: Lead Spacing Instances | CE2: Stand Off Instances | CF2: Lead Spacing Instance | CG2: Stand Off Instance | CH2: Required Package Instances | CK2: {=IFERROR(MATCH(FALSE,$A2:$AX2=Sheet1!$A2:$AX2,0),0)} -> 0
A3: DO-41 | B3: =TRIM(Package&" "&Lead_Spacing_Text&Stand_Off_Text&INDEX(PkgTable,$CA3,MATCH("Package Material",PkgTblHdr,0))) -> DO-41 AXIAL-0.3 Glass | C3: =IF(Parent?,"$C","$P") -> $C | D3: =INDEX(PkgTable,$CA3,MATCH(D$2,PkgTblHdr,0)) -> 16777215 | E3: ="="&INDEX(PkgInstanceValues,1,MATCH(MID(E$2,1+LEN("$VALUE@"),LEN(E$2)-LEN("$Value@@Equations")),PkgInstanceHdr,0))&"mm" -> =2.6mm | F3: ="="&INDEX(PkgInstanceValues,1,MATCH(MID(F$2,1+LEN("$VALUE@"),LEN(F$2)-LEN("$Value@@Equations")),PkgInstanceHdr,0))&"mm" -> =26mm | G3: ="="&Config_Stand_Off&"mm" -> =1mm | H3: ="="&INDEX(PkgInstanceValues,1,MATCH(MID(H$2,1+LEN("$VALUE@"),LEN(H$2)-LEN("$Value@@Equations")),PkgInstanceHdr,0))&"mm" -> =0.65mm | I3: ="="&INDEX(PkgInstanceValues,1,MATCH(MID(I$2,1+LEN("$VALUE@"),LEN(I$2)-LEN("$Value@@Equations")),PkgInstanceHdr,0))&"mm" -> =4.1mm | J3: ="="&INDEX(PkgInstanceValues,1,MATCH(MID(J$2,1+LEN("$VALUE@"),LEN(J$2)-LEN("$Value@@Equations")),PkgInstanceHdr,0))&"mm" -> =0.7mm | K3: ="="&INDEX(PkgInstanceValues,1,MATCH(MID(K$2,1+LEN("$VALUE@"),LEN(K$2)-LEN("$Value@@Equations")),PkgInstanceHdr,0))&"mm" -> =0.9mm | L3: ="="&INDEX(PkgInstanceValues,1,MATCH(MID(L$2,1+LEN("$VALUE@"),LEN(L$2)-LEN("$Value@@Equations")),PkgInstanceHdr,0))&"mm" -> =1mm | M3: ="="&INDEX(PkgInstanceValues,1,MATCH(MID(M$2,1+LEN("$VALUE@"),LEN(M$2)-LEN("$Value@@Equations")),PkgInstanceHdr,0))&"mm" -> =0.1mm | N3: ="="&INDEX(PkgInstanceValues,1,MATCH(MID(N$2,1+LEN("$VALUE@"),LEN(N$2)-LEN("$Value@@Equations")),PkgInstanceHdr,0))&"mm" -> =2mm | O3: ="="&Config_Lead_Spacing*25.4/1000&"mm" -> =7.62mm | P3: =INDEX(PkgTable,$CA3,MATCH(P$2,PkgTblHdr,0)) -> SOLIDWORKS Materials:Glass | R3: =Lead_Spacing_Text -> AXIAL-0.3 | S3: =IF($AY3,INDEX(PkgTable,$CA3,MATCH(S$2,PkgTblHdr,0)),"") -> U | T3: =IF($AY3,INDEX(PkgTable,$CA3,MATCH(T$2,PkgTblHdr,0)),"") -> U | U3: =IF($AY3,INDEX(PkgTable,$CA3,MATCH(U$2,PkgTblHdr,0)),"") -> U | V3: =IF($AY3,INDEX(PkgTable,$CA3,MATCH(V$2,PkgTblHdr,0)),"") -> U | W3: =IF($AY3,INDEX(PkgTable,$CA3,MATCH(W$2,PkgTblHdr,0)),"") -> S | X3: =IF($AY3,INDEX(PkgTable,$CA3,MATCH(X$2,PkgTblHdr,0)),"") -> U | Y3: =IF($AY3,INDEX(PkgTable,$CA3,MATCH(Y$2,PkgTblHdr,0)),"") -> S | Z3: =IF($AY3,INDEX(PkgTable,$CA3,MATCH(Z$2,PkgTblHdr,0)),"") -> U | ... AE3: =IF($AY3,INDEX(PkgTable,$CA3,MATCH(AE$2,PkgTblHdr,0)),"") -> U | AF3: U | AG3: ="="&INDEX(PkgInstanceValues,1,MATCH(MID(AG$2,1+LEN("$VALUE@"),LEN(AG$2)-LEN("$Value@@Equations")),PkgInstanceHdr,0))&"mm" -> =0.001mm | AH3: ="="&INDEX(PkgInstanceValues,1,MATCH(MID(AH$2,1+LEN("$VALUE@"),LEN(AH$2)-LEN("$Value@@Equations")),PkgInstanceHdr,0))&"mm" -> =0.001mm | AI3: ="="&INDEX(PkgInstanceValues,1,MATCH(MID(AI$2,1+LEN("$VALUE@"),LEN(AI$2)-LEN("$Value@@Equations")),PkgInstanceHdr,0))&"mm" -> =8.16814089933346mm | AJ3: ="="&INDEX(PkgInstanceValues,1,MATCH(MID(AJ$2,1+LEN("$VALUE@"),LEN(AJ$2)-LEN("$Value@@Equations")),PkgInstanceHdr,0))&"mm" -> =0.84mm | AK3: =IF($AY3,"U","") -> U | AL3: =IF($AY3,"U","") -> U | AM3: =IF($AY3,"U","") -> U | AN3: ="="&INDEX(PkgInstanceValues,1,MATCH(MID(AN$2,1+LEN("$VALUE@"),LEN(AN$2)-LEN("$Value@@Equations")),PkgInstanceHdr,0))&"mm" -> =0.7mm | AO3: ="="&INDEX(PkgInstanceValues,1,MATCH(MID(AO$2,1+LEN("$VALUE@"),LEN(AO$2)-LEN("$Value@@Equations")),PkgInstanceHdr,0))&"mm" -> =0.1mm | AY3: =ISBLANK($Q3) -> TRUE | AZ3: =IF(Parent?,$A3,$Q3) -> DO-41 | BA3: =INDEX(PkgTable,$CA3,MATCH(BA$2,PkgTblHdr,0)) -> 300 | BB3: =INDEX(PkgTable,$CA3,MATCH(BB$2,PkgTblHdr,0)) -> 100 | BC3: =Lead_Spacing__mils+Lead_Spacing_Increment*($CF3-1)-IF(AND(Lead_Spacing_Increment>0,$CF3>1),MOD(Lead_Spacing__mils,Lead_Spacing_Increment),0) -> 300 | BD3: =INDEX(PkgTable,$CA3,MATCH(BD$2,PkgTblHdr,0)) -> 1 | BE3: =INDEX(PkgTable,$CA3,MATCH(BE$2,PkgTblHdr,0)) -> 0 | BF3: =Stand_Off+Stand_Off_Increment*($CG3-1)-IF(AND(Stand_Off_Increment>0,$CG3>1),MOD(Stand_Off,Stand_Off_Increment),0) -> 1 | BG3: ="AXIAL-"&TEXT($BC3/1000,"0.0##")&" " -> AXIAL-0.3 | BH3: =IF(Config_Stand_Off=1,"","["&TEXT(Config_Stand_Off,"00.0##")&"] ") | BI3: =INDEX(PkgTable,$CA3,MATCH(BI$2,PkgTblHdr,0)) -> 2.6 | BJ3: =INDEX(PkgTable,$CA3,MATCH(BJ$2,PkgTblHdr,0)) -> 26 | BK3: =INDEX(PkgTable,$CA3,MATCH(BK$2,PkgTblHdr,0)) -> 1 | BL3: =INDEX(PkgTable,$CA3,MATCH(BL$2,PkgTblHdr,0)) -> 0.65 | BM3: =INDEX(PkgTable,$CA3,MATCH(BM$2,PkgTblHdr,0)) -> 4.1 | BN3: =INDEX(PkgTable,$CA3,MATCH(BN$2,PkgTblHdr,0)) -> 0.7 | BO3: =INDEX(PkgTable,$CA3,MATCH(BO$2,PkgTblHdr,0)) -> 0.9 | BP3: =INDEX(PkgTable,$CA3,MATCH(BP$2,PkgTblHdr,0)) -> 1 | ... BX3: =INDEX(PkgTable,$CA3,MATCH(BX$2,PkgTblHdr,0)) -> 0.84 | BY3: =BJ3-(Lead_Extend_Length+Config_Stand_Off-2*Lead_Bend_Radius)-(Case_Diameter+Config_Lead_Spacing*25.4/1000+Lead_Bend_Radius*PI()-Case_Length)/2 -> 20.300531 | BZ3: =INDEX(PkgTable,$CA3,MATCH(BZ$2,PkgTblHdr,0)) -> 0.1 | CA3: =MATCH(Package,'Package Dimensions'!$B:$B,0)-2 -> 1 | CB3: =COUNTIF($AZ:$AZ,Package) -> 3 | CC3: =IF(Parent?,1,CC2+1) -> 1 | CD3: =INDEX(PkgTable,$CA3,MATCH(CD$2,PkgTblHdr,0)) -> 3 | CE3: =INDEX(PkgTable,$CA3,MATCH(CE$2,PkgTblHdr,0)) -> 1 | CF3: =1+MOD((CC3-MOD(CC3-1,CE3)-1)/CE3,CD3) -> 1 | CG3: =MOD($CC3-1,$CE3)+1 -> 1 | CH3: =CD3*CE3 -> 3 | CK3: {=IFERROR(MATCH(FALSE,$A3:$AX3=Sheet1!$A3:$AX3,0),0)} -> 0
A4: =TRIM($AZ4&" "&$BG4&$BH4) -> DO-41 AXIAL-0.4 | B4: =TRIM($AZ4&" "&$BG4&$BH4&INDEX(PkgTable,$CA4,MATCH("Package Material",PkgTblHdr,0))) -> DO-41 AXIAL-0.4 Glass | C4: =IF($AY4,"$C","$P") -> $P | D4: =INDEX(PkgTable,$CA4,MATCH(D$2,PkgTblHdr,0)) -> 16777215 | E4: ="="&INDEX(PkgInstanceValues,1,MATCH(MID(E$2,1+LEN("$VALUE@"),LEN(E$2)-LEN("$Value@@Equations")),PkgInstanceHdr,0))&"mm" -> =2.6mm | F4: ="="&INDEX(PkgInstanceValues,1,MATCH(MID(F$2,1+LEN("$VALUE@"),LEN(F$2)-LEN("$Value@@Equations")),PkgInstanceHdr,0))&"mm" -> =26mm | G4: ="="&$BF4&"mm" -> =1mm | H4: ="="&INDEX(PkgInstanceValues,1,MATCH(MID(H$2,1+LEN("$VALUE@"),LEN(H$2)-LEN("$Value@@Equations")),PkgInstanceHdr,0))&"mm" -> =0.65mm | I4: ="="&INDEX(PkgInstanceValues,1,MATCH(MID(I$2,1+LEN("$VALUE@"),LEN(I$2)-LEN("$Value@@Equations")),PkgInstanceHdr,0))&"mm" -> =4.1mm | J4: ="="&INDEX(PkgInstanceValues,1,MATCH(MID(J$2,1+LEN("$VALUE@"),LEN(J$2)-LEN("$Value@@Equations")),PkgInstanceHdr,0))&"mm" -> =0.7mm | K4: ="="&INDEX(PkgInstanceValues,1,MATCH(MID(K$2,1+LEN("$VALUE@"),LEN(K$2)-LEN("$Value@@Equations")),PkgInstanceHdr,0))&"mm" -> =0.9mm | L4: ="="&INDEX(PkgInstanceValues,1,MATCH(MID(L$2,1+LEN("$VALUE@"),LEN(L$2)-LEN("$Value@@Equations")),PkgInstanceHdr,0))&"mm" -> =1mm | M4: ="="&INDEX(PkgInstanceValues,1,MATCH(MID(M$2,1+LEN("$VALUE@"),LEN(M$2)-LEN("$Value@@Equations")),PkgInstanceHdr,0))&"mm" -> =0.1mm | N4: ="="&INDEX(PkgInstanceValues,1,MATCH(MID(N$2,1+LEN("$VALUE@"),LEN(N$2)-LEN("$Value@@Equations")),PkgInstanceHdr,0))&"mm" -> =2mm | O4: ="="&$BC4*25.4/1000&"mm" -> =10.16mm | P4: =INDEX(PkgTable,$CA4,MATCH(P$2,PkgTblHdr,0)) -> SOLIDWORKS Materials:Glass | Q4: =IF(ISBLANK($Q3),$A3,$Q3) -> DO-41 | R4: =$BG4 -> AXIAL-0.4 | S4: =IF($AY4,INDEX(PkgTable,$CA4,MATCH(S$2,PkgTblHdr,0)),"") | T4: =IF($AY4,INDEX(PkgTable,$CA4,MATCH(T$2,PkgTblHdr,0)),"") | U4: =IF($AY4,INDEX(PkgTable,$CA4,MATCH(U$2,PkgTblHdr,0)),"") | V4: =IF($AY4,INDEX(PkgTable,$CA4,MATCH(V$2,PkgTblHdr,0)),"") | W4: =IF($AY4,INDEX(PkgTable,$CA4,MATCH(W$2,PkgTblHdr,0)),"") | X4: =IF($AY4,INDEX(PkgTable,$CA4,MATCH(X$2,PkgTblHdr,0)),"") | Y4: =IF($AY4,INDEX(PkgTable,$CA4,MATCH(Y$2,PkgTblHdr,0)),"") | Z4: =IF($AY4,INDEX(PkgTable,$CA4,MATCH(Z$2,PkgTblHdr,0)),"") | ... AE4: =IF($AY4,INDEX(PkgTable,$CA4,MATCH(AE$2,PkgTblHdr,0)),"") | AG4: ="="&INDEX(PkgInstanceValues,1,MATCH(MID(AG$2,1+LEN("$VALUE@"),LEN(AG$2)-LEN("$Value@@Equations")),PkgInstanceHdr,0))&"mm" -> =0.001mm | AH4: ="="&INDEX(PkgInstanceValues,1,MATCH(MID(AH$2,1+LEN("$VALUE@"),LEN(AH$2)-LEN("$Value@@Equations")),PkgInstanceHdr,0))&"mm" -> =0.001mm | AI4: ="="&INDEX(PkgInstanceValues,1,MATCH(MID(AI$2,1+LEN("$VALUE@"),LEN(AI$2)-LEN("$Value@@Equations")),PkgInstanceHdr,0))&"mm" -> =8.16814089933346mm | AJ4: ="="&INDEX(PkgInstanceValues,1,MATCH(MID(AJ$2,1+LEN("$VALUE@"),LEN(AJ$2)-LEN("$Value@@Equations")),PkgInstanceHdr,0))&"mm" -> =0.84mm | AK4: =IF($AY4,"U","") | AL4: =IF($AY4,"U","") | AM4: =IF($AY4,"U","") | AN4: ="="&INDEX(PkgInstanceValues,1,MATCH(MID(AN$2,1+LEN("$VALUE@"),LEN(AN$2)-LEN("$Value@@Equations")),PkgInstanceHdr,0))&"mm" -> =0.7mm | AO4: ="="&INDEX(PkgInstanceValues,1,MATCH(MID(AO$2,1+LEN("$VALUE@"),LEN(AO$2)-LEN("$Value@@Equations")),PkgInstanceHdr,0))&"mm" -> =0.1mm | AY4: =ISBLANK($Q4) -> FALSE | AZ4: =IF(Parent?,$A4,$Q4) -> DO-41 | BA4: =INDEX(PkgTable,$CA4,MATCH(BA$2,PkgTblHdr,0)) -> 300 | BB4: =INDEX(PkgTable,$CA4,MATCH(BB$2,PkgTblHdr,0)) -> 100 | BC4: =$BA4+$BB4*($CF4-1)-IF(AND($BB4>0,$CF4>1),MOD($BA4,$BB4),0) -> 400 | BD4: =INDEX(PkgTable,$CA4,MATCH(BD$2,PkgTblHdr,0)) -> 1 | BE4: =INDEX(PkgTable,$CA4,MATCH(BE$2,PkgTblHdr,0)) -> 0 | BF4: =$BD4+$BE4*($CG4-1)-IF(AND($BE4>0,$CG4>1),MOD($BD4,$BE4),0) -> 1 | BG4: ="AXIAL-"&TEXT($BC4/1000,"0.0##")&" " -> AXIAL-0.4 | BH4: =IF(BF4=1,"","["&TEXT(BF4,"00.0##")&"] ") | BI4: =INDEX(PkgTable,$CA4,MATCH(BI$2,PkgTblHdr,0)) -> 2.6 | BJ4: =INDEX(PkgTable,$CA4,MATCH(BJ$2,PkgTblHdr,0)) -> 26 | BK4: =INDEX(PkgTable,$CA4,MATCH(BK$2,PkgTblHdr,0)) -> 1 | BL4: =INDEX(PkgTable,$CA4,MATCH(BL$2,PkgTblHdr,0)) -> 0.65 | BM4: =INDEX(PkgTable,$CA4,MATCH(BM$2,PkgTblHdr,0)) -> 4.1 | BN4: =INDEX(PkgTable,$CA4,MATCH(BN$2,PkgTblHdr,0)) -> 0.7 | BO4: =INDEX(PkgTable,$CA4,MATCH(BO$2,PkgTblHdr,0)) -> 0.9 | BP4: =INDEX(PkgTable,$CA4,MATCH(BP$2,PkgTblHdr,0)) -> 1 | ... BX4: =INDEX(PkgTable,$CA4,MATCH(BX$2,PkgTblHdr,0)) -> 0.84 | BY4: =BJ4-(Lead_Extend_Length+Config_Stand_Off-2*Lead_Bend_Radius)-(Case_Diameter+Config_Lead_Spacing*25.4/1000+Lead_Bend_Radius*PI()-Case_Length)/2 -> 19.030531 | BZ4: =INDEX(PkgTable,$CA4,MATCH(BZ$2,PkgTblHdr,0)) -> 0.1 | CA4: =MATCH($AZ4,'Package Dimensions'!$B:$B,0)-2 -> 1 | CB4: =COUNTIF($AZ:$AZ,$AZ4) -> 3 | CC4: =IF($AY4,1,CC3+1) -> 2 | CD4: =INDEX(PkgTable,$CA4,MATCH(CD$2,PkgTblHdr,0)) -> 3 | CE4: =INDEX(PkgTable,$CA4,MATCH(CE$2,PkgTblHdr,0)) -> 1 | CF4: =1+MOD((CC4-MOD(CC4-1,CE4)-1)/CE4,CD4) -> 2 | CG4: =MOD($CC4-1,$CE4)+1 -> 1 | CH4: =CD4*CE4 -> 3 | CK4: {=IFERROR(MATCH(FALSE,$A4:$AX4=Sheet1!$A4:$AX4,0),0)} -> 0
A5: =TRIM($AZ5&" "&$BG5&$BH5) -> DO-41 AXIAL-0.5 | B5: =TRIM($AZ5&" "&$BG5&$BH5&INDEX(PkgTable,$CA5,MATCH("Package Material",PkgTblHdr,0))) -> DO-41 AXIAL-0.5 Glass | C5: =IF($AY5,"$C","$P") -> $P | D5: =INDEX(PkgTable,$CA5,MATCH(D$2,PkgTblHdr,0)) -> 16777215 | E5: ="="&INDEX(PkgInstanceValues,1,MATCH(MID(E$2,1+LEN("$VALUE@"),LEN(E$2)-LEN("$Value@@Equations")),PkgInstanceHdr,0))&"mm" -> =2.6mm | F5: ="="&INDEX(PkgInstanceValues,1,MATCH(MID(F$2,1+LEN("$VALUE@"),LEN(F$2)-LEN("$Value@@Equations")),PkgInstanceHdr,0))&"mm" -> =26mm | G5: ="="&$BF5&"mm" -> =1mm | H5: ="="&INDEX(PkgInstanceValues,1,MATCH(MID(H$2,1+LEN("$VALUE@"),LEN(H$2)-LEN("$Value@@Equations")),PkgInstanceHdr,0))&"mm" -> =0.65mm | I5: ="="&INDEX(PkgInstanceValues,1,MATCH(MID(I$2,1+LEN("$VALUE@"),LEN(I$2)-LEN("$Value@@Equations")),PkgInstanceHdr,0))&"mm" -> =4.1mm | J5: ="="&INDEX(PkgInstanceValues,1,MATCH(MID(J$2,1+LEN("$VALUE@"),LEN(J$2)-LEN("$Value@@Equations")),PkgInstanceHdr,0))&"mm" -> =0.7mm | K5: ="="&INDEX(PkgInstanceValues,1,MATCH(MID(K$2,1+LEN("$VALUE@"),LEN(K$2)-LEN("$Value@@Equations")),PkgInstanceHdr,0))&"mm" -> =0.9mm | L5: ="="&INDEX(PkgInstanceValues,1,MATCH(MID(L$2,1+LEN("$VALUE@"),LEN(L$2)-LEN("$Value@@Equations")),PkgInstanceHdr,0))&"mm" -> =1mm | M5: ="="&INDEX(PkgInstanceValues,1,MATCH(MID(M$2,1+LEN("$VALUE@"),LEN(M$2)-LEN("$Value@@Equations")),PkgInstanceHdr,0))&"mm" -> =0.1mm | N5: ="="&INDEX(PkgInstanceValues,1,MATCH(MID(N$2,1+LEN("$VALUE@"),LEN(N$2)-LEN("$Value@@Equations")),PkgInstanceHdr,0))&"mm" -> =2mm | O5: ="="&$BC5*25.4/1000&"mm" -> =12.7mm | P5: =INDEX(PkgTable,$CA5,MATCH(P$2,PkgTblHdr,0)) -> SOLIDWORKS Materials:Glass | Q5: =IF(ISBLANK($Q4),$A4,$Q4) -> DO-41 | R5: =$BG5 -> AXIAL-0.5 | S5: =IF($AY5,INDEX(PkgTable,$CA5,MATCH(S$2,PkgTblHdr,0)),"") | T5: =IF($AY5,INDEX(PkgTable,$CA5,MATCH(T$2,PkgTblHdr,0)),"") | U5: =IF($AY5,INDEX(PkgTable,$CA5,MATCH(U$2,PkgTblHdr,0)),"") | V5: =IF($AY5,INDEX(PkgTable,$CA5,MATCH(V$2,PkgTblHdr,0)),"") | W5: =IF($AY5,INDEX(PkgTable,$CA5,MATCH(W$2,PkgTblHdr,0)),"") | X5: =IF($AY5,INDEX(PkgTable,$CA5,MATCH(X$2,PkgTblHdr,0)),"") | Y5: =IF($AY5,INDEX(PkgTable,$CA5,MATCH(Y$2,PkgTblHdr,0)),"") | Z5: =IF($AY5,INDEX(PkgTable,$CA5,MATCH(Z$2,PkgTblHdr,0)),"") | ... AE5: =IF($AY5,INDEX(PkgTable,$CA5,MATCH(AE$2,PkgTblHdr,0)),"") | AG5: ="="&INDEX(PkgInstanceValues,1,MATCH(MID(AG$2,1+LEN("$VALUE@"),LEN(AG$2)-LEN("$Value@@Equations")),PkgInstanceHdr,0))&"mm" -> =0.001mm | AH5: ="="&INDEX(PkgInstanceValues,1,MATCH(MID(AH$2,1+LEN("$VALUE@"),LEN(AH$2)-LEN("$Value@@Equations")),PkgInstanceHdr,0))&"mm" -> =0.001mm | AI5: ="="&INDEX(PkgInstanceValues,1,MATCH(MID(AI$2,1+LEN("$VALUE@"),LEN(AI$2)-LEN("$Value@@Equations")),PkgInstanceHdr,0))&"mm" -> =8.16814089933346mm | AJ5: ="="&INDEX(PkgInstanceValues,1,MATCH(MID(AJ$2,1+LEN("$VALUE@"),LEN(AJ$2)-LEN("$Value@@Equations")),PkgInstanceHdr,0))&"mm" -> =0.84mm | AK5: =IF($AY5,"U","") | AL5: =IF($AY5,"U","") | AM5: =IF($AY5,"U","") | AN5: ="="&INDEX(PkgInstanceValues,1,MATCH(MID(AN$2,1+LEN("$VALUE@"),LEN(AN$2)-LEN("$Value@@Equations")),PkgInstanceHdr,0))&"mm" -> =0.7mm | AO5: ="="&INDEX(PkgInstanceValues,1,MATCH(MID(AO$2,1+LEN("$VALUE@"),LEN(AO$2)-LEN("$Value@@Equations")),PkgInstanceHdr,0))&"mm" -> =0.1mm | AY5: =ISBLANK($Q5) -> FALSE | AZ5: =IF(Parent?,$A5,$Q5) -> DO-41 | BA5: =INDEX(PkgTable,$CA5,MATCH(BA$2,PkgTblHdr,0)) -> 300 | BB5: =INDEX(PkgTable,$CA5,MATCH(BB$2,PkgTblHdr,0)) -> 100 | BC5: =$BA5+$BB5*($CF5-1)-IF(AND($BB5>0,$CF5>1),MOD($BA5,$BB5),0) -> 500 | BD5: =INDEX(PkgTable,$CA5,MATCH(BD$2,PkgTblHdr,0)) -> 1 | BE5: =INDEX(PkgTable,$CA5,MATCH(BE$2,PkgTblHdr,0)) -> 0 | BF5: =$BD5+$BE5*($CG5-1)-IF(AND($BE5>0,$CG5>1),MOD($BD5,$BE5),0) -> 1 | BG5: ="AXIAL-"&TEXT($BC5/1000,"0.0##")&" " -> AXIAL-0.5 | BH5: =IF(BF5=1,"","["&TEXT(BF5,"00.0##")&"] ") | BI5: =INDEX(PkgTable,$CA5,MATCH(BI$2,PkgTblHdr,0)) -> 2.6 | BJ5: =INDEX(PkgTable,$CA5,MATCH(BJ$2,PkgTblHdr,0)) -> 26 | BK5: =INDEX(PkgTable,$CA5,MATCH(BK$2,PkgTblHdr,0)) -> 1 | BL5: =INDEX(PkgTable,$CA5,MATCH(BL$2,PkgTblHdr,0)) -> 0.65 | BM5: =INDEX(PkgTable,$CA5,MATCH(BM$2,PkgTblHdr,0)) -> 4.1 | BN5: =INDEX(PkgTable,$CA5,MATCH(BN$2,PkgTblHdr,0)) -> 0.7 | BO5: =INDEX(PkgTable,$CA5,MATCH(BO$2,PkgTblHdr,0)) -> 0.9 | BP5: =INDEX(PkgTable,$CA5,MATCH(BP$2,PkgTblHdr,0)) -> 1 | ... BX5: =INDEX(PkgTable,$CA5,MATCH(BX$2,PkgTblHdr,0)) -> 0.84 | BY5: =BJ5-(Lead_Extend_Length+Config_Stand_Off-2*Lead_Bend_Radius)-(Case_Diameter+Config_Lead_Spacing*25.4/1000+Lead_Bend_Radius*PI()-Case_Length)/2 -> 17.760531 | BZ5: =INDEX(PkgTable,$CA5,MATCH(BZ$2,PkgTblHdr,0)) -> 0.1 | CA5: =MATCH($AZ5,'Package Dimensions'!$B:$B,0)-2 -> 1 | CB5: =COUNTIF($AZ:$AZ,$AZ5) -> 3 | CC5: =IF($AY5,1,CC4+1) -> 3 | CD5: =INDEX(PkgTable,$CA5,MATCH(CD$2,PkgTblHdr,0)) -> 3 | CE5: =INDEX(PkgTable,$CA5,MATCH(CE$2,PkgTblHdr,0)) -> 1 | CF5: =1+MOD((CC5-MOD(CC5-1,CE5)-1)/CE5,CD5) -> 3 | CG5: =MOD($CC5-1,$CE5)+1 -> 1 | CH5: =CD5*CE5 -> 3 | CK5: {=IFERROR(MATCH(FALSE,$A5:$AX5=Sheet1!$A5:$AX5,0),0)} -> 0
A6: DO-201AD | B6: =TRIM($AZ6&" "&$BG6&$BH6&INDEX(PkgTable,$CA6,MATCH("Package Material",PkgTblHdr,0))) -> DO-201AD AXIAL-0.6 Plastic | C6: =IF($AY6,"$C","$P") -> $C | D6: =INDEX(PkgTable,$CA6,MATCH(D$2,PkgTblHdr,0)) -> 328965 | E6: ="="&INDEX(PkgInstanceValues,1,MATCH(MID(E$2,1+LEN("$VALUE@"),LEN(E$2)-LEN("$Value@@Equations")),PkgInstanceHdr,0))&"mm" -> =5.3mm | F6: ="="&INDEX(PkgInstanceValues,1,MATCH(MID(F$2,1+LEN("$VALUE@"),LEN(F$2)-LEN("$Value@@Equations")),PkgInstanceHdr,0))&"mm" -> =25.4mm | G6: ="="&$BF6&"mm" -> =1mm | H6: ="="&INDEX(PkgInstanceValues,1,MATCH(MID(H$2,1+LEN("$VALUE@"),LEN(H$2)-LEN("$Value@@Equations")),PkgInstanceHdr,0))&"mm" -> =0.0828125mm | I6: ="="&INDEX(PkgInstanceValues,1,MATCH(MID(I$2,1+LEN("$VALUE@"),LEN(I$2)-LEN("$Value@@Equations")),PkgInstanceHdr,0))&"mm" -> =9.5mm | J6: ="="&INDEX(PkgInstanceValues,1,MATCH(MID(J$2,1+LEN("$VALUE@"),LEN(J$2)-LEN("$Value@@Equations")),PkgInstanceHdr,0))&"mm" -> =1.3mm | K6: ="="&INDEX(PkgInstanceValues,1,MATCH(MID(K$2,1+LEN("$VALUE@"),LEN(K$2)-LEN("$Value@@Equations")),PkgInstanceHdr,0))&"mm" -> =1.8mm | L6: ="="&INDEX(PkgInstanceValues,1,MATCH(MID(L$2,1+LEN("$VALUE@"),LEN(L$2)-LEN("$Value@@Equations")),PkgInstanceHdr,0))&"mm" -> =2mm | M6: ="="&INDEX(PkgInstanceValues,1,MATCH(MID(M$2,1+LEN("$VALUE@"),LEN(M$2)-LEN("$Value@@Equations")),PkgInstanceHdr,0))&"mm" -> =0.001mm | N6: ="="&INDEX(PkgInstanceValues,1,MATCH(MID(N$2,1+LEN("$VALUE@"),LEN(N$2)-LEN("$Value@@Equations")),PkgInstanceHdr,0))&"mm" -> =2mm | O6: ="="&$BC6*25.4/1000&"mm" -> =15.24mm | P6: =INDEX(PkgTable,$CA6,MATCH(P$2,PkgTblHdr,0)) -> SOLIDWORKS Materials:PUR | R6: =$BG6 -> AXIAL-0.6 | S6: =IF($AY6,INDEX(PkgTable,$CA6,MATCH(S$2,PkgTblHdr,0)),"") -> S | T6: =IF($AY6,INDEX(PkgTable,$CA6,MATCH(T$2,PkgTblHdr,0)),"") -> S | U6: =IF($AY6,INDEX(PkgTable,$CA6,MATCH(U$2,PkgTblHdr,0)),"") -> S | V6: =IF($AY6,INDEX(PkgTable,$CA6,MATCH(V$2,PkgTblHdr,0)),"") -> U | W6: =IF($AY6,INDEX(PkgTable,$CA6,MATCH(W$2,PkgTblHdr,0)),"") -> U | X6: =IF($AY6,INDEX(PkgTable,$CA6,MATCH(X$2,PkgTblHdr,0)),"") -> U | Y6: =IF($AY6,INDEX(PkgTable,$CA6,MATCH(Y$2,PkgTblHdr,0)),"") -> S | Z6: =IF($AY6,INDEX(PkgTable,$CA6,MATCH(Z$2,PkgTblHdr,0)),"") -> U | ... AE6: =IF($AY6,INDEX(PkgTable,$CA6,MATCH(AE$2,PkgTblHdr,0)),"") -> U | AF6: U | AG6: ="="&INDEX(PkgInstanceValues,1,MATCH(MID(AG$2,1+LEN("$VALUE@"),LEN(AG$2)-LEN("$Value@@Equations")),PkgInstanceHdr,0))&"mm" -> =0.4mm | AH6: ="="&INDEX(PkgInstanceValues,1,MATCH(MID(AH$2,1+LEN("$VALUE@"),LEN(AH$2)-LEN("$Value@@Equations")),PkgInstanceHdr,0))&"mm" -> =0.4mm | AI6: ="="&INDEX(PkgInstanceValues,1,MATCH(MID(AI$2,1+LEN("$VALUE@"),LEN(AI$2)-LEN("$Value@@Equations")),PkgInstanceHdr,0))&"mm" -> =16.6504410640259mm | AJ6: ="="&INDEX(PkgInstanceValues,1,MATCH(MID(AJ$2,1+LEN("$VALUE@"),LEN(AJ$2)-LEN("$Value@@Equations")),PkgInstanceHdr,0))&"mm" -> =1.56mm | AK6: =IF($AY6,"U","") -> U | AL6: =IF($AY6,"U","") -> U | AM6: =IF($AY6,"U","") -> U | AN6: ="="&INDEX(PkgInstanceValues,1,MATCH(MID(AN$2,1+LEN("$VALUE@"),LEN(AN$2)-LEN("$Value@@Equations")),PkgInstanceHdr,0))&"mm" -> =0.7mm | AO6: ="="&INDEX(PkgInstanceValues,1,MATCH(MID(AO$2,1+LEN("$VALUE@"),LEN(AO$2)-LEN("$Value@@Equations")),PkgInstanceHdr,0))&"mm" -> =0.1mm | AY6: =ISBLANK($Q6) -> TRUE | AZ6: =IF(Parent?,$A6,$Q6) -> DO-201AD | BA6: =INDEX(PkgTable,$CA6,MATCH(BA$2,PkgTblHdr,0)) -> 600 | BB6: =INDEX(PkgTable,$CA6,MATCH(BB$2,PkgTblHdr,0)) -> 100 | BC6: =$BA6+$BB6*($CF6-1)-IF(AND($BB6>0,$CF6>1),MOD($BA6,$BB6),0) -> 600 | BD6: =INDEX(PkgTable,$CA6,MATCH(BD$2,PkgTblHdr,0)) -> 1 | BE6: =INDEX(PkgTable,$CA6,MATCH(BE$2,PkgTblHdr,0)) -> 0 | BF6: =$BD6+$BE6*($CG6-1)-IF(AND($BE6>0,$CG6>1),MOD($BD6,$BE6),0) -> 1 | BG6: ="AXIAL-"&TEXT($BC6/1000,"0.0##")&" " -> AXIAL-0.6 | BH6: =IF(BF6=1,"","["&TEXT(BF6,"00.0##")&"] ") | BI6: =INDEX(PkgTable,$CA6,MATCH(BI$2,PkgTblHdr,0)) -> 5.3 | BJ6: =INDEX(PkgTable,$CA6,MATCH(BJ$2,PkgTblHdr,0)) -> 25.4 | BK6: =INDEX(PkgTable,$CA6,MATCH(BK$2,PkgTblHdr,0)) -> 1 | BL6: =INDEX(PkgTable,$CA6,MATCH(BL$2,PkgTblHdr,0)) -> 0.0828125 | BM6: =INDEX(PkgTable,$CA6,MATCH(BM$2,PkgTblHdr,0)) -> 9.5 | BN6: =INDEX(PkgTable,$CA6,MATCH(BN$2,PkgTblHdr,0)) -> 1.3 | BO6: =INDEX(PkgTable,$CA6,MATCH(BO$2,PkgTblHdr,0)) -> 1.8 | BP6: =INDEX(PkgTable,$CA6,MATCH(BP$2,PkgTblHdr,0)) -> 2 | ... BX6: =INDEX(PkgTable,$CA6,MATCH(BX$2,PkgTblHdr,0)) -> 1.56 | BY6: =BJ6-(Lead_Extend_Length+Config_Stand_Off-2*Lead_Bend_Radius)-(Case_Diameter+Config_Lead_Spacing*25.4/1000+Lead_Bend_Radius*PI()-Case_Length)/2 -> 17.549558 | BZ6: =INDEX(PkgTable,$CA6,MATCH(BZ$2,PkgTblHdr,0)) -> 0.1 | CA6: =MATCH($AZ6,'Package Dimensions'!$B:$B,0)-2 -> 2 | CB6: =COUNTIF($AZ:$AZ,$AZ6) -> 3 | CC6: =IF($AY6,1,CC5+1) -> 1 | CD6: =INDEX(PkgTable,$CA6,MATCH(CD$2,PkgTblHdr,0)) -> 3 | CE6: =INDEX(PkgTable,$CA6,MATCH(CE$2,PkgTblHdr,0)) -> 1 | CF6: =1+MOD((CC6-MOD(CC6-1,CE6)-1)/CE6,CD6) -> 1 | CG6: =MOD($CC6-1,$CE6)+1 -> 1 | CH6: =CD6*CE6 -> 3 | CK6: {=IFERROR(MATCH(FALSE,$A6:$AX6=Sheet1!$A6:$AX6,0),0)} -> 0
A7: =TRIM($AZ7&" "&$BG7&$BH7) -> DO-201AD AXIAL-0.7 | B7: =TRIM($AZ7&" "&$BG7&$BH7&INDEX(PkgTable,$CA7,MATCH("Package Material",PkgTblHdr,0))) -> DO-201AD AXIAL-0.7 Plastic | C7: =IF($AY7,"$C","$P") -> $P | D7: =INDEX(PkgTable,$CA7,MATCH(D$2,PkgTblHdr,0)) -> 328965 | E7: ="="&INDEX(PkgInstanceValues,1,MATCH(MID(E$2,1+LEN("$VALUE@"),LEN(E$2)-LEN("$Value@@Equations")),PkgInstanceHdr,0))&"mm" -> =5.3mm | F7: ="="&INDEX(PkgInstanceValues,1,MATCH(MID(F$2,1+LEN("$VALUE@"),LEN(F$2)-LEN("$Value@@Equations")),PkgInstanceHdr,0))&"mm" -> =25.4mm | G7: ="="&$BF7&"mm" -> =1mm | H7: ="="&INDEX(PkgInstanceValues,1,MATCH(MID(H$2,1+LEN("$VALUE@"),LEN(H$2)-LEN("$Value@@Equations")),PkgInstanceHdr,0))&"mm" -> =0.0828125mm | I7: ="="&INDEX(PkgInstanceValues,1,MATCH(MID(I$2,1+LEN("$VALUE@"),LEN(I$2)-LEN("$Value@@Equations")),PkgInstanceHdr,0))&"mm" -> =9.5mm | J7: ="="&INDEX(PkgInstanceValues,1,MATCH(MID(J$2,1+LEN("$VALUE@"),LEN(J$2)-LEN("$Value@@Equations")),PkgInstanceHdr,0))&"mm" -> =1.3mm | K7: ="="&INDEX(PkgInstanceValues,1,MATCH(MID(K$2,1+LEN("$VALUE@"),LEN(K$2)-LEN("$Value@@Equations")),PkgInstanceHdr,0))&"mm" -> =1.8mm | L7: ="="&INDEX(PkgInstanceValues,1,MATCH(MID(L$2,1+LEN("$VALUE@"),LEN(L$2)-LEN("$Value@@Equations")),PkgInstanceHdr,0))&"mm" -> =2mm | M7: ="="&INDEX(PkgInstanceValues,1,MATCH(MID(M$2,1+LEN("$VALUE@"),LEN(M$2)-LEN("$Value@@Equations")),PkgInstanceHdr,0))&"mm" -> =0.001mm | N7: ="="&INDEX(PkgInstanceValues,1,MATCH(MID(N$2,1+LEN("$VALUE@"),LEN(N$2)-LEN("$Value@@Equations")),PkgInstanceHdr,0))&"mm" -> =2mm | O7: ="="&$BC7*25.4/1000&"mm" -> =17.78mm | P7: =INDEX(PkgTable,$CA7,MATCH(P$2,PkgTblHdr,0)) -> SOLIDWORKS Materials:PUR | Q7: =IF(ISBLANK($Q6),$A6,$Q6) -> DO-201AD | R7: =$BG7 -> AXIAL-0.7 | S7: =IF($AY7,INDEX(PkgTable,$CA7,MATCH(S$2,PkgTblHdr,0)),"") | T7: =IF($AY7,INDEX(PkgTable,$CA7,MATCH(T$2,PkgTblHdr,0)),"") | U7: =IF($AY7,INDEX(PkgTable,$CA7,MATCH(U$2,PkgTblHdr,0)),"") | V7: =IF($AY7,INDEX(PkgTable,$CA7,MATCH(V$2,PkgTblHdr,0)),"") | W7: =IF($AY7,INDEX(PkgTable,$CA7,MATCH(W$2,PkgTblHdr,0)),"") | X7: =IF($AY7,INDEX(PkgTable,$CA7,MATCH(X$2,PkgTblHdr,0)),"") | Y7: =IF($AY7,INDEX(PkgTable,$CA7,MATCH(Y$2,PkgTblHdr,0)),"") | Z7: =IF($AY7,INDEX(PkgTable,$CA7,MATCH(Z$2,PkgTblHdr,0)),"") | ... AE7: =IF($AY7,INDEX(PkgTable,$CA7,MATCH(AE$2,PkgTblHdr,0)),"") | AG7: ="="&INDEX(PkgInstanceValues,1,MATCH(MID(AG$2,1+LEN("$VALUE@"),LEN(AG$2)-LEN("$Value@@Equations")),PkgInstanceHdr,0))&"mm" -> =0.4mm | AH7: ="="&INDEX(PkgInstanceValues,1,MATCH(MID(AH$2,1+LEN("$VALUE@"),LEN(AH$2)-LEN("$Value@@Equations")),PkgInstanceHdr,0))&"mm" -> =0.4mm | AI7: ="="&INDEX(PkgInstanceValues,1,MATCH(MID(AI$2,1+LEN("$VALUE@"),LEN(AI$2)-LEN("$Value@@Equations")),PkgInstanceHdr,0))&"mm" -> =16.6504410640259mm | AJ7: ="="&INDEX(PkgInstanceValues,1,MATCH(MID(AJ$2,1+LEN("$VALUE@"),LEN(AJ$2)-LEN("$Value@@Equations")),PkgInstanceHdr,0))&"mm" -> =1.56mm | AK7: =IF($AY7,"U","") | AL7: =IF($AY7,"U","") | AM7: =IF($AY7,"U","") | AN7: ="="&INDEX(PkgInstanceValues,1,MATCH(MID(AN$2,1+LEN("$VALUE@"),LEN(AN$2)-LEN("$Value@@Equations")),PkgInstanceHdr,0))&"mm" -> =0.7mm | AO7: ="="&INDEX(PkgInstanceValues,1,MATCH(MID(AO$2,1+LEN("$VALUE@"),LEN(AO$2)-LEN("$Value@@Equations")),PkgInstanceHdr,0))&"mm" -> =0.1mm | AY7: =ISBLANK($Q7) -> FALSE | AZ7: =IF(Parent?,$A7,$Q7) -> DO-201AD | BA7: =INDEX(PkgTable,$CA7,MATCH(BA$2,PkgTblHdr,0)) -> 600 | BB7: =INDEX(PkgTable,$CA7,MATCH(BB$2,PkgTblHdr,0)) -> 100 | BC7: =$BA7+$BB7*($CF7-1)-IF(AND($BB7>0,$CF7>1),MOD($BA7,$BB7),0) -> 700 | BD7: =INDEX(PkgTable,$CA7,MATCH(BD$2,PkgTblHdr,0)) -> 1 | BE7: =INDEX(PkgTable,$CA7,MATCH(BE$2,PkgTblHdr,0)) -> 0 | BF7: =$BD7+$BE7*($CG7-1)-IF(AND($BE7>0,$CG7>1),MOD($BD7,$BE7),0) -> 1 | BG7: ="AXIAL-"&TEXT($BC7/1000,"0.0##")&" " -> AXIAL-0.7 | BH7: =IF(BF7=1,"","["&TEXT(BF7,"00.0##")&"] ") | BI7: =INDEX(PkgTable,$CA7,MATCH(BI$2,PkgTblHdr,0)) -> 5.3 | BJ7: =INDEX(PkgTable,$CA7,MATCH(BJ$2,PkgTblHdr,0)) -> 25.4 | BK7: =INDEX(PkgTable,$CA7,MATCH(BK$2,PkgTblHdr,0)) -> 1 | BL7: =INDEX(PkgTable,$CA7,MATCH(BL$2,PkgTblHdr,0)) -> 0.0828125 | BM7: =INDEX(PkgTable,$CA7,MATCH(BM$2,PkgTblHdr,0)) -> 9.5 | BN7: =INDEX(PkgTable,$CA7,MATCH(BN$2,PkgTblHdr,0)) -> 1.3 | BO7: =INDEX(PkgTable,$CA7,MATCH(BO$2,PkgTblHdr,0)) -> 1.8 | BP7: =INDEX(PkgTable,$CA7,MATCH(BP$2,PkgTblHdr,0)) -> 2 | ... BX7: =INDEX(PkgTable,$CA7,MATCH(BX$2,PkgTblHdr,0)) -> 1.56 | BY7: =BJ7-(Lead_Extend_Length+Config_Stand_Off-2*Lead_Bend_Radius)-(Case_Diameter+Config_Lead_Spacing*25.4/1000+Lead_Bend_Radius*PI()-Case_Length)/2 -> 16.279558 | BZ7: =INDEX(PkgTable,$CA7,MATCH(BZ$2,PkgTblHdr,0)) -> 0.1 | CA7: =MATCH($AZ7,'Package Dimensions'!$B:$B,0)-2 -> 2 | CB7: =COUNTIF($AZ:$AZ,$AZ7) -> 3 | CC7: =IF($AY7,1,CC6+1) -> 2 | CD7: =INDEX(PkgTable,$CA7,MATCH(CD$2,PkgTblHdr,0)) -> 3 | CE7: =INDEX(PkgTable,$CA7,MATCH(CE$2,PkgTblHdr,0)) -> 1 | CF7: =1+MOD((CC7-MOD(CC7-1,CE7)-1)/CE7,CD7) -> 2 | CG7: =MOD($CC7-1,$CE7)+1 -> 1 | CH7: =CD7*CE7 -> 3 | CK7: {=IFERROR(MATCH(FALSE,$A7:$AX7=Sheet1!$A7:$AX7,0),0)} -> 0
A8: =TRIM($AZ8&" "&$BG8&$BH8) -> DO-201AD AXIAL-0.8 | B8: =TRIM($AZ8&" "&$BG8&$BH8&INDEX(PkgTable,$CA8,MATCH("Package Material",PkgTblHdr,0))) -> DO-201AD AXIAL-0.8 Plastic | C8: =IF($AY8,"$C","$P") -> $P | D8: =INDEX(PkgTable,$CA8,MATCH(D$2,PkgTblHdr,0)) -> 328965 | E8: ="="&INDEX(PkgInstanceValues,1,MATCH(MID(E$2,1+LEN("$VALUE@"),LEN(E$2)-LEN("$Value@@Equations")),PkgInstanceHdr,0))&"mm" -> =5.3mm | F8: ="="&INDEX(PkgInstanceValues,1,MATCH(MID(F$2,1+LEN("$VALUE@"),LEN(F$2)-LEN("$Value@@Equations")),PkgInstanceHdr,0))&"mm" -> =25.4mm | G8: ="="&$BF8&"mm" -> =1mm | H8: ="="&INDEX(PkgInstanceValues,1,MATCH(MID(H$2,1+LEN("$VALUE@"),LEN(H$2)-LEN("$Value@@Equations")),PkgInstanceHdr,0))&"mm" -> =0.0828125mm | I8: ="="&INDEX(PkgInstanceValues,1,MATCH(MID(I$2,1+LEN("$VALUE@"),LEN(I$2)-LEN("$Value@@Equations")),PkgInstanceHdr,0))&"mm" -> =9.5mm | J8: ="="&INDEX(PkgInstanceValues,1,MATCH(MID(J$2,1+LEN("$VALUE@"),LEN(J$2)-LEN("$Value@@Equations")),PkgInstanceHdr,0))&"mm" -> =1.3mm | K8: ="="&INDEX(PkgInstanceValues,1,MATCH(MID(K$2,1+LEN("$VALUE@"),LEN(K$2)-LEN("$Value@@Equations")),PkgInstanceHdr,0))&"mm" -> =1.8mm | L8: ="="&INDEX(PkgInstanceValues,1,MATCH(MID(L$2,1+LEN("$VALUE@"),LEN(L$2)-LEN("$Value@@Equations")),PkgInstanceHdr,0))&"mm" -> =2mm | M8: ="="&INDEX(PkgInstanceValues,1,MATCH(MID(M$2,1+LEN("$VALUE@"),LEN(M$2)-LEN("$Value@@Equations")),PkgInstanceHdr,0))&"mm" -> =0.001mm | N8: ="="&INDEX(PkgInstanceValues,1,MATCH(MID(N$2,1+LEN("$VALUE@"),LEN(N$2)-LEN("$Value@@Equations")),PkgInstanceHdr,0))&"mm" -> =2mm | O8: ="="&$BC8*25.4/1000&"mm" -> =20.32mm | P8: =INDEX(PkgTable,$CA8,MATCH(P$2,PkgTblHdr,0)) -> SOLIDWORKS Materials:PUR | Q8: =IF(ISBLANK($Q7),$A7,$Q7) -> DO-201AD | R8: =$BG8 -> AXIAL-0.8 | S8: =IF($AY8,INDEX(PkgTable,$CA8,MATCH(S$2,PkgTblHdr,0)),"") | T8: =IF($AY8,INDEX(PkgTable,$CA8,MATCH(T$2,PkgTblHdr,0)),"") | U8: =IF($AY8,INDEX(PkgTable,$CA8,MATCH(U$2,PkgTblHdr,0)),"") | V8: =IF($AY8,INDEX(PkgTable,$CA8,MATCH(V$2,PkgTblHdr,0)),"") | W8: =IF($AY8,INDEX(PkgTable,$CA8,MATCH(W$2,PkgTblHdr,0)),"") | X8: =IF($AY8,INDEX(PkgTable,$CA8,MATCH(X$2,PkgTblHdr,0)),"") | Y8: =IF($AY8,INDEX(PkgTable,$CA8,MATCH(Y$2,PkgTblHdr,0)),"") | Z8: =IF($AY8,INDEX(PkgTable,$CA8,MATCH(Z$2,PkgTblHdr,0)),"") | ... AE8: =IF($AY8,INDEX(PkgTable,$CA8,MATCH(AE$2,PkgTblHdr,0)),"") | AG8: ="="&INDEX(PkgInstanceValues,1,MATCH(MID(AG$2,1+LEN("$VALUE@"),LEN(AG$2)-LEN("$Value@@Equations")),PkgInstanceHdr,0))&"mm" -> =0.4mm | AH8: ="="&INDEX(PkgInstanceValues,1,MATCH(MID(AH$2,1+LEN("$VALUE@"),LEN(AH$2)-LEN("$Value@@Equations")),PkgInstanceHdr,0))&"mm" -> =0.4mm | AI8: ="="&INDEX(PkgInstanceValues,1,MATCH(MID(AI$2,1+LEN("$VALUE@"),LEN(AI$2)-LEN("$Value@@Equations")),PkgInstanceHdr,0))&"mm" -> =16.6504410640259mm | AJ8: ="="&INDEX(PkgInstanceValues,1,MATCH(MID(AJ$2,1+LEN("$VALUE@"),LEN(AJ$2)-LEN("$Value@@Equations")),PkgInstanceHdr,0))&"mm" -> =1.56mm | AK8: =IF($AY8,"U","") | AL8: =IF($AY8,"U","") | AM8: =IF($AY8,"U","") | AN8: ="="&INDEX(PkgInstanceValues,1,MATCH(MID(AN$2,1+LEN("$VALUE@"),LEN(AN$2)-LEN("$Value@@Equations")),PkgInstanceHdr,0))&"mm" -> =0.7mm | AO8: ="="&INDEX(PkgInstanceValues,1,MATCH(MID(AO$2,1+LEN("$VALUE@"),LEN(AO$2)-LEN("$Value@@Equations")),PkgInstanceHdr,0))&"mm" -> =0.1mm | AY8: =ISBLANK($Q8) -> FALSE | AZ8: =IF(Parent?,$A8,$Q8) -> DO-201AD | BA8: =INDEX(PkgTable,$CA8,MATCH(BA$2,PkgTblHdr,0)) -> 600 | BB8: =INDEX(PkgTable,$CA8,MATCH(BB$2,PkgTblHdr,0)) -> 100 | BC8: =$BA8+$BB8*($CF8-1)-IF(AND($BB8>0,$CF8>1),MOD($BA8,$BB8),0) -> 800 | BD8: =INDEX(PkgTable,$CA8,MATCH(BD$2,PkgTblHdr,0)) -> 1 | BE8: =INDEX(PkgTable,$CA8,MATCH(BE$2,PkgTblHdr,0)) -> 0 | BF8: =$BD8+$BE8*($CG8-1)-IF(AND($BE8>0,$CG8>1),MOD($BD8,$BE8),0) -> 1 | BG8: ="AXIAL-"&TEXT($BC8/1000,"0.0##")&" " -> AXIAL-0.8 | BH8: =IF(BF8=1,"","["&TEXT(BF8,"00.0##")&"] ") | BI8: =INDEX(PkgTable,$CA8,MATCH(BI$2,PkgTblHdr,0)) -> 5.3 | BJ8: =INDEX(PkgTable,$CA8,MATCH(BJ$2,PkgTblHdr,0)) -> 25.4 | BK8: =INDEX(PkgTable,$CA8,MATCH(BK$2,PkgTblHdr,0)) -> 1 | BL8: =INDEX(PkgTable,$CA8,MATCH(BL$2,PkgTblHdr,0)) -> 0.0828125 | BM8: =INDEX(PkgTable,$CA8,MATCH(BM$2,PkgTblHdr,0)) -> 9.5 | BN8: =INDEX(PkgTable,$CA8,MATCH(BN$2,PkgTblHdr,0)) -> 1.3 | BO8: =INDEX(PkgTable,$CA8,MATCH(BO$2,PkgTblHdr,0)) -> 1.8 | BP8: =INDEX(PkgTable,$CA8,MATCH(BP$2,PkgTblHdr,0)) -> 2 | ... BX8: =INDEX(PkgTable,$CA8,MATCH(BX$2,PkgTblHdr,0)) -> 1.56 | BY8: =BJ8-(Lead_Extend_Length+Config_Stand_Off-2*Lead_Bend_Radius)-(Case_Diameter+Config_Lead_Spacing*25.4/1000+Lead_Bend_Radius*PI()-Case_Length)/2 -> 15.009558 | BZ8: =INDEX(PkgTable,$CA8,MATCH(BZ$2,PkgTblHdr,0)) -> 0.1 | CA8: =MATCH($AZ8,'Package Dimensions'!$B:$B,0)-2 -> 2 | CB8: =COUNTIF($AZ:$AZ,$AZ8) -> 3 | CC8: =IF($AY8,1,CC7+1) -> 3 | CD8: =INDEX(PkgTable,$CA8,MATCH(CD$2,PkgTblHdr,0)) -> 3 | CE8: =INDEX(PkgTable,$CA8,MATCH(CE$2,PkgTblHdr,0)) -> 1 | CF8: =1+MOD((CC8-MOD(CC8-1,CE8)-1)/CE8,CD8) -> 3 | CG8: =MOD($CC8-1,$CE8)+1 -> 1 | CH8: =CD8*CE8 -> 3 | CK8: {=IFERROR(MATCH(FALSE,$A8:$AX8=Sheet1!$A8:$AX8,0),0)} -> 0
A9: 017AA | B9: =TRIM($AZ9&" "&$BG9&$BH9&INDEX(PkgTable,$CA9,MATCH("Package Material",PkgTblHdr,0))) -> 017AA AXIAL-0.5 Plastic | C9: =IF($AY9,"$C","$P") -> $C | D9: =INDEX(PkgTable,$CA9,MATCH(D$2,PkgTblHdr,0)) -> 328965 | E9: ="="&INDEX(PkgInstanceValues,1,MATCH(MID(E$2,1+LEN("$VALUE@"),LEN(E$2)-LEN("$Value@@Equations")),PkgInstanceHdr,0))&"mm" -> =3.68mm | F9: ="="&INDEX(PkgInstanceValues,1,MATCH(MID(F$2,1+LEN("$VALUE@"),LEN(F$2)-LEN("$Value@@Equations")),PkgInstanceHdr,0))&"mm" -> =25.4mm | G9: ="="&$BF9&"mm" -> =1mm | H9: ="="&INDEX(PkgInstanceValues,1,MATCH(MID(H$2,1+LEN("$VALUE@"),LEN(H$2)-LEN("$Value@@Equations")),PkgInstanceHdr,0))&"mm" -> =0.0575mm | I9: ="="&INDEX(PkgInstanceValues,1,MATCH(MID(I$2,1+LEN("$VALUE@"),LEN(I$2)-LEN("$Value@@Equations")),PkgInstanceHdr,0))&"mm" -> =8.89mm | J9: ="="&INDEX(PkgInstanceValues,1,MATCH(MID(J$2,1+LEN("$VALUE@"),LEN(J$2)-LEN("$Value@@Equations")),PkgInstanceHdr,0))&"mm" -> =1.09mm | K9: ="="&INDEX(PkgInstanceValues,1,MATCH(MID(K$2,1+LEN("$VALUE@"),LEN(K$2)-LEN("$Value@@Equations")),PkgInstanceHdr,0))&"mm" -> =1.5mm | L9: ="="&INDEX(PkgInstanceValues,1,MATCH(MID(L$2,1+LEN("$VALUE@"),LEN(L$2)-LEN("$Value@@Equations")),PkgInstanceHdr,0))&"mm" -> =1.2mm | M9: ="="&INDEX(PkgInstanceValues,1,MATCH(MID(M$2,1+LEN("$VALUE@"),LEN(M$2)-LEN("$Value@@Equations")),PkgInstanceHdr,0))&"mm" -> =0.001mm | N9: ="="&INDEX(PkgInstanceValues,1,MATCH(MID(N$2,1+LEN("$VALUE@"),LEN(N$2)-LEN("$Value@@Equations")),PkgInstanceHdr,0))&"mm" -> =2mm | O9: ="="&$BC9*25.4/1000&"mm" -> =12.7mm | P9: =INDEX(PkgTable,$CA9,MATCH(P$2,PkgTblHdr,0)) -> SOLIDWORKS Materials:PUR | R9: =$BG9 -> AXIAL-0.5 | S9: =IF($AY9,INDEX(PkgTable,$CA9,MATCH(S$2,PkgTblHdr,0)),"") -> S | T9: =IF($AY9,INDEX(PkgTable,$CA9,MATCH(T$2,PkgTblHdr,0)),"") -> S | U9: =IF($AY9,INDEX(PkgTable,$CA9,MATCH(U$2,PkgTblHdr,0)),"") -> S | V9: =IF($AY9,INDEX(PkgTable,$CA9,MATCH(V$2,PkgTblHdr,0)),"") -> U | W9: =IF($AY9,INDEX(PkgTable,$CA9,MATCH(W$2,PkgTblHdr,0)),"") -> S | X9: =IF($AY9,INDEX(PkgTable,$CA9,MATCH(X$2,PkgTblHdr,0)),"") -> U | Y9: =IF($AY9,INDEX(PkgTable,$CA9,MATCH(Y$2,PkgTblHdr,0)),"") -> U | Z9: =IF($AY9,INDEX(PkgTable,$CA9,MATCH(Z$2,PkgTblHdr,0)),"") -> U | ... AE9: =IF($AY9,INDEX(PkgTable,$CA9,MATCH(AE$2,PkgTblHdr,0)),"") -> U | AF9: U | AG9: ="="&INDEX(PkgInstanceValues,1,MATCH(MID(AG$2,1+LEN("$VALUE@"),LEN(AG$2)-LEN("$Value@@Equations")),PkgInstanceHdr,0))&"mm" -> =1mm | AH9: ="="&INDEX(PkgInstanceValues,1,MATCH(MID(AH$2,1+LEN("$VALUE@"),LEN(AH$2)-LEN("$Value@@Equations")),PkgInstanceHdr,0))&"mm" -> =0.4mm | AI9: ="="&INDEX(PkgInstanceValues,1,MATCH(MID(AI$2,1+LEN("$VALUE@"),LEN(AI$2)-LEN("$Value@@Equations")),PkgInstanceHdr,0))&"mm" -> =11.5610609652104mm | AJ9: ="="&INDEX(PkgInstanceValues,1,MATCH(MID(AJ$2,1+LEN("$VALUE@"),LEN(AJ$2)-LEN("$Value@@Equations")),PkgInstanceHdr,0))&"mm" -> =1.308mm | AK9: =IF($AY9,"U","") -> U | AL9: =IF($AY9,"U","") -> U | AM9: =IF($AY9,"U","") -> U | AN9: ="="&INDEX(PkgInstanceValues,1,MATCH(MID(AN$2,1+LEN("$VALUE@"),LEN(AN$2)-LEN("$Value@@Equations")),PkgInstanceHdr,0))&"mm" -> =0.6mm | AO9: ="="&INDEX(PkgInstanceValues,1,MATCH(MID(AO$2,1+LEN("$VALUE@"),LEN(AO$2)-LEN("$Value@@Equations")),PkgInstanceHdr,0))&"mm" -> =0.1mm | AY9: =ISBLANK($Q9) -> TRUE | AZ9: =IF(Parent?,$A9,$Q9) -> 017AA | BA9: =INDEX(PkgTable,$CA9,MATCH(BA$2,PkgTblHdr,0)) -> 500 | BB9: =INDEX(PkgTable,$CA9,MATCH(BB$2,PkgTblHdr,0)) -> 100 | BC9: =$BA9+$BB9*($CF9-1)-IF(AND($BB9>0,$CF9>1),MOD($BA9,$BB9),0) -> 500 | BD9: =INDEX(PkgTable,$CA9,MATCH(BD$2,PkgTblHdr,0)) -> 1 | BE9: =INDEX(PkgTable,$CA9,MATCH(BE$2,PkgTblHdr,0)) -> 0 | BF9: =$BD9+$BE9*($CG9-1)-IF(AND($BE9>0,$CG9>1),MOD($BD9,$BE9),0) -> 1 | BG9: ="AXIAL-"&TEXT($BC9/1000,"0.0##")&" " -> AXIAL-0.5 | BH9: =IF(BF9=1,"","["&TEXT(BF9,"00.0##")&"] ") | BI9: =INDEX(PkgTable,$CA9,MATCH(BI$2,PkgTblHdr,0)) -> 3.68 | BJ9: =INDEX(PkgTable,$CA9,MATCH(BJ$2,PkgTblHdr,0)) -> 25.4 | BK9: =INDEX(PkgTable,$CA9,MATCH(BK$2,PkgTblHdr,0)) -> 1 | BL9: =INDEX(PkgTable,$CA9,MATCH(BL$2,PkgTblHdr,0)) -> 0.0575 | BM9: =INDEX(PkgTable,$CA9,MATCH(BM$2,PkgTblHdr,0)) -> 8.89 | BN9: =INDEX(PkgTable,$CA9,MATCH(BN$2,PkgTblHdr,0)) -> 1.09 | BO9: =INDEX(PkgTable,$CA9,MATCH(BO$2,PkgTblHdr,0)) -> 1.5 | BP9: =INDEX(PkgTable,$CA9,MATCH(BP$2,PkgTblHdr,0)) -> 1.2 | ... BX9: =INDEX(PkgTable,$CA9,MATCH(BX$2,PkgTblHdr,0)) -> 1.308 | BY9: =BJ9-(Lead_Extend_Length+Config_Stand_Off-2*Lead_Bend_Radius)-(Case_Diameter+Config_Lead_Spacing*25.4/1000+Lead_Bend_Radius*PI()-Case_Length)/2 -> 19.216398 | BZ9: =INDEX(PkgTable,$CA9,MATCH(BZ$2,PkgTblHdr,0)) -> 0.1 | CA9: =MATCH($AZ9,'Package Dimensions'!$B:$B,0)-2 -> 3 | CB9: =COUNTIF($AZ:$AZ,$AZ9) -> 4 | CC9: =IF($AY9,1,CC8+1) -> 1 | CD9: =INDEX(PkgTable,$CA9,MATCH(CD$2,PkgTblHdr,0)) -> 4 | CE9: =INDEX(PkgTable,$CA9,MATCH(CE$2,PkgTblHdr,0)) -> 1 | CF9: =1+MOD((CC9-MOD(CC9-1,CE9)-1)/CE9,CD9) -> 1 | CG9: =MOD($CC9-1,$CE9)+1 -> 1 | CH9: =CD9*CE9 -> 4 | CK9: {=IFERROR(MATCH(FALSE,$A9:$AX9=Sheet1!$A9:$AX9,0),0)} -> 0
A10: =TRIM($AZ10&" "&$BG10&$BH10) -> 017AA AXIAL-0.6 | B10: =TRIM($AZ10&" "&$BG10&$BH10&INDEX(PkgTable,$CA10,MATCH("Package Material",PkgTblHdr,0))) -> 017AA AXIAL-0.6 Plastic | C10: =IF($AY10,"$C","$P") -> $P | D10: =INDEX(PkgTable,$CA10,MATCH(D$2,PkgTblHdr,0)) -> 328965 | E10: ="="&INDEX(PkgInstanceValues,1,MATCH(MID(E$2,1+LEN("$VALUE@"),LEN(E$2)-LEN("$Value@@Equations")),PkgInstanceHdr,0))&"mm" -> =3.68mm | F10: ="="&INDEX(PkgInstanceValues,1,MATCH(MID(F$2,1+LEN("$VALUE@"),LEN(F$2)-LEN("$Value@@Equations")),PkgInstanceHdr,0))&"mm" -> =25.4mm | G10: ="="&$BF10&"mm" -> =1mm | H10: ="="&INDEX(PkgInstanceValues,1,MATCH(MID(H$2,1+LEN("$VALUE@"),LEN(H$2)-LEN("$Value@@Equations")),PkgInstanceHdr,0))&"mm" -> =0.0575mm | I10: ="="&INDEX(PkgInstanceValues,1,MATCH(MID(I$2,1+LEN("$VALUE@"),LEN(I$2)-LEN("$Value@@Equations")),PkgInstanceHdr,0))&"mm" -> =8.89mm | J10: ="="&INDEX(PkgInstanceValues,1,MATCH(MID(J$2,1+LEN("$VALUE@"),LEN(J$2)-LEN("$Value@@Equations")),PkgInstanceHdr,0))&"mm" -> =1.09mm | K10: ="="&INDEX(PkgInstanceValues,1,MATCH(MID(K$2,1+LEN("$VALUE@"),LEN(K$2)-LEN("$Value@@Equations")),PkgInstanceHdr,0))&"mm" -> =1.5mm | L10: ="="&INDEX(PkgInstanceValues,1,MATCH(MID(L$2,1+LEN("$VALUE@"),LEN(L$2)-LEN("$Value@@Equations")),PkgInstanceHdr,0))&"mm" -> =1.2mm | M10: ="="&INDEX(PkgInstanceValues,1,MATCH(MID(M$2,1+LEN("$VALUE@"),LEN(M$2)-LEN("$Value@@Equations")),PkgInstanceHdr,0))&"mm" -> =0.001mm | N10: ="="&INDEX(PkgInstanceValues,1,MATCH(MID(N$2,1+LEN("$VALUE@"),LEN(N$2)-LEN("$Value@@Equations")),PkgInstanceHdr,0))&"mm" -> =2mm | O10: ="="&$BC10*25.4/1000&"mm" -> =15.24mm | P10: =INDEX(PkgTable,$CA10,MATCH(P$2,PkgTblHdr,0)) -> SOLIDWORKS Materials:PUR | Q10: =IF(ISBLANK($Q9),$A9,$Q9) -> 017AA | R10: =$BG10 -> AXIAL-0.6 | S10: =IF($AY10,INDEX(PkgTable,$CA10,MATCH(S$2,PkgTblHdr,0)),"") | T10: =IF($AY10,INDEX(PkgTable,$CA10,MATCH(T$2,PkgTblHdr,0)),"") | U10: =IF($AY10,INDEX(PkgTable,$CA10,MATCH(U$2,PkgTblHdr,0)),"") | V10: =IF($AY10,INDEX(PkgTable,$CA10,MATCH(V$2,PkgTblHdr,0)),"") | W10: =IF($AY10,INDEX(PkgTable,$CA10,MATCH(W$2,PkgTblHdr,0)),"") | X10: =IF($AY10,INDEX(PkgTable,$CA10,MATCH(X$2,PkgTblHdr,0)),"") | Y10: =IF($AY10,INDEX(PkgTable,$CA10,MATCH(Y$2,PkgTblHdr,0)),"") | Z10: =IF($AY10,INDEX(PkgTable,$CA10,MATCH(Z$2,PkgTblHdr,0)),"") | ... AE10: =IF($AY10,INDEX(PkgTable,$CA10,MATCH(AE$2,PkgTblHdr,0)),"") | AG10: ="="&INDEX(PkgInstanceValues,1,MATCH(MID(AG$2,1+LEN("$VALUE@"),LEN(AG$2)-LEN("$Value@@Equations")),PkgInstanceHdr,0))&"mm" -> =1mm | AH10: ="="&INDEX(PkgInstanceValues,1,MATCH(MID(AH$2,1+LEN("$VALUE@"),LEN(AH$2)-LEN("$Value@@Equations")),PkgInstanceHdr,0))&"mm" -> =0.4mm | AI10: ="="&INDEX(PkgInstanceValues,1,MATCH(MID(AI$2,1+LEN("$VALUE@"),LEN(AI$2)-LEN("$Value@@Equations")),PkgInstanceHdr,0))&"mm" -> =11.5610609652104mm | AJ10: ="="&INDEX(PkgInstanceValues,1,MATCH(MID(AJ$2,1+LEN("$VALUE@"),LEN(AJ$2)-LEN("$Value@@Equations")),PkgInstanceHdr,0))&"mm" -> =1.308mm | AK10: =IF($AY10,"U","") | AL10: =IF($AY10,"U","") | AM10: =IF($AY10,"U","") | AN10: ="="&INDEX(PkgInstanceValues,1,MATCH(MID(AN$2,1+LEN("$VALUE@"),LEN(AN$2)-LEN("$Value@@Equations")),PkgInstanceHdr,0))&"mm" -> =0.6mm | AO10: ="="&INDEX(PkgInstanceValues,1,MATCH(MID(AO$2,1+LEN("$VALUE@"),LEN(AO$2)-LEN("$Value@@Equations")),PkgInstanceHdr,0))&"mm" -> =0.1mm | AY10: =ISBLANK($Q10) -> FALSE | AZ10: =IF(Parent?,$A10,$Q10) -> 017AA | BA10: =INDEX(PkgTable,$CA10,MATCH(BA$2,PkgTblHdr,0)) -> 500 | BB10: =INDEX(PkgTable,$CA10,MATCH(BB$2,PkgTblHdr,0)) -> 100 | BC10: =$BA10+$BB10*($CF10-1)-IF(AND($BB10>0,$CF10>1),MOD($BA10,$BB10),0) -> 600 | BD10: =INDEX(PkgTable,$CA10,MATCH(BD$2,PkgTblHdr,0)) -> 1 | BE10: =INDEX(PkgTable,$CA10,MATCH(BE$2,PkgTblHdr,0)) -> 0 | BF10: =$BD10+$BE10*($CG10-1)-IF(AND($BE10>0,$CG10>1),MOD($BD10,$BE10),0) -> 1 | BG10: ="AXIAL-"&TEXT($BC10/1000,"0.0##")&" " -> AXIAL-0.6 | BH10: =IF(BF10=1,"","["&TEXT(BF10,"00.0##")&"] ") | BI10: =INDEX(PkgTable,$CA10,MATCH(BI$2,PkgTblHdr,0)) -> 3.68 | BJ10: =INDEX(PkgTable,$CA10,MATCH(BJ$2,PkgTblHdr,0)) -> 25.4 | BK10: =INDEX(PkgTable,$CA10,MATCH(BK$2,PkgTblHdr,0)) -> 1 | BL10: =INDEX(PkgTable,$CA10,MATCH(BL$2,PkgTblHdr,0)) -> 0.0575 | BM10: =INDEX(PkgTable,$CA10,MATCH(BM$2,PkgTblHdr,0)) -> 8.89 | BN10: =INDEX(PkgTable,$CA10,MATCH(BN$2,PkgTblHdr,0)) -> 1.09 | BO10: =INDEX(PkgTable,$CA10,MATCH(BO$2,PkgTblHdr,0)) -> 1.5 | BP10: =INDEX(PkgTable,$CA10,MATCH(BP$2,PkgTblHdr,0)) -> 1.2 | ... BX10: =INDEX(PkgTable,$CA10,MATCH(BX$2,PkgTblHdr,0)) -> 1.308 | BY10: =BJ10-(Lead_Extend_Length+Config_Stand_Off-2*Lead_Bend_Radius)-(Case_Diameter+Config_Lead_Spacing*25.4/1000+Lead_Bend_Radius*PI()-Case_Length)/2 -> 17.946398 | BZ10: =INDEX(PkgTable,$CA10,MATCH(BZ$2,PkgTblHdr,0)) -> 0.1 | CA10: =MATCH($AZ10,'Package Dimensions'!$B:$B,0)-2 -> 3 | CB10: =COUNTIF($AZ:$AZ,$AZ10) -> 4 | CC10: =IF($AY10,1,CC9+1) -> 2 | CD10: =INDEX(PkgTable,$CA10,MATCH(CD$2,PkgTblHdr,0)) -> 4 | CE10: =INDEX(PkgTable,$CA10,MATCH(CE$2,PkgTblHdr,0)) -> 1 | CF10: =1+MOD((CC10-MOD(CC10-1,CE10)-1)/CE10,CD10) -> 2 | CG10: =MOD($CC10-1,$CE10)+1 -> 1 | CH10: =CD10*CE10 -> 4 | CK10: {=IFERROR(MATCH(FALSE,$A10:$AX10=Sheet1!$A10:$AX10,0),0)} -> 0
A11: =TRIM($AZ11&" "&$BG11&$BH11) -> 017AA AXIAL-0.7 | B11: =TRIM($AZ11&" "&$BG11&$BH11&INDEX(PkgTable,$CA11,MATCH("Package Material",PkgTblHdr,0))) -> 017AA AXIAL-0.7 Plastic | C11: =IF($AY11,"$C","$P") -> $P | D11: =INDEX(PkgTable,$CA11,MATCH(D$2,PkgTblHdr,0)) -> 328965 | E11: ="="&INDEX(PkgInstanceValues,1,MATCH(MID(E$2,1+LEN("$VALUE@"),LEN(E$2)-LEN("$Value@@Equations")),PkgInstanceHdr,0))&"mm" -> =3.68mm | F11: ="="&INDEX(PkgInstanceValues,1,MATCH(MID(F$2,1+LEN("$VALUE@"),LEN(F$2)-LEN("$Value@@Equations")),PkgInstanceHdr,0))&"mm" -> =25.4mm | G11: ="="&$BF11&"mm" -> =1mm | H11: ="="&INDEX(PkgInstanceValues,1,MATCH(MID(H$2,1+LEN("$VALUE@"),LEN(H$2)-LEN("$Value@@Equations")),PkgInstanceHdr,0))&"mm" -> =0.0575mm | I11: ="="&INDEX(PkgInstanceValues,1,MATCH(MID(I$2,1+LEN("$VALUE@"),LEN(I$2)-LEN("$Value@@Equations")),PkgInstanceHdr,0))&"mm" -> =8.89mm | J11: ="="&INDEX(PkgInstanceValues,1,MATCH(MID(J$2,1+LEN("$VALUE@"),LEN(J$2)-LEN("$Value@@Equations")),PkgInstanceHdr,0))&"mm" -> =1.09mm | K11: ="="&INDEX(PkgInstanceValues,1,MATCH(MID(K$2,1+LEN("$VALUE@"),LEN(K$2)-LEN("$Value@@Equations")),PkgInstanceHdr,0))&"mm" -> =1.5mm | L11: ="="&INDEX(PkgInstanceValues,1,MATCH(MID(L$2,1+LEN("$VALUE@"),LEN(L$2)-LEN("$Value@@Equations")),PkgInstanceHdr,0))&"mm" -> =1.2mm | M11: ="="&INDEX(PkgInstanceValues,1,MATCH(MID(M$2,1+LEN("$VALUE@"),LEN(M$2)-LEN("$Value@@Equations")),PkgInstanceHdr,0))&"mm" -> =0.001mm | N11: ="="&INDEX(PkgInstanceValues,1,MATCH(MID(N$2,1+LEN("$VALUE@"),LEN(N$2)-LEN("$Value@@Equations")),PkgInstanceHdr,0))&"mm" -> =2mm | O11: ="="&$BC11*25.4/1000&"mm" -> =17.78mm | P11: =INDEX(PkgTable,$CA11,MATCH(P$2,PkgTblHdr,0)) -> SOLIDWORKS Materials:PUR | Q11: =IF(ISBLANK($Q10),$A10,$Q10) -> 017AA | R11: =$BG11 -> AXIAL-0.7 | S11: =IF($AY11,INDEX(PkgTable,$CA11,MATCH(S$2,PkgTblHdr,0)),"") | T11: =IF($AY11,INDEX(PkgTable,$CA11,MATCH(T$2,PkgTblHdr,0)),"") | U11: =IF($AY11,INDEX(PkgTable,$CA11,MATCH(U$2,PkgTblHdr,0)),"") | V11: =IF($AY11,INDEX(PkgTable,$CA11,MATCH(V$2,PkgTblHdr,0)),"") | W11: =IF($AY11,INDEX(PkgTable,$CA11,MATCH(W$2,PkgTblHdr,0)),"") | X11: =IF($AY11,INDEX(PkgTable,$CA11,MATCH(X$2,PkgTblHdr,0)),"") | Y11: =IF($AY11,INDEX(PkgTable,$CA11,MATCH(Y$2,PkgTblHdr,0)),"") | Z11: =IF($AY11,INDEX(PkgTable,$CA11,MATCH(Z$2,PkgTblHdr,0)),"") | ... AE11: =IF($AY11,INDEX(PkgTable,$CA11,MATCH(AE$2,PkgTblHdr,0)),"") | AG11: ="="&INDEX(PkgInstanceValues,1,MATCH(MID(AG$2,1+LEN("$VALUE@"),LEN(AG$2)-LEN("$Value@@Equations")),PkgInstanceHdr,0))&"mm" -> =1mm | AH11: ="="&INDEX(PkgInstanceValues,1,MATCH(MID(AH$2,1+LEN("$VALUE@"),LEN(AH$2)-LEN("$Value@@Equations")),PkgInstanceHdr,0))&"mm" -> =0.4mm | AI11: ="="&INDEX(PkgInstanceValues,1,MATCH(MID(AI$2,1+LEN("$VALUE@"),LEN(AI$2)-LEN("$Value@@Equations")),PkgInstanceHdr,0))&"mm" -> =11.5610609652104mm | AJ11: ="="&INDEX(PkgInstanceValues,1,MATCH(MID(AJ$2,1+LEN("$VALUE@"),LEN(AJ$2)-LEN("$Value@@Equations")),PkgInstanceHdr,0))&"mm" -> =1.308mm | AK11: =IF($AY11,"U","") | AL11: =IF($AY11,"U","") | AM11: =IF($AY11,"U","") | AN11: ="="&INDEX(PkgInstanceValues,1,MATCH(MID(AN$2,1+LEN("$VALUE@"),LEN(AN$2)-LEN("$Value@@Equations")),PkgInstanceHdr,0))&"mm" -> =0.6mm | AO11: ="="&INDEX(PkgInstanceValues,1,MATCH(MID(AO$2,1+LEN("$VALUE@"),LEN(AO$2)-LEN("$Value@@Equations")),PkgInstanceHdr,0))&"mm" -> =0.1mm | AY11: =ISBLANK($Q11) -> FALSE | AZ11: =IF(Parent?,$A11,$Q11) -> 017AA | BA11: =INDEX(PkgTable,$CA11,MATCH(BA$2,PkgTblHdr,0)) -> 500 | BB11: =INDEX(PkgTable,$CA11,MATCH(BB$2,PkgTblHdr,0)) -> 100 | BC11: =$BA11+$BB11*($CF11-1)-IF(AND($BB11>0,$CF11>1),MOD($BA11,$BB11),0) -> 700 | BD11: =INDEX(PkgTable,$CA11,MATCH(BD$2,PkgTblHdr,0)) -> 1 | BE11: =INDEX(PkgTable,$CA11,MATCH(BE$2,PkgTblHdr,0)) -> 0 | BF11: =$BD11+$BE11*($CG11-1)-IF(AND($BE11>0,$CG11>1),MOD($BD11,$BE11),0) -> 1 | BG11: ="AXIAL-"&TEXT($BC11/1000,"0.0##")&" " -> AXIAL-0.7 | BH11: =IF(BF11=1,"","["&TEXT(BF11,"00.0##")&"] ") | BI11: =INDEX(PkgTable,$CA11,MATCH(BI$2,PkgTblHdr,0)) -> 3.68 | BJ11: =INDEX(PkgTable,$CA11,MATCH(BJ$2,PkgTblHdr,0)) -> 25.4 | BK11: =INDEX(PkgTable,$CA11,MATCH(BK$2,PkgTblHdr,0)) -> 1 | BL11: =INDEX(PkgTable,$CA11,MATCH(BL$2,PkgTblHdr,0)) -> 0.0575 | BM11: =INDEX(PkgTable,$CA11,MATCH(BM$2,PkgTblHdr,0)) -> 8.89 | BN11: =INDEX(PkgTable,$CA11,MATCH(BN$2,PkgTblHdr,0)) -> 1.09 | BO11: =INDEX(PkgTable,$CA11,MATCH(BO$2,PkgTblHdr,0)) -> 1.5 | BP11: =INDEX(PkgTable,$CA11,MATCH(BP$2,PkgTblHdr,0)) -> 1.2 | ... BX11: =INDEX(PkgTable,$CA11,MATCH(BX$2,PkgTblHdr,0)) -> 1.308 | BY11: =BJ11-(Lead_Extend_Length+Config_Stand_Off-2*Lead_Bend_Radius)-(Case_Diameter+Config_Lead_Spacing*25.4/1000+Lead_Bend_Radius*PI()-Case_Length)/2 -> 16.676398 | BZ11: =INDEX(PkgTable,$CA11,MATCH(BZ$2,PkgTblHdr,0)) -> 0.1 | CA11: =MATCH($AZ11,'Package Dimensions'!$B:$B,0)-2 -> 3 | CB11: =COUNTIF($AZ:$AZ,$AZ11) -> 4 | CC11: =IF($AY11,1,CC10+1) -> 3 | CD11: =INDEX(PkgTable,$CA11,MATCH(CD$2,PkgTblHdr,0)) -> 4 | CE11: =INDEX(PkgTable,$CA11,MATCH(CE$2,PkgTblHdr,0)) -> 1 | CF11: =1+MOD((CC11-MOD(CC11-1,CE11)-1)/CE11,CD11) -> 3 | CG11: =MOD($CC11-1,$CE11)+1 -> 1 | CH11: =CD11*CE11 -> 4 | CK11: {=IFERROR(MATCH(FALSE,$A11:$AX11=Sheet1!$A11:$AX11,0),0)} -> 0
A12: =TRIM($AZ12&" "&$BG12&$BH12) -> 017AA AXIAL-0.8 | B12: =TRIM($AZ12&" "&$BG12&$BH12&INDEX(PkgTable,$CA12,MATCH("Package Material",PkgTblHdr,0))) -> 017AA AXIAL-0.8 Plastic | C12: =IF($AY12,"$C","$P") -> $P | D12: =INDEX(PkgTable,$CA12,MATCH(D$2,PkgTblHdr,0)) -> 328965 | E12: ="="&INDEX(PkgInstanceValues,1,MATCH(MID(E$2,1+LEN("$VALUE@"),LEN(E$2)-LEN("$Value@@Equations")),PkgInstanceHdr,0))&"mm" -> =3.68mm | F12: ="="&INDEX(PkgInstanceValues,1,MATCH(MID(F$2,1+LEN("$VALUE@"),LEN(F$2)-LEN("$Value@@Equations")),PkgInstanceHdr,0))&"mm" -> =25.4mm | G12: ="="&$BF12&"mm" -> =1mm | H12: ="="&INDEX(PkgInstanceValues,1,MATCH(MID(H$2,1+LEN("$VALUE@"),LEN(H$2)-LEN("$Value@@Equations")),PkgInstanceHdr,0))&"mm" -> =0.0575mm | I12: ="="&INDEX(PkgInstanceValues,1,MATCH(MID(I$2,1+LEN("$VALUE@"),LEN(I$2)-LEN("$Value@@Equations")),PkgInstanceHdr,0))&"mm" -> =8.89mm | J12: ="="&INDEX(PkgInstanceValues,1,MATCH(MID(J$2,1+LEN("$VALUE@"),LEN(J$2)-LEN("$Value@@Equations")),PkgInstanceHdr,0))&"mm" -> =1.09mm | K12: ="="&INDEX(PkgInstanceValues,1,MATCH(MID(K$2,1+LEN("$VALUE@"),LEN(K$2)-LEN("$Value@@Equations")),PkgInstanceHdr,0))&"mm" -> =1.5mm | L12: ="="&INDEX(PkgInstanceValues,1,MATCH(MID(L$2,1+LEN("$VALUE@"),LEN(L$2)-LEN("$Value@@Equations")),PkgInstanceHdr,0))&"mm" -> =1.2mm | M12: ="="&INDEX(PkgInstanceValues,1,MATCH(MID(M$2,1+LEN("$VALUE@"),LEN(M$2)-LEN("$Value@@Equations")),PkgInstanceHdr,0))&"mm" -> =0.001mm | N12: ="="&INDEX(PkgInstanceValues,1,MATCH(MID(N$2,1+LEN("$VALUE@"),LEN(N$2)-LEN("$Value@@Equations")),PkgInstanceHdr,0))&"mm" -> =2mm | O12: ="="&$BC12*25.4/1000&"mm" -> =20.32mm | P12: =INDEX(PkgTable,$CA12,MATCH(P$2,PkgTblHdr,0)) -> SOLIDWORKS Materials:PUR | Q12: =IF(ISBLANK($Q11),$A11,$Q11) -> 017AA | R12: =$BG12 -> AXIAL-0.8 | S12: =IF($AY12,INDEX(PkgTable,$CA12,MATCH(S$2,PkgTblHdr,0)),"") | T12: =IF($AY12,INDEX(PkgTable,$CA12,MATCH(T$2,PkgTblHdr,0)),"") | U12: =IF($AY12,INDEX(PkgTable,$CA12,MATCH(U$2,PkgTblHdr,0)),"") | V12: =IF($AY12,INDEX(PkgTable,$CA12,MATCH(V$2,PkgTblHdr,0)),"") | W12: =IF($AY12,INDEX(PkgTable,$CA12,MATCH(W$2,PkgTblHdr,0)),"") | X12: =IF($AY12,INDEX(PkgTable,$CA12,MATCH(X$2,PkgTblHdr,0)),"") | Y12: =IF($AY12,INDEX(PkgTable,$CA12,MATCH(Y$2,PkgTblHdr,0)),"") | Z12: =IF($AY12,INDEX(PkgTable,$CA12,MATCH(Z$2,PkgTblHdr,0)),"") | ... AE12: =IF($AY12,INDEX(PkgTable,$CA12,MATCH(AE$2,PkgTblHdr,0)),"") | AG12: ="="&INDEX(PkgInstanceValues,1,MATCH(MID(AG$2,1+LEN("$VALUE@"),LEN(AG$2)-LEN("$Value@@Equations")),PkgInstanceHdr,0))&"mm" -> =1mm | AH12: ="="&INDEX(PkgInstanceValues,1,MATCH(MID(AH$2,1+LEN("$VALUE@"),LEN(AH$2)-LEN("$Value@@Equations")),PkgInstanceHdr,0))&"mm" -> =0.4mm | AI12: ="="&INDEX(PkgInstanceValues,1,MATCH(MID(AI$2,1+LEN("$VALUE@"),LEN(AI$2)-LEN("$Value@@Equations")),PkgInstanceHdr,0))&"mm" -> =11.5610609652104mm | AJ12: ="="&INDEX(PkgInstanceValues,1,MATCH(MID(AJ$2,1+LEN("$VALUE@"),LEN(AJ$2)-LEN("$Value@@Equations")),PkgInstanceHdr,0))&"mm" -> =1.308mm | AK12: =IF($AY12,"U","") | AL12: =IF($AY12,"U","") | AM12: =IF($AY12,"U","") | AN12: ="="&INDEX(PkgInstanceValues,1,MATCH(MID(AN$2,1+LEN("$VALUE@"),LEN(AN$2)-LEN("$Value@@Equations")),PkgInstanceHdr,0))&"mm" -> =0.6mm | AO12: ="="&INDEX(PkgInstanceValues,1,MATCH(MID(AO$2,1+LEN("$VALUE@"),LEN(AO$2)-LEN("$Value@@Equations")),PkgInstanceHdr,0))&"mm" -> =0.1mm | AY12: =ISBLANK($Q12) -> FALSE | AZ12: =IF(Parent?,$A12,$Q12) -> 017AA | BA12: =INDEX(PkgTable,$CA12,MATCH(BA$2,PkgTblHdr,0)) -> 500 | BB12: =INDEX(PkgTable,$CA12,MATCH(BB$2,PkgTblHdr,0)) -> 100 | BC12: =$BA12+$BB12*($CF12-1)-IF(AND($BB12>0,$CF12>1),MOD($BA12,$BB12),0) -> 800 | BD12: =INDEX(PkgTable,$CA12,MATCH(BD$2,PkgTblHdr,0)) -> 1 | BE12: =INDEX(PkgTable,$CA12,MATCH(BE$2,PkgTblHdr,0)) -> 0 | BF12: =$BD12+$BE12*($CG12-1)-IF(AND($BE12>0,$CG12>1),MOD($BD12,$BE12),0) -> 1 | BG12: ="AXIAL-"&TEXT($BC12/1000,"0.0##")&" " -> AXIAL-0.8 | BH12: =IF(BF12=1,"","["&TEXT(BF12,"00.0##")&"] ") | BI12: =INDEX(PkgTable,$CA12,MATCH(BI$2,PkgTblHdr,0)) -> 3.68 | BJ12: =INDEX(PkgTable,$CA12,MATCH(BJ$2,PkgTblHdr,0)) -> 25.4 | BK12: =INDEX(PkgTable,$CA12,MATCH(BK$2,PkgTblHdr,0)) -> 1 | BL12: =INDEX(PkgTable,$CA12,MATCH(BL$2,PkgTblHdr,0)) -> 0.0575 | BM12: =INDEX(PkgTable,$CA12,MATCH(BM$2,PkgTblHdr,0)) -> 8.89 | BN12: =INDEX(PkgTable,$CA12,MATCH(BN$2,PkgTblHdr,0)) -> 1.09 | BO12: =INDEX(PkgTable,$CA12,MATCH(BO$2,PkgTblHdr,0)) -> 1.5 | BP12: =INDEX(PkgTable,$CA12,MATCH(BP$2,PkgTblHdr,0)) -> 1.2 | ... BX12: =INDEX(PkgTable,$CA12,MATCH(BX$2,PkgTblHdr,0)) -> 1.308 | BY12: =BJ12-(Lead_Extend_Length+Config_Stand_Off-2*Lead_Bend_Radius)-(Case_Diameter+Config_Lead_Spacing*25.4/1000+Lead_Bend_Radius*PI()-Case_Length)/2 -> 15.406398 | BZ12: =INDEX(PkgTable,$CA12,MATCH(BZ$2,PkgTblHdr,0)) -> 0.1 | CA12: =MATCH($AZ12,'Package Dimensions'!$B:$B,0)-2 -> 3 | CB12: =COUNTIF($AZ:$AZ,$AZ12) -> 4 | CC12: =IF($AY12,1,CC11+1) -> 4 | CD12: =INDEX(PkgTable,$CA12,MATCH(CD$2,PkgTblHdr,0)) -> 4 | CE12: =INDEX(PkgTable,$CA12,MATCH(CE$2,PkgTblHdr,0)) -> 1 | CF12: =1+MOD((CC12-MOD(CC12-1,CE12)-1)/CE12,CD12) -> 4 | CG12: =MOD($CC12-1,$CE12)+1 -> 1 | CH12: =CD12*CE12 -> 4 | CK12: {=IFERROR(MATCH(FALSE,$A12:$AX12=Sheet1!$A12:$AX12,0),0)} -> 0
A13: DO-204AL | B13: =TRIM($AZ13&" "&$BG13&$BH13&INDEX(PkgTable,$CA13,MATCH("Package Material",PkgTblHdr,0))) -> DO-204AL AXIAL-0.3 Plastic | C13: =IF($AY13,"$C","$P") -> $C | D13: =INDEX(PkgTable,$CA13,MATCH(D$2,PkgTblHdr,0)) -> 328965 | E13: ="="&INDEX(PkgInstanceValues,1,MATCH(MID(E$2,1+LEN("$VALUE@"),LEN(E$2)-LEN("$Value@@Equations")),PkgInstanceHdr,0))&"mm" -> =2.7mm | F13: ="="&INDEX(PkgInstanceValues,1,MATCH(MID(F$2,1+LEN("$VALUE@"),LEN(F$2)-LEN("$Value@@Equations")),PkgInstanceHdr,0))&"mm" -> =25.4mm | G13: ="="&$BF13&"mm" -> =1mm | H13: ="="&INDEX(PkgInstanceValues,1,MATCH(MID(H$2,1+LEN("$VALUE@"),LEN(H$2)-LEN("$Value@@Equations")),PkgInstanceHdr,0))&"mm" -> =0.0421875mm | I13: ="="&INDEX(PkgInstanceValues,1,MATCH(MID(I$2,1+LEN("$VALUE@"),LEN(I$2)-LEN("$Value@@Equations")),PkgInstanceHdr,0))&"mm" -> =5.2mm | J13: ="="&INDEX(PkgInstanceValues,1,MATCH(MID(J$2,1+LEN("$VALUE@"),LEN(J$2)-LEN("$Value@@Equations")),PkgInstanceHdr,0))&"mm" -> =0.86mm | K13: ="="&INDEX(PkgInstanceValues,1,MATCH(MID(K$2,1+LEN("$VALUE@"),LEN(K$2)-LEN("$Value@@Equations")),PkgInstanceHdr,0))&"mm" -> =0.96mm | L13: ="="&INDEX(PkgInstanceValues,1,MATCH(MID(L$2,1+LEN("$VALUE@"),LEN(L$2)-LEN("$Value@@Equations")),PkgInstanceHdr,0))&"mm" -> =1.3mm | M13: ="="&INDEX(PkgInstanceValues,1,MATCH(MID(M$2,1+LEN("$VALUE@"),LEN(M$2)-LEN("$Value@@Equations")),PkgInstanceHdr,0))&"mm" -> =0.001mm | N13: ="="&INDEX(PkgInstanceValues,1,MATCH(MID(N$2,1+LEN("$VALUE@"),LEN(N$2)-LEN("$Value@@Equations")),PkgInstanceHdr,0))&"mm" -> =2mm | O13: ="="&$BC13*25.4/1000&"mm" -> =7.62mm | P13: =INDEX(PkgTable,$CA13,MATCH(P$2,PkgTblHdr,0)) -> SOLIDWORKS Materials:PUR | R13: =$BG13 -> AXIAL-0.3 | S13: =IF($AY13,INDEX(PkgTable,$CA13,MATCH(S$2,PkgTblHdr,0)),"") -> S | T13: =IF($AY13,INDEX(PkgTable,$CA13,MATCH(T$2,PkgTblHdr,0)),"") -> S | U13: =IF($AY13,INDEX(PkgTable,$CA13,MATCH(U$2,PkgTblHdr,0)),"") -> S | V13: =IF($AY13,INDEX(PkgTable,$CA13,MATCH(V$2,PkgTblHdr,0)),"") -> U | W13: =IF($AY13,INDEX(PkgTable,$CA13,MATCH(W$2,PkgTblHdr,0)),"") -> S | X13: =IF($AY13,INDEX(PkgTable,$CA13,MATCH(X$2,PkgTblHdr,0)),"") -> U | Y13: =IF($AY13,INDEX(PkgTable,$CA13,MATCH(Y$2,PkgTblHdr,0)),"") -> S | Z13: =IF($AY13,INDEX(PkgTable,$CA13,MATCH(Z$2,PkgTblHdr,0)),"") -> U | ... AE13: =IF($AY13,INDEX(PkgTable,$CA13,MATCH(AE$2,PkgTblHdr,0)),"") -> U | AF13: U | AG13: ="="&INDEX(PkgInstanceValues,1,MATCH(MID(AG$2,1+LEN("$VALUE@"),LEN(AG$2)-LEN("$Value@@Equations")),PkgInstanceHdr,0))&"mm" -> =0.001mm | AH13: ="="&INDEX(PkgInstanceValues,1,MATCH(MID(AH$2,1+LEN("$VALUE@"),LEN(AH$2)-LEN("$Value@@Equations")),PkgInstanceHdr,0))&"mm" -> =0.001mm | AI13: ="="&INDEX(PkgInstanceValues,1,MATCH(MID(AI$2,1+LEN("$VALUE@"),LEN(AI$2)-LEN("$Value@@Equations")),PkgInstanceHdr,0))&"mm" -> =8.48230016469244mm | AJ13: ="="&INDEX(PkgInstanceValues,1,MATCH(MID(AJ$2,1+LEN("$VALUE@"),LEN(AJ$2)-LEN("$Value@@Equations")),PkgInstanceHdr,0))&"mm" -> =1.032mm | AK13: =IF($AY13,"U","") -> U | AL13: =IF($AY13,"U","") -> U | AM13: =IF($AY13,"U","") -> U | AN13: ="="&INDEX(PkgInstanceValues,1,MATCH(MID(AN$2,1+LEN("$VALUE@"),LEN(AN$2)-LEN("$Value@@Equations")),PkgInstanceHdr,0))&"mm" -> =0.16mm | AO13: ="="&INDEX(PkgInstanceValues,1,MATCH(MID(AO$2,1+LEN("$VALUE@"),LEN(AO$2)-LEN("$Value@@Equations")),PkgInstanceHdr,0))&"mm" -> =0.1mm | AY13: =ISBLANK($Q13) -> TRUE | AZ13: =IF(Parent?,$A13,$Q13) -> DO-204AL | BA13: =INDEX(PkgTable,$CA13,MATCH(BA$2,PkgTblHdr,0)) -> 300 | BB13: =INDEX(PkgTable,$CA13,MATCH(BB$2,PkgTblHdr,0)) -> 100 | BC13: =$BA13+$BB13*($CF13-1)-IF(AND($BB13>0,$CF13>1),MOD($BA13,$BB13),0) -> 300 | BD13: =INDEX(PkgTable,$CA13,MATCH(BD$2,PkgTblHdr,0)) -> 1 | BE13: =INDEX(PkgTable,$CA13,MATCH(BE$2,PkgTblHdr,0)) -> 0 | BF13: =$BD13+$BE13*($CG13-1)-IF(AND($BE13>0,$CG13>1),MOD($BD13,$BE13),0) -> 1 | BG13: ="AXIAL-"&TEXT($BC13/1000,"0.0##")&" " -> AXIAL-0.3 | BH13: =IF(BF13=1,"","["&TEXT(BF13,"00.0##")&"] ") | BI13: =INDEX(PkgTable,$CA13,MATCH(BI$2,PkgTblHdr,0)) -> 2.7 | BJ13: =INDEX(PkgTable,$CA13,MATCH(BJ$2,PkgTblHdr,0)) -> 25.4 | BK13: =INDEX(PkgTable,$CA13,MATCH(BK$2,PkgTblHdr,0)) -> 1 | BL13: =INDEX(PkgTable,$CA13,MATCH(BL$2,PkgTblHdr,0)) -> 0.0421875 | BM13: =INDEX(PkgTable,$CA13,MATCH(BM$2,PkgTblHdr,0)) -> 5.2 | BN13: =INDEX(PkgTable,$CA13,MATCH(BN$2,PkgTblHdr,0)) -> 0.86 | BO13: =INDEX(PkgTable,$CA13,MATCH(BO$2,PkgTblHdr,0)) -> 0.96 | BP13: =INDEX(PkgTable,$CA13,MATCH(BP$2,PkgTblHdr,0)) -> 1.3 | ... BX13: =INDEX(PkgTable,$CA13,MATCH(BX$2,PkgTblHdr,0)) -> 1.032 | BY13: =BJ13-(Lead_Extend_Length+Config_Stand_Off-2*Lead_Bend_Radius)-(Case_Diameter+Config_Lead_Spacing*25.4/1000+Lead_Bend_Radius*PI()-Case_Length)/2 -> 20.282938 | BZ13: =INDEX(PkgTable,$CA13,MATCH(BZ$2,PkgTblHdr,0)) -> 0.1 | CA13: =MATCH($AZ13,'Package Dimensions'!$B:$B,0)-2 -> 4 | CB13: =COUNTIF($AZ:$AZ,$AZ13) -> 4 | CC13: =IF($AY13,1,CC12+1) -> 1 | CD13: =INDEX(PkgTable,$CA13,MATCH(CD$2,PkgTblHdr,0)) -> 4 | CE13: =INDEX(PkgTable,$CA13,MATCH(CE$2,PkgTblHdr,0)) -> 1 | CF13: =1+MOD((CC13-MOD(CC13-1,CE13)-1)/CE13,CD13) -> 1 | CG13: =MOD($CC13-1,$CE13)+1 -> 1 | CH13: =CD13*CE13 -> 4 | CK13: {=IFERROR(MATCH(FALSE,$A13:$AX13=Sheet1!$A13:$AX13,0),0)} -> 0
A14: =TRIM($AZ14&" "&$BG14&$BH14) -> DO-204AL AXIAL-0.4 | B14: =TRIM($AZ14&" "&$BG14&$BH14&INDEX(PkgTable,$CA14,MATCH("Package Material",PkgTblHdr,0))) -> DO-204AL AXIAL-0.4 Plastic | C14: =IF($AY14,"$C","$P") -> $P | D14: =INDEX(PkgTable,$CA14,MATCH(D$2,PkgTblHdr,0)) -> 328965 | E14: ="="&INDEX(PkgInstanceValues,1,MATCH(MID(E$2,1+LEN("$VALUE@"),LEN(E$2)-LEN("$Value@@Equations")),PkgInstanceHdr,0))&"mm" -> =2.7mm | F14: ="="&INDEX(PkgInstanceValues,1,MATCH(MID(F$2,1+LEN("$VALUE@"),LEN(F$2)-LEN("$Value@@Equations")),PkgInstanceHdr,0))&"mm" -> =25.4mm | G14: ="="&$BF14&"mm" -> =1mm | H14: ="="&INDEX(PkgInstanceValues,1,MATCH(MID(H$2,1+LEN("$VALUE@"),LEN(H$2)-LEN("$Value@@Equations")),PkgInstanceHdr,0))&"mm" -> =0.0421875mm | I14: ="="&INDEX(PkgInstanceValues,1,MATCH(MID(I$2,1+LEN("$VALUE@"),LEN(I$2)-LEN("$Value@@Equations")),PkgInstanceHdr,0))&"mm" -> =5.2mm | J14: ="="&INDEX(PkgInstanceValues,1,MATCH(MID(J$2,1+LEN("$VALUE@"),LEN(J$2)-LEN("$Value@@Equations")),PkgInstanceHdr,0))&"mm" -> =0.86mm | K14: ="="&INDEX(PkgInstanceValues,1,MATCH(MID(K$2,1+LEN("$VALUE@"),LEN(K$2)-LEN("$Value@@Equations")),PkgInstanceHdr,0))&"mm" -> =0.96mm | L14: ="="&INDEX(PkgInstanceValues,1,MATCH(MID(L$2,1+LEN("$VALUE@"),LEN(L$2)-LEN("$Value@@Equations")),PkgInstanceHdr,0))&"mm" -> =1.3mm | M14: ="="&INDEX(PkgInstanceValues,1,MATCH(MID(M$2,1+LEN("$VALUE@"),LEN(M$2)-LEN("$Value@@Equations")),PkgInstanceHdr,0))&"mm" -> =0.001mm | N14: ="="&INDEX(PkgInstanceValues,1,MATCH(MID(N$2,1+LEN("$VALUE@"),LEN(N$2)-LEN("$Value@@Equations")),PkgInstanceHdr,0))&"mm" -> =2mm | O14: ="="&$BC14*25.4/1000&"mm" -> =10.16mm | P14: =INDEX(PkgTable,$CA14,MATCH(P$2,PkgTblHdr,0)) -> SOLIDWORKS Materials:PUR | Q14: =IF(ISBLANK($Q13),$A13,$Q13) -> DO-204AL | R14: =$BG14 -> AXIAL-0.4 | S14: =IF($AY14,INDEX(PkgTable,$CA14,MATCH(S$2,PkgTblHdr,0)),"") | T14: =IF($AY14,INDEX(PkgTable,$CA14,MATCH(T$2,PkgTblHdr,0)),"") | U14: =IF($AY14,INDEX(PkgTable,$CA14,MATCH(U$2,PkgTblHdr,0)),"") | V14: =IF($AY14,INDEX(PkgTable,$CA14,MATCH(V$2,PkgTblHdr,0)),"") | W14: =IF($AY14,INDEX(PkgTable,$CA14,MATCH(W$2,PkgTblHdr,0)),"") | X14: =IF($AY14,INDEX(PkgTable,$CA14,MATCH(X$2,PkgTblHdr,0)),"") | Y14: =IF($AY14,INDEX(PkgTable,$CA14,MATCH(Y$2,PkgTblHdr,0)),"") | Z14: =IF($AY14,INDEX(PkgTable,$CA14,MATCH(Z$2,PkgTblHdr,0)),"") | ... AE14: =IF($AY14,INDEX(PkgTable,$CA14,MATCH(AE$2,PkgTblHdr,0)),"") | AG14: ="="&INDEX(PkgInstanceValues,1,MATCH(MID(AG$2,1+LEN("$VALUE@"),LEN(AG$2)-LEN("$Value@@Equations")),PkgInstanceHdr,0))&"mm" -> =0.001mm | AH14: ="="&INDEX(PkgInstanceValues,1,MATCH(MID(AH$2,1+LEN("$VALUE@"),LEN(AH$2)-LEN("$Value@@Equations")),PkgInstanceHdr,0))&"mm" -> =0.001mm | AI14: ="="&INDEX(PkgInstanceValues,1,MATCH(MID(AI$2,1+LEN("$VALUE@"),LEN(AI$2)-LEN("$Value@@Equations")),PkgInstanceHdr,0))&"mm" -> =8.48230016469244mm | AJ14: ="="&INDEX(PkgInstanceValues,1,MATCH(MID(AJ$2,1+LEN("$VALUE@"),LEN(AJ$2)-LEN("$Value@@Equations")),PkgInstanceHdr,0))&"mm" -> =1.032mm | AK14: =IF($AY14,"U","") | AL14: =IF($AY14,"U","") | AM14: =IF($AY14,"U","") | AN14: ="="&INDEX(PkgInstanceValues,1,MATCH(MID(AN$2,1+LEN("$VALUE@"),LEN(AN$2)-LEN("$Value@@Equations")),PkgInstanceHdr,0))&"mm" -> =0.16mm | AO14: ="="&INDEX(PkgInstanceValues,1,MATCH(MID(AO$2,1+LEN("$VALUE@"),LEN(AO$2)-LEN("$Value@@Equations")),PkgInstanceHdr,0))&"mm" -> =0.1mm | AY14: =ISBLANK($Q14) -> FALSE | AZ14: =IF(Parent?,$A14,$Q14) -> DO-204AL | BA14: =INDEX(PkgTable,$CA14,MATCH(BA$2,PkgTblHdr,0)) -> 300 | BB14: =INDEX(PkgTable,$CA14,MATCH(BB$2,PkgTblHdr,0)) -> 100 | BC14: =$BA14+$BB14*($CF14-1)-IF(AND($BB14>0,$CF14>1),MOD($BA14,$BB14),0) -> 400 | BD14: =INDEX(PkgTable,$CA14,MATCH(BD$2,PkgTblHdr,0)) -> 1 | BE14: =INDEX(PkgTable,$CA14,MATCH(BE$2,PkgTblHdr,0)) -> 0 | BF14: =$BD14+$BE14*($CG14-1)-IF(AND($BE14>0,$CG14>1),MOD($BD14,$BE14),0) -> 1 | BG14: ="AXIAL-"&TEXT($BC14/1000,"0.0##")&" " -> AXIAL-0.4 | BH14: =IF(BF14=1,"","["&TEXT(BF14,"00.0##")&"] ") | BI14: =INDEX(PkgTable,$CA14,MATCH(BI$2,PkgTblHdr,0)) -> 2.7 | BJ14: =INDEX(PkgTable,$CA14,MATCH(BJ$2,PkgTblHdr,0)) -> 25.4 | BK14: =INDEX(PkgTable,$CA14,MATCH(BK$2,PkgTblHdr,0)) -> 1 | BL14: =INDEX(PkgTable,$CA14,MATCH(BL$2,PkgTblHdr,0)) -> 0.0421875 | BM14: =INDEX(PkgTable,$CA14,MATCH(BM$2,PkgTblHdr,0)) -> 5.2 | BN14: =INDEX(PkgTable,$CA14,MATCH(BN$2,PkgTblHdr,0)) -> 0.86 | BO14: =INDEX(PkgTable,$CA14,MATCH(BO$2,PkgTblHdr,0)) -> 0.96 | BP14: =INDEX(PkgTable,$CA14,MATCH(BP$2,PkgTblHdr,0)) -> 1.3 | ... BX14: =INDEX(PkgTable,$CA14,MATCH(BX$2,PkgTblHdr,0)) -> 1.032 | BY14: =BJ14-(Lead_Extend_Length+Config_Stand_Off-2*Lead_Bend_Radius)-(Case_Diameter+Config_Lead_Spacing*25.4/1000+Lead_Bend_Radius*PI()-Case_Length)/2 -> 19.012938 | BZ14: =INDEX(PkgTable,$CA14,MATCH(BZ$2,PkgTblHdr,0)) -> 0.1 | CA14: =MATCH($AZ14,'Package Dimensions'!$B:$B,0)-2 -> 4 | CB14: =COUNTIF($AZ:$AZ,$AZ14) -> 4 | CC14: =IF($AY14,1,CC13+1) -> 2 | CD14: =INDEX(PkgTable,$CA14,MATCH(CD$2,PkgTblHdr,0)) -> 4 | CE14: =INDEX(PkgTable,$CA14,MATCH(CE$2,PkgTblHdr,0)) -> 1 | CF14: =1+MOD((CC14-MOD(CC14-1,CE14)-1)/CE14,CD14) -> 2 | CG14: =MOD($CC14-1,$CE14)+1 -> 1 | CH14: =CD14*CE14 -> 4 | CK14: {=IFERROR(MATCH(FALSE,$A14:$AX14=Sheet1!$A14:$AX14,0),0)} -> 0
A15: =TRIM($AZ15&" "&$BG15&$BH15) -> DO-204AL AXIAL-0.5 | B15: =TRIM($AZ15&" "&$BG15&$BH15&INDEX(PkgTable,$CA15,MATCH("Package Material",PkgTblHdr,0))) -> DO-204AL AXIAL-0.5 Plastic | C15: =IF($AY15,"$C","$P") -> $P | D15: =INDEX(PkgTable,$CA15,MATCH(D$2,PkgTblHdr,0)) -> 328965 | E15: ="="&INDEX(PkgInstanceValues,1,MATCH(MID(E$2,1+LEN("$VALUE@"),LEN(E$2)-LEN("$Value@@Equations")),PkgInstanceHdr,0))&"mm" -> =2.7mm | F15: ="="&INDEX(PkgInstanceValues,1,MATCH(MID(F$2,1+LEN("$VALUE@"),LEN(F$2)-LEN("$Value@@Equations")),PkgInstanceHdr,0))&"mm" -> =25.4mm | G15: ="="&$BF15&"mm" -> =1mm | H15: ="="&INDEX(PkgInstanceValues,1,MATCH(MID(H$2,1+LEN("$VALUE@"),LEN(H$2)-LEN("$Value@@Equations")),PkgInstanceHdr,0))&"mm" -> =0.0421875mm | I15: ="="&INDEX(PkgInstanceValues,1,MATCH(MID(I$2,1+LEN("$VALUE@"),LEN(I$2)-LEN("$Value@@Equations")),PkgInstanceHdr,0))&"mm" -> =5.2mm | J15: ="="&INDEX(PkgInstanceValues,1,MATCH(MID(J$2,1+LEN("$VALUE@"),LEN(J$2)-LEN("$Value@@Equations")),PkgInstanceHdr,0))&"mm" -> =0.86mm | K15: ="="&INDEX(PkgInstanceValues,1,MATCH(MID(K$2,1+LEN("$VALUE@"),LEN(K$2)-LEN("$Value@@Equations")),PkgInstanceHdr,0))&"mm" -> =0.96mm | L15: ="="&INDEX(PkgInstanceValues,1,MATCH(MID(L$2,1+LEN("$VALUE@"),LEN(L$2)-LEN("$Value@@Equations")),PkgInstanceHdr,0))&"mm" -> =1.3mm | M15: ="="&INDEX(PkgInstanceValues,1,MATCH(MID(M$2,1+LEN("$VALUE@"),LEN(M$2)-LEN("$Value@@Equations")),PkgInstanceHdr,0))&"mm" -> =0.001mm | N15: ="="&INDEX(PkgInstanceValues,1,MATCH(MID(N$2,1+LEN("$VALUE@"),LEN(N$2)-LEN("$Value@@Equations")),PkgInstanceHdr,0))&"mm" -> =2mm | O15: ="="&$BC15*25.4/1000&"mm" -> =12.7mm | P15: =INDEX(PkgTable,$CA15,MATCH(P$2,PkgTblHdr,0)) -> SOLIDWORKS Materials:PUR | Q15: =IF(ISBLANK($Q14),$A14,$Q14) -> DO-204AL | R15: =$BG15 -> AXIAL-0.5 | S15: =IF($AY15,INDEX(PkgTable,$CA15,MATCH(S$2,PkgTblHdr,0)),"") | T15: =IF($AY15,INDEX(PkgTable,$CA15,MATCH(T$2,PkgTblHdr,0)),"") | U15: =IF($AY15,INDEX(PkgTable,$CA15,MATCH(U$2,PkgTblHdr,0)),"") | V15: =IF($AY15,INDEX(PkgTable,$CA15,MATCH(V$2,PkgTblHdr,0)),"") | W15: =IF($AY15,INDEX(PkgTable,$CA15,MATCH(W$2,PkgTblHdr,0)),"") | X15: =IF($AY15,INDEX(PkgTable,$CA15,MATCH(X$2,PkgTblHdr,0)),"") | Y15: =IF($AY15,INDEX(PkgTable,$CA15,MATCH(Y$2,PkgTblHdr,0)),"") | Z15: =IF($AY15,INDEX(PkgTable,$CA15,MATCH(Z$2,PkgTblHdr,0)),"") | ... AE15: =IF($AY15,INDEX(PkgTable,$CA15,MATCH(AE$2,PkgTblHdr,0)),"") | AG15: ="="&INDEX(PkgInstanceValues,1,MATCH(MID(AG$2,1+LEN("$VALUE@"),LEN(AG$2)-LEN("$Value@@Equations")),PkgInstanceHdr,0))&"mm" -> =0.001mm | AH15: ="="&INDEX(PkgInstanceValues,1,MATCH(MID(AH$2,1+LEN("$VALUE@"),LEN(AH$2)-LEN("$Value@@Equations")),PkgInstanceHdr,0))&"mm" -> =0.001mm | AI15: ="="&INDEX(PkgInstanceValues,1,MATCH(MID(AI$2,1+LEN("$VALUE@"),LEN(AI$2)-LEN("$Value@@Equations")),PkgInstanceHdr,0))&"mm" -> =8.48230016469244mm | AJ15: ="="&INDEX(PkgInstanceValues,1,MATCH(MID(AJ$2,1+LEN("$VALUE@"),LEN(AJ$2)-LEN("$Value@@Equations")),PkgInstanceHdr,0))&"mm" -> =1.032mm | AK15: =IF($AY15,"U","") | AL15: =IF($AY15,"U","") | AM15: =IF($AY15,"U","") | AN15: ="="&INDEX(PkgInstanceValues,1,MATCH(MID(AN$2,1+LEN("$VALUE@"),LEN(AN$2)-LEN("$Value@@Equations")),PkgInstanceHdr,0))&"mm" -> =0.16mm | AO15: ="="&INDEX(PkgInstanceValues,1,MATCH(MID(AO$2,1+LEN("$VALUE@"),LEN(AO$2)-LEN("$Value@@Equations")),PkgInstanceHdr,0))&"mm" -> =0.1mm | AY15: =ISBLANK($Q15) -> FALSE | AZ15: =IF(Parent?,$A15,$Q15) -> DO-204AL | BA15: =INDEX(PkgTable,$CA15,MATCH(BA$2,PkgTblHdr,0)) -> 300 | BB15: =INDEX(PkgTable,$CA15,MATCH(BB$2,PkgTblHdr,0)) -> 100 | BC15: =$BA15+$BB15*($CF15-1)-IF(AND($BB15>0,$CF15>1),MOD($BA15,$BB15),0) -> 500 | BD15: =INDEX(PkgTable,$CA15,MATCH(BD$2,PkgTblHdr,0)) -> 1 | BE15: =INDEX(PkgTable,$CA15,MATCH(BE$2,PkgTblHdr,0)) -> 0 | BF15: =$BD15+$BE15*($CG15-1)-IF(AND($BE15>0,$CG15>1),MOD($BD15,$BE15),0) -> 1 | BG15: ="AXIAL-"&TEXT($BC15/1000,"0.0##")&" " -> AXIAL-0.5 | BH15: =IF(BF15=1,"","["&TEXT(BF15,"00.0##")&"] ") | BI15: =INDEX(PkgTable,$CA15,MATCH(BI$2,PkgTblHdr,0)) -> 2.7 | BJ15: =INDEX(PkgTable,$CA15,MATCH(BJ$2,PkgTblHdr,0)) -> 25.4 | BK15: =INDEX(PkgTable,$CA15,MATCH(BK$2,PkgTblHdr,0)) -> 1 | BL15: =INDEX(PkgTable,$CA15,MATCH(BL$2,PkgTblHdr,0)) -> 0.0421875 | BM15: =INDEX(PkgTable,$CA15,MATCH(BM$2,PkgTblHdr,0)) -> 5.2 | BN15: =INDEX(PkgTable,$CA15,MATCH(BN$2,PkgTblHdr,0)) -> 0.86 | BO15: =INDEX(PkgTable,$CA15,MATCH(BO$2,PkgTblHdr,0)) -> 0.96 | BP15: =INDEX(PkgTable,$CA15,MATCH(BP$2,PkgTblHdr,0)) -> 1.3 | ... BX15: =INDEX(PkgTable,$CA15,MATCH(BX$2,PkgTblHdr,0)) -> 1.032 | BY15: =BJ15-(Lead_Extend_Length+Config_Stand_Off-2*Lead_Bend_Radius)-(Case_Diameter+Config_Lead_Spacing*25.4/1000+Lead_Bend_Radius*PI()-Case_Length)/2 -> 17.742938 | BZ15: =INDEX(PkgTable,$CA15,MATCH(BZ$2,PkgTblHdr,0)) -> 0.1 | CA15: =MATCH($AZ15,'Package Dimensions'!$B:$B,0)-2 -> 4 | CB15: =COUNTIF($AZ:$AZ,$AZ15) -> 4 | CC15: =IF($AY15,1,CC14+1) -> 3 | CD15: =INDEX(PkgTable,$CA15,MATCH(CD$2,PkgTblHdr,0)) -> 4 | CE15: =INDEX(PkgTable,$CA15,MATCH(CE$2,PkgTblHdr,0)) -> 1 | CF15: =1+MOD((CC15-MOD(CC15-1,CE15)-1)/CE15,CD15) -> 3 | CG15: =MOD($CC15-1,$CE15)+1 -> 1 | CH15: =CD15*CE15 -> 4 | CK15: {=IFERROR(MATCH(FALSE,$A15:$AX15=Sheet1!$A15:$AX15,0),0)} -> 0
A16: =TRIM($AZ16&" "&$BG16&$BH16) -> DO-204AL AXIAL-0.6 | B16: =TRIM($AZ16&" "&$BG16&$BH16&INDEX(PkgTable,$CA16,MATCH("Package Material",PkgTblHdr,0))) -> DO-204AL AXIAL-0.6 Plastic | C16: =IF($AY16,"$C","$P") -> $P | D16: =INDEX(PkgTable,$CA16,MATCH(D$2,PkgTblHdr,0)) -> 328965 | E16: ="="&INDEX(PkgInstanceValues,1,MATCH(MID(E$2,1+LEN("$VALUE@"),LEN(E$2)-LEN("$Value@@Equations")),PkgInstanceHdr,0))&"mm" -> =2.7mm | F16: ="="&INDEX(PkgInstanceValues,1,MATCH(MID(F$2,1+LEN("$VALUE@"),LEN(F$2)-LEN("$Value@@Equations")),PkgInstanceHdr,0))&"mm" -> =25.4mm | G16: ="="&$BF16&"mm" -> =1mm | H16: ="="&INDEX(PkgInstanceValues,1,MATCH(MID(H$2,1+LEN("$VALUE@"),LEN(H$2)-LEN("$Value@@Equations")),PkgInstanceHdr,0))&"mm" -> =0.0421875mm | I16: ="="&INDEX(PkgInstanceValues,1,MATCH(MID(I$2,1+LEN("$VALUE@"),LEN(I$2)-LEN("$Value@@Equations")),PkgInstanceHdr,0))&"mm" -> =5.2mm | J16: ="="&INDEX(PkgInstanceValues,1,MATCH(MID(J$2,1+LEN("$VALUE@"),LEN(J$2)-LEN("$Value@@Equations")),PkgInstanceHdr,0))&"mm" -> =0.86mm | K16: ="="&INDEX(PkgInstanceValues,1,MATCH(MID(K$2,1+LEN("$VALUE@"),LEN(K$2)-LEN("$Value@@Equations")),PkgInstanceHdr,0))&"mm" -> =0.96mm | L16: ="="&INDEX(PkgInstanceValues,1,MATCH(MID(L$2,1+LEN("$VALUE@"),LEN(L$2)-LEN("$Value@@Equations")),PkgInstanceHdr,0))&"mm" -> =1.3mm | M16: ="="&INDEX(PkgInstanceValues,1,MATCH(MID(M$2,1+LEN("$VALUE@"),LEN(M$2)-LEN("$Value@@Equations")),PkgInstanceHdr,0))&"mm" -> =0.001mm | N16: ="="&INDEX(PkgInstanceValues,1,MATCH(MID(N$2,1+LEN("$VALUE@"),LEN(N$2)-LEN("$Value@@Equations")),PkgInstanceHdr,0))&"mm" -> =2mm | O16: ="="&$BC16*25.4/1000&"mm" -> =15.24mm | P16: =INDEX(PkgTable,$CA16,MATCH(P$2,PkgTblHdr,0)) -> SOLIDWORKS Materials:PUR | Q16: =IF(ISBLANK($Q15),$A15,$Q15) -> DO-204AL | R16: =$BG16 -> AXIAL-0.6 | S16: =IF($AY16,INDEX(PkgTable,$CA16,MATCH(S$2,PkgTblHdr,0)),"") | T16: =IF($AY16,INDEX(PkgTable,$CA16,MATCH(T$2,PkgTblHdr,0)),"") | U16: =IF($AY16,INDEX(PkgTable,$CA16,MATCH(U$2,PkgTblHdr,0)),"") | V16: =IF($AY16,INDEX(PkgTable,$CA16,MATCH(V$2,PkgTblHdr,0)),"") | W16: =IF($AY16,INDEX(PkgTable,$CA16,MATCH(W$2,PkgTblHdr,0)),"") | X16: =IF($AY16,INDEX(PkgTable,$CA16,MATCH(X$2,PkgTblHdr,0)),"") | Y16: =IF($AY16,INDEX(PkgTable,$CA16,MATCH(Y$2,PkgTblHdr,0)),"") | Z16: =IF($AY16,INDEX(PkgTable,$CA16,MATCH(Z$2,PkgTblHdr,0)),"") | ... AE16: =IF($AY16,INDEX(PkgTable,$CA16,MATCH(AE$2,PkgTblHdr,0)),"") | AF16: U | AG16: ="="&INDEX(PkgInstanceValues,1,MATCH(MID(AG$2,1+LEN("$VALUE@"),LEN(AG$2)-LEN("$Value@@Equations")),PkgInstanceHdr,0))&"mm" -> =0.001mm | AH16: ="="&INDEX(PkgInstanceValues,1,MATCH(MID(AH$2,1+LEN("$VALUE@"),LEN(AH$2)-LEN("$Value@@Equations")),PkgInstanceHdr,0))&"mm" -> =0.001mm | AI16: ="="&INDEX(PkgInstanceValues,1,MATCH(MID(AI$2,1+LEN("$VALUE@"),LEN(AI$2)-LEN("$Value@@Equations")),PkgInstanceHdr,0))&"mm" -> =8.48230016469244mm | AJ16: ="="&INDEX(PkgInstanceValues,1,MATCH(MID(AJ$2,1+LEN("$VALUE@"),LEN(AJ$2)-LEN("$Value@@Equations")),PkgInstanceHdr,0))&"mm" -> =1.032mm | AK16: =IF($AY16,"U","") | AL16: =IF($AY16,"U","") | AM16: =IF($AY16,"U","") | AN16: ="="&INDEX(PkgInstanceValues,1,MATCH(MID(AN$2,1+LEN("$VALUE@"),LEN(AN$2)-LEN("$Value@@Equations")),PkgInstanceHdr,0))&"mm" -> =0.16mm | AO16: ="="&INDEX(PkgInstanceValues,1,MATCH(MID(AO$2,1+LEN("$VALUE@"),LEN(AO$2)-LEN("$Value@@Equations")),PkgInstanceHdr,0))&"mm" -> =0.1mm | AY16: =ISBLANK($Q16) -> FALSE | AZ16: =IF(Parent?,$A16,$Q16) -> DO-204AL | BA16: =INDEX(PkgTable,$CA16,MATCH(BA$2,PkgTblHdr,0)) -> 300 | BB16: =INDEX(PkgTable,$CA16,MATCH(BB$2,PkgTblHdr,0)) -> 100 | BC16: =$BA16+$BB16*($CF16-1)-IF(AND($BB16>0,$CF16>1),MOD($BA16,$BB16),0) -> 600 | BD16: =INDEX(PkgTable,$CA16,MATCH(BD$2,PkgTblHdr,0)) -> 1 | BE16: =INDEX(PkgTable,$CA16,MATCH(BE$2,PkgTblHdr,0)) -> 0 | BF16: =$BD16+$BE16*($CG16-1)-IF(AND($BE16>0,$CG16>1),MOD($BD16,$BE16),0) -> 1 | BG16: ="AXIAL-"&TEXT($BC16/1000,"0.0##")&" " -> AXIAL-0.6 | BH16: =IF(BF16=1,"","["&TEXT(BF16,"00.0##")&"] ") | BI16: =INDEX(PkgTable,$CA16,MATCH(BI$2,PkgTblHdr,0)) -> 2.7 | BJ16: =INDEX(PkgTable,$CA16,MATCH(BJ$2,PkgTblHdr,0)) -> 25.4 | BK16: =INDEX(PkgTable,$CA16,MATCH(BK$2,PkgTblHdr,0)) -> 1 | BL16: =INDEX(PkgTable,$CA16,MATCH(BL$2,PkgTblHdr,0)) -> 0.0421875 | BM16: =INDEX(PkgTable,$CA16,MATCH(BM$2,PkgTblHdr,0)) -> 5.2 | BN16: =INDEX(PkgTable,$CA16,MATCH(BN$2,PkgTblHdr,0)) -> 0.86 | BO16: =INDEX(PkgTable,$CA16,MATCH(BO$2,PkgTblHdr,0)) -> 0.96 | BP16: =INDEX(PkgTable,$CA16,MATCH(BP$2,PkgTblHdr,0)) -> 1.3 | ... BX16: =INDEX(PkgTable,$CA16,MATCH(BX$2,PkgTblHdr,0)) -> 1.032 | BY16: =BJ16-(Lead_Extend_Length+Config_Stand_Off-2*Lead_Bend_Radius)-(Case_Diameter+Config_Lead_Spacing*25.4/1000+Lead_Bend_Radius*PI()-Case_Length)/2 -> 16.472938 | BZ16: =INDEX(PkgTable,$CA16,MATCH(BZ$2,PkgTblHdr,0)) -> 0.1 | CA16: =MATCH($AZ16,'Package Dimensions'!$B:$B,0)-2 -> 4 | CB16: =COUNTIF($AZ:$AZ,$AZ16) -> 4 | CC16: =IF($AY16,1,CC15+1) -> 4 | CD16: =INDEX(PkgTable,$CA16,MATCH(CD$2,PkgTblHdr,0)) -> 4 | CE16: =INDEX(PkgTable,$CA16,MATCH(CE$2,PkgTblHdr,0)) -> 1 | CF16: =1+MOD((CC16-MOD(CC16-1,CE16)-1)/CE16,CD16) -> 4 | CG16: =MOD($CC16-1,$CE16)+1 -> 1 | CH16: =CD16*CE16 -> 4 | CK16: {=IFERROR(MATCH(FALSE,$A16:$AX16=Sheet1!$A16:$AX16,0),0)} -> 0
A17: DO-35 | B17: =TRIM($AZ17&" "&$BG17&$BH17&INDEX(PkgTable,$CA17,MATCH("Package Material",PkgTblHdr,0))) -> DO-35 AXIAL-0.25 Glass | C17: =IF($AY17,"$C","$P") -> $C | D17: =INDEX(PkgTable,$CA17,MATCH(D$2,PkgTblHdr,0)) -> 16777215 | E17: ="="&INDEX(PkgInstanceValues,1,MATCH(MID(E$2,1+LEN("$VALUE@"),LEN(E$2)-LEN("$Value@@Equations")),PkgInstanceHdr,0))&"mm" -> =2mm | F17: ="="&INDEX(PkgInstanceValues,1,MATCH(MID(F$2,1+LEN("$VALUE@"),LEN(F$2)-LEN("$Value@@Equations")),PkgInstanceHdr,0))&"mm" -> =28mm | G17: ="="&$BF17&"mm" -> =1mm | H17: ="="&INDEX(PkgInstanceValues,1,MATCH(MID(H$2,1+LEN("$VALUE@"),LEN(H$2)-LEN("$Value@@Equations")),PkgInstanceHdr,0))&"mm" -> =0.25mm | I17: ="="&INDEX(PkgInstanceValues,1,MATCH(MID(I$2,1+LEN("$VALUE@"),LEN(I$2)-LEN("$Value@@Equations")),PkgInstanceHdr,0))&"mm" -> =4mm | J17: ="="&INDEX(PkgInstanceValues,1,MATCH(MID(J$2,1+LEN("$VALUE@"),LEN(J$2)-LEN("$Value@@Equations")),PkgInstanceHdr,0))&"mm" -> =0.5mm | K17: ="="&INDEX(PkgInstanceValues,1,MATCH(MID(K$2,1+LEN("$VALUE@"),LEN(K$2)-LEN("$Value@@Equations")),PkgInstanceHdr,0))&"mm" -> =1mm | L17: ="="&INDEX(PkgInstanceValues,1,MATCH(MID(L$2,1+LEN("$VALUE@"),LEN(L$2)-LEN("$Value@@Equations")),PkgInstanceHdr,0))&"mm" -> =1.3mm | M17: ="="&INDEX(PkgInstanceValues,1,MATCH(MID(M$2,1+LEN("$VALUE@"),LEN(M$2)-LEN("$Value@@Equations")),PkgInstanceHdr,0))&"mm" -> =0.1mm | N17: ="="&INDEX(PkgInstanceValues,1,MATCH(MID(N$2,1+LEN("$VALUE@"),LEN(N$2)-LEN("$Value@@Equations")),PkgInstanceHdr,0))&"mm" -> =2mm | O17: ="="&$BC17*25.4/1000&"mm" -> =6.35mm | P17: =INDEX(PkgTable,$CA17,MATCH(P$2,PkgTblHdr,0)) -> SOLIDWORKS Materials:Glass | R17: =$BG17 -> AXIAL-0.25 | S17: =IF($AY17,INDEX(PkgTable,$CA17,MATCH(S$2,PkgTblHdr,0)),"") -> U | T17: =IF($AY17,INDEX(PkgTable,$CA17,MATCH(T$2,PkgTblHdr,0)),"") -> U | U17: =IF($AY17,INDEX(PkgTable,$CA17,MATCH(U$2,PkgTblHdr,0)),"") -> S | V17: =IF($AY17,INDEX(PkgTable,$CA17,MATCH(V$2,PkgTblHdr,0)),"") -> U | W17: =IF($AY17,INDEX(PkgTable,$CA17,MATCH(W$2,PkgTblHdr,0)),"") -> S | X17: =IF($AY17,INDEX(PkgTable,$CA17,MATCH(X$2,PkgTblHdr,0)),"") -> U | Y17: =IF($AY17,INDEX(PkgTable,$CA17,MATCH(Y$2,PkgTblHdr,0)),"") -> S | Z17: =IF($AY17,INDEX(PkgTable,$CA17,MATCH(Z$2,PkgTblHdr,0)),"") -> U | ... AE17: =IF($AY17,INDEX(PkgTable,$CA17,MATCH(AE$2,PkgTblHdr,0)),"") -> S | AF17: U | AG17: ="="&INDEX(PkgInstanceValues,1,MATCH(MID(AG$2,1+LEN("$VALUE@"),LEN(AG$2)-LEN("$Value@@Equations")),PkgInstanceHdr,0))&"mm" -> =0.4mm | AH17: ="="&INDEX(PkgInstanceValues,1,MATCH(MID(AH$2,1+LEN("$VALUE@"),LEN(AH$2)-LEN("$Value@@Equations")),PkgInstanceHdr,0))&"mm" -> =0.4mm | AI17: ="="&INDEX(PkgInstanceValues,1,MATCH(MID(AI$2,1+LEN("$VALUE@"),LEN(AI$2)-LEN("$Value@@Equations")),PkgInstanceHdr,0))&"mm" -> =6.28318530717959mm | AJ17: ="="&INDEX(PkgInstanceValues,1,MATCH(MID(AJ$2,1+LEN("$VALUE@"),LEN(AJ$2)-LEN("$Value@@Equations")),PkgInstanceHdr,0))&"mm" -> =0.6mm | AK17: =IF($AY17,"U","") -> U | AL17: =IF($AY17,"U","") -> U | AM17: =IF($AY17,"U","") -> U | AN17: ="="&INDEX(PkgInstanceValues,1,MATCH(MID(AN$2,1+LEN("$VALUE@"),LEN(AN$2)-LEN("$Value@@Equations")),PkgInstanceHdr,0))&"mm" -> =0.16mm | AO17: ="="&INDEX(PkgInstanceValues,1,MATCH(MID(AO$2,1+LEN("$VALUE@"),LEN(AO$2)-LEN("$Value@@Equations")),PkgInstanceHdr,0))&"mm" -> =0.2mm | AY17: =ISBLANK($Q17) -> TRUE | AZ17: =IF(Parent?,$A17,$Q17) -> DO-35 | BA17: =INDEX(PkgTable,$CA17,MATCH(BA$2,PkgTblHdr,0)) -> 250 | BB17: =INDEX(PkgTable,$CA17,MATCH(BB$2,PkgTblHdr,0)) -> 100 | BC17: =$BA17+$BB17*($CF17-1)-IF(AND($BB17>0,$CF17>1),MOD($BA17,$BB17),0) -> 250 | BD17: =INDEX(PkgTable,$CA17,MATCH(BD$2,PkgTblHdr,0)) -> 1 | BE17: =INDEX(PkgTable,$CA17,MATCH(BE$2,PkgTblHdr,0)) -> 5 | BF17: =$BD17+$BE17*($CG17-1)-IF(AND($BE17>0,$CG17>1),MOD($BD17,$BE17),0) -> 1 | BG17: ="AXIAL-"&TEXT($BC17/1000,"0.0##")&" " -> AXIAL-0.25 | BH17: =IF(BF17=1,"","["&TEXT(BF17,"00.0##")&"] ") | BI17: =INDEX(PkgTable,$CA17,MATCH(BI$2,PkgTblHdr,0)) -> 2 | BJ17: =INDEX(PkgTable,$CA17,MATCH(BJ$2,PkgTblHdr,0)) -> 28 | BK17: =INDEX(PkgTable,$CA17,MATCH(BK$2,PkgTblHdr,0)) -> 1 | BL17: =INDEX(PkgTable,$CA17,MATCH(BL$2,PkgTblHdr,0)) -> 0.25 | BM17: =INDEX(PkgTable,$CA17,MATCH(BM$2,PkgTblHdr,0)) -> 4 | BN17: =INDEX(PkgTable,$CA17,MATCH(BN$2,PkgTblHdr,0)) -> 0.5 | BO17: =INDEX(PkgTable,$CA17,MATCH(BO$2,PkgTblHdr,0)) -> 1 | BP17: =INDEX(PkgTable,$CA17,MATCH(BP$2,PkgTblHdr,0)) -> 1.3 | ... BX17: =INDEX(PkgTable,$CA17,MATCH(BX$2,PkgTblHdr,0)) -> 0.6 | BY17: =BJ17-(Lead_Extend_Length+Config_Stand_Off-2*Lead_Bend_Radius)-(Case_Diameter+Config_Lead_Spacing*25.4/1000+Lead_Bend_Radius*PI()-Case_Length)/2 -> 23.082522 | BZ17: =INDEX(PkgTable,$CA17,MATCH(BZ$2,PkgTblHdr,0)) -> 0.2 | CA17: =MATCH($AZ17,'Package Dimensions'!$B:$B,0)-2 -> 5 | CB17: =COUNTIF($AZ:$AZ,$AZ17) -> 10 | CC17: =IF($AY17,1,CC16+1) -> 1 | CD17: =INDEX(PkgTable,$CA17,MATCH(CD$2,PkgTblHdr,0)) -> 2 | CE17: =INDEX(PkgTable,$CA17,MATCH(CE$2,PkgTblHdr,0)) -> 5 | CF17: =1+MOD((CC17-MOD(CC17-1,CE17)-1)/CE17,CD17) -> 1 | CG17: =MOD($CC17-1,$CE17)+1 -> 1 | CH17: =CD17*CE17 -> 10 | CK17: {=IFERROR(MATCH(FALSE,$A17:$AX17=Sheet1!$A17:$AX17,0),0)} -> 0
A18: =TRIM($AZ18&" "&$BG18&$BH18) -> DO-35 AXIAL-0.25 [05.0] | B18: =TRIM($AZ18&" "&$BG18&$BH18&INDEX(PkgTable,$CA18,MATCH("Package Material",PkgTblHdr,0))) -> DO-35 AXIAL-0.25 [05.0] Glass | C18: =IF($AY18,"$C","$P") -> $P | D18: =INDEX(PkgTable,$CA18,MATCH(D$2,PkgTblHdr,0)) -> 16777215 | E18: ="="&INDEX(PkgInstanceValues,1,MATCH(MID(E$2,1+LEN("$VALUE@"),LEN(E$2)-LEN("$Value@@Equations")),PkgInstanceHdr,0))&"mm" -> =2mm | F18: ="="&INDEX(PkgInstanceValues,1,MATCH(MID(F$2,1+LEN("$VALUE@"),LEN(F$2)-LEN("$Value@@Equations")),PkgInstanceHdr,0))&"mm" -> =28mm | G18: ="="&$BF18&"mm" -> =5mm | H18: ="="&INDEX(PkgInstanceValues,1,MATCH(MID(H$2,1+LEN("$VALUE@"),LEN(H$2)-LEN("$Value@@Equations")),PkgInstanceHdr,0))&"mm" -> =0.25mm | I18: ="="&INDEX(PkgInstanceValues,1,MATCH(MID(I$2,1+LEN("$VALUE@"),LEN(I$2)-LEN("$Value@@Equations")),PkgInstanceHdr,0))&"mm" -> =4mm | J18: ="="&INDEX(PkgInstanceValues,1,MATCH(MID(J$2,1+LEN("$VALUE@"),LEN(J$2)-LEN("$Value@@Equations")),PkgInstanceHdr,0))&"mm" -> =0.5mm | K18: ="="&INDEX(PkgInstanceValues,1,MATCH(MID(K$2,1+LEN("$VALUE@"),LEN(K$2)-LEN("$Value@@Equations")),PkgInstanceHdr,0))&"mm" -> =1mm | L18: ="="&INDEX(PkgInstanceValues,1,MATCH(MID(L$2,1+LEN("$VALUE@"),LEN(L$2)-LEN("$Value@@Equations")),PkgInstanceHdr,0))&"mm" -> =1.3mm | M18: ="="&INDEX(PkgInstanceValues,1,MATCH(MID(M$2,1+LEN("$VALUE@"),LEN(M$2)-LEN("$Value@@Equations")),PkgInstanceHdr,0))&"mm" -> =0.1mm | N18: ="="&INDEX(PkgInstanceValues,1,MATCH(MID(N$2,1+LEN("$VALUE@"),LEN(N$2)-LEN("$Value@@Equations")),PkgInstanceHdr,0))&"mm" -> =2mm | O18: ="="&$BC18*25.4/1000&"mm" -> =6.35mm | P18: =INDEX(PkgTable,$CA18,MATCH(P$2,PkgTblHdr,0)) -> SOLIDWORKS Materials:Glass | Q18: =IF(ISBLANK($Q17),$A17,$Q17) -> DO-35 | R18: =$BG18 -> AXIAL-0.25 | S18: =IF($AY18,INDEX(PkgTable,$CA18,MATCH(S$2,PkgTblHdr,0)),"") | T18: =IF($AY18,INDEX(PkgTable,$CA18,MATCH(T$2,PkgTblHdr,0)),"") | U18: =IF($AY18,INDEX(PkgTable,$CA18,MATCH(U$2,PkgTblHdr,0)),"") | V18: =IF($AY18,INDEX(PkgTable,$CA18,MATCH(V$2,PkgTblHdr,0)),"") | W18: =IF($AY18,INDEX(PkgTable,$CA18,MATCH(W$2,PkgTblHdr,0)),"") | X18: =IF($AY18,INDEX(PkgTable,$CA18,MATCH(X$2,PkgTblHdr,0)),"") | Y18: =IF($AY18,INDEX(PkgTable,$CA18,MATCH(Y$2,PkgTblHdr,0)),"") | Z18: =IF($AY18,INDEX(PkgTable,$CA18,MATCH(Z$2,PkgTblHdr,0)),"") | ... AE18: =IF($AY18,INDEX(PkgTable,$CA18,MATCH(AE$2,PkgTblHdr,0)),"") | AG18: ="="&INDEX(PkgInstanceValues,1,MATCH(MID(AG$2,1+LEN("$VALUE@"),LEN(AG$2)-LEN("$Value@@Equations")),PkgInstanceHdr,0))&"mm" -> =0.4mm | AH18: ="="&INDEX(PkgInstanceValues,1,MATCH(MID(AH$2,1+LEN("$VALUE@"),LEN(AH$2)-LEN("$Value@@Equations")),PkgInstanceHdr,0))&"mm" -> =0.4mm | AI18: ="="&INDEX(PkgInstanceValues,1,MATCH(MID(AI$2,1+LEN("$VALUE@"),LEN(AI$2)-LEN("$Value@@Equations")),PkgInstanceHdr,0))&"mm" -> =6.28318530717959mm | AJ18: ="="&INDEX(PkgInstanceValues,1,MATCH(MID(AJ$2,1+LEN("$VALUE@"),LEN(AJ$2)-LEN("$Value@@Equations")),PkgInstanceHdr,0))&"mm" -> =0.6mm | AK18: =IF($AY18,"U","") | AL18: =IF($AY18,"U","") | AM18: =IF($AY18,"U","") | AN18: ="="&INDEX(PkgInstanceValues,1,MATCH(MID(AN$2,1+LEN("$VALUE@"),LEN(AN$2)-LEN("$Value@@Equations")),PkgInstanceHdr,0))&"mm" -> =0.16mm | AO18: ="="&INDEX(PkgInstanceValues,1,MATCH(MID(AO$2,1+LEN("$VALUE@"),LEN(AO$2)-LEN("$Value@@Equations")),PkgInstanceHdr,0))&"mm" -> =0.2mm | AY18: =ISBLANK($Q18) -> FALSE | AZ18: =IF(Parent?,$A18,$Q18) -> DO-35 | BA18: =INDEX(PkgTable,$CA18,MATCH(BA$2,PkgTblHdr,0)) -> 250 | BB18: =INDEX(PkgTable,$CA18,MATCH(BB$2,PkgTblHdr,0)) -> 100 | BC18: =$BA18+$BB18*($CF18-1)-IF(AND($BB18>0,$CF18>1),MOD($BA18,$BB18),0) -> 250 | BD18: =INDEX(PkgTable,$CA18,MATCH(BD$2,PkgTblHdr,0)) -> 1 | BE18: =INDEX(PkgTable,$CA18,MATCH(BE$2,PkgTblHdr,0)) -> 5 | BF18: =$BD18+$BE18*($CG18-1)-IF(AND($BE18>0,$CG18>1),MOD($BD18,$BE18),0) -> 5 | BG18: ="AXIAL-"&TEXT($BC18/1000,"0.0##")&" " -> AXIAL-0.25 | BH18: =IF(BF18=1,"","["&TEXT(BF18,"00.0##")&"] ") -> [05.0] | BI18: =INDEX(PkgTable,$CA18,MATCH(BI$2,PkgTblHdr,0)) -> 2 | BJ18: =INDEX(PkgTable,$CA18,MATCH(BJ$2,PkgTblHdr,0)) -> 28 | BK18: =INDEX(PkgTable,$CA18,MATCH(BK$2,PkgTblHdr,0)) -> 1 | BL18: =INDEX(PkgTable,$CA18,MATCH(BL$2,PkgTblHdr,0)) -> 0.25 | BM18: =INDEX(PkgTable,$CA18,MATCH(BM$2,PkgTblHdr,0)) -> 4 | BN18: =INDEX(PkgTable,$CA18,MATCH(BN$2,PkgTblHdr,0)) -> 0.5 | BO18: =INDEX(PkgTable,$CA18,MATCH(BO$2,PkgTblHdr,0)) -> 1 | BP18: =INDEX(PkgTable,$CA18,MATCH(BP$2,PkgTblHdr,0)) -> 1.3 | ... BX18: =INDEX(PkgTable,$CA18,MATCH(BX$2,PkgTblHdr,0)) -> 0.6 | BY18: =BJ18-(Lead_Extend_Length+Config_Stand_Off-2*Lead_Bend_Radius)-(Case_Diameter+Config_Lead_Spacing*25.4/1000+Lead_Bend_Radius*PI()-Case_Length)/2 -> 19.082522 | BZ18: =INDEX(PkgTable,$CA18,MATCH(BZ$2,PkgTblHdr,0)) -> 0.2 | CA18: =MATCH($AZ18,'Package Dimensions'!$B:$B,0)-2 -> 5 | CB18: =COUNTIF($AZ:$AZ,$AZ18) -> 10 | CC18: =IF($AY18,1,CC17+1) -> 2 | CD18: =INDEX(PkgTable,$CA18,MATCH(CD$2,PkgTblHdr,0)) -> 2 | CE18: =INDEX(PkgTable,$CA18,MATCH(CE$2,PkgTblHdr,0)) -> 5 | CF18: =1+MOD((CC18-MOD(CC18-1,CE18)-1)/CE18,CD18) -> 1 | CG18: =MOD($CC18-1,$CE18)+1 -> 2 | CH18: =CD18*CE18 -> 10 | CK18: {=IFERROR(MATCH(FALSE,$A18:$AX18=Sheet1!$A18:$AX18,0),0)} -> 0
A19: =TRIM($AZ19&" "&$BG19&$BH19) -> DO-35 AXIAL-0.25 [10.0] | B19: =TRIM($AZ19&" "&$BG19&$BH19&INDEX(PkgTable,$CA19,MATCH("Package Material",PkgTblHdr,0))) -> DO-35 AXIAL-0.25 [10.0] Glass | C19: =IF($AY19,"$C","$P") -> $P | D19: =INDEX(PkgTable,$CA19,MATCH(D$2,PkgTblHdr,0)) -> 16777215 | E19: ="="&INDEX(PkgInstanceValues,1,MATCH(MID(E$2,1+LEN("$VALUE@"),LEN(E$2)-LEN("$Value@@Equations")),PkgInstanceHdr,0))&"mm" -> =2mm | F19: ="="&INDEX(PkgInstanceValues,1,MATCH(MID(F$2,1+LEN("$VALUE@"),LEN(F$2)-LEN("$Value@@Equations")),PkgInstanceHdr,0))&"mm" -> =28mm | G19: ="="&$BF19&"mm" -> =10mm | H19: ="="&INDEX(PkgInstanceValues,1,MATCH(MID(H$2,1+LEN("$VALUE@"),LEN(H$2)-LEN("$Value@@Equations")),PkgInstanceHdr,0))&"mm" -> =0.25mm | I19: ="="&INDEX(PkgInstanceValues,1,MATCH(MID(I$2,1+LEN("$VALUE@"),LEN(I$2)-LEN("$Value@@Equations")),PkgInstanceHdr,0))&"mm" -> =4mm | J19: ="="&INDEX(PkgInstanceValues,1,MATCH(MID(J$2,1+LEN("$VALUE@"),LEN(J$2)-LEN("$Value@@Equations")),PkgInstanceHdr,0))&"mm" -> =0.5mm | K19: ="="&INDEX(PkgInstanceValues,1,MATCH(MID(K$2,1+LEN("$VALUE@"),LEN(K$2)-LEN("$Value@@Equations")),PkgInstanceHdr,0))&"mm" -> =1mm | L19: ="="&INDEX(PkgInstanceValues,1,MATCH(MID(L$2,1+LEN("$VALUE@"),LEN(L$2)-LEN("$Value@@Equations")),PkgInstanceHdr,0))&"mm" -> =1.3mm | M19: ="="&INDEX(PkgInstanceValues,1,MATCH(MID(M$2,1+LEN("$VALUE@"),LEN(M$2)-LEN("$Value@@Equations")),PkgInstanceHdr,0))&"mm" -> =0.1mm | N19: ="="&INDEX(PkgInstanceValues,1,MATCH(MID(N$2,1+LEN("$VALUE@"),LEN(N$2)-LEN("$Value@@Equations")),PkgInstanceHdr,0))&"mm" -> =2mm | O19: ="="&$BC19*25.4/1000&"mm" -> =6.35mm | P19: =INDEX(PkgTable,$CA19,MATCH(P$2,PkgTblHdr,0)) -> SOLIDWORKS Materials:Glass | Q19: =IF(ISBLANK($Q18),$A18,$Q18) -> DO-35 | R19: =$BG19 -> AXIAL-0.25 | S19: =IF($AY19,INDEX(PkgTable,$CA19,MATCH(S$2,PkgTblHdr,0)),"") | T19: =IF($AY19,INDEX(PkgTable,$CA19,MATCH(T$2,PkgTblHdr,0)),"") | U19: =IF($AY19,INDEX(PkgTable,$CA19,MATCH(U$2,PkgTblHdr,0)),"") | V19: =IF($AY19,INDEX(PkgTable,$CA19,MATCH(V$2,PkgTblHdr,0)),"") | W19: =IF($AY19,INDEX(PkgTable,$CA19,MATCH(W$2,PkgTblHdr,0)),"") | X19: =IF($AY19,INDEX(PkgTable,$CA19,MATCH(X$2,PkgTblHdr,0)),"") | Y19: =IF($AY19,INDEX(PkgTable,$CA19,MATCH(Y$2,PkgTblHdr,0)),"") | Z19: =IF($AY19,INDEX(PkgTable,$CA19,MATCH(Z$2,PkgTblHdr,0)),"") | ... AE19: =IF($AY19,INDEX(PkgTable,$CA19,MATCH(AE$2,PkgTblHdr,0)),"") | AG19: ="="&INDEX(PkgInstanceValues,1,MATCH(MID(AG$2,1+LEN("$VALUE@"),LEN(AG$2)-LEN("$Value@@Equations")),PkgInstanceHdr,0))&"mm" -> =0.4mm | AH19: ="="&INDEX(PkgInstanceValues,1,MATCH(MID(AH$2,1+LEN("$VALUE@"),LEN(AH$2)-LEN("$Value@@Equations")),PkgInstanceHdr,0))&"mm" -> =0.4mm | AI19: ="="&INDEX(PkgInstanceValues,1,MATCH(MID(AI$2,1+LEN("$VALUE@"),LEN(AI$2)-LEN("$Value@@Equations")),PkgInstanceHdr,0))&"mm" -> =6.28318530717959mm | AJ19: ="="&INDEX(PkgInstanceValues,1,MATCH(MID(AJ$2,1+LEN("$VALUE@"),LEN(AJ$2)-LEN("$Value@@Equations")),PkgInstanceHdr,0))&"mm" -> =0.6mm | AK19: =IF($AY19,"U","") | AL19: =IF($AY19,"U","") | AM19: =IF($AY19,"U","") | AN19: ="="&INDEX(PkgInstanceValues,1,MATCH(MID(AN$2,1+LEN("$VALUE@"),LEN(AN$2)-LEN("$Value@@Equations")),PkgInstanceHdr,0))&"mm" -> =0.16mm | AO19: ="="&INDEX(PkgInstanceValues,1,MATCH(MID(AO$2,1+LEN("$VALUE@"),LEN(AO$2)-LEN("$Value@@Equations")),PkgInstanceHdr,0))&"mm" -> =0.2mm | AY19: =ISBLANK($Q19) -> FALSE | AZ19: =IF(Parent?,$A19,$Q19) -> DO-35 | BA19: =INDEX(PkgTable,$CA19,MATCH(BA$2,PkgTblHdr,0)) -> 250 | BB19: =INDEX(PkgTable,$CA19,MATCH(BB$2,PkgTblHdr,0)) -> 100 | BC19: =$BA19+$BB19*($CF19-1)-IF(AND($BB19>0,$CF19>1),MOD($BA19,$BB19),0) -> 250 | BD19: =INDEX(PkgTable,$CA19,MATCH(BD$2,PkgTblHdr,0)) -> 1 | BE19: =INDEX(PkgTable,$CA19,MATCH(BE$2,PkgTblHdr,0)) -> 5 | BF19: =$BD19+$BE19*($CG19-1)-IF(AND($BE19>0,$CG19>1),MOD($BD19,$BE19),0) -> 10 | BG19: ="AXIAL-"&TEXT($BC19/1000,"0.0##")&" " -> AXIAL-0.25 | BH19: =IF(BF19=1,"","["&TEXT(BF19,"00.0##")&"] ") -> [10.0] | BI19: =INDEX(PkgTable,$CA19,MATCH(BI$2,PkgTblHdr,0)) -> 2 | BJ19: =INDEX(PkgTable,$CA19,MATCH(BJ$2,PkgTblHdr,0)) -> 28 | BK19: =INDEX(PkgTable,$CA19,MATCH(BK$2,PkgTblHdr,0)) -> 1 | BL19: =INDEX(PkgTable,$CA19,MATCH(BL$2,PkgTblHdr,0)) -> 0.25 | BM19: =INDEX(PkgTable,$CA19,MATCH(BM$2,PkgTblHdr,0)) -> 4 | BN19: =INDEX(PkgTable,$CA19,MATCH(BN$2,PkgTblHdr,0)) -> 0.5 | BO19: =INDEX(PkgTable,$CA19,MATCH(BO$2,PkgTblHdr,0)) -> 1 | BP19: =INDEX(PkgTable,$CA19,MATCH(BP$2,PkgTblHdr,0)) -> 1.3 | ... BX19: =INDEX(PkgTable,$CA19,MATCH(BX$2,PkgTblHdr,0)) -> 0.6 | BY19: =BJ19-(Lead_Extend_Length+Config_Stand_Off-2*Lead_Bend_Radius)-(Case_Diameter+Config_Lead_Spacing*25.4/1000+Lead_Bend_Radius*PI()-Case_Length)/2 -> 14.082522 | BZ19: =INDEX(PkgTable,$CA19,MATCH(BZ$2,PkgTblHdr,0)) -> 0.2 | CA19: =MATCH($AZ19,'Package Dimensions'!$B:$B,0)-2 -> 5 | CB19: =COUNTIF($AZ:$AZ,$AZ19) -> 10 | CC19: =IF($AY19,1,CC18+1) -> 3 | CD19: =INDEX(PkgTable,$CA19,MATCH(CD$2,PkgTblHdr,0)) -> 2 | CE19: =INDEX(PkgTable,$CA19,MATCH(CE$2,PkgTblHdr,0)) -> 5 | CF19: =1+MOD((CC19-MOD(CC19-1,CE19)-1)/CE19,CD19) -> 1 | CG19: =MOD($CC19-1,$CE19)+1 -> 3 | CH19: =CD19*CE19 -> 10 | CK19: {=IFERROR(MATCH(FALSE,$A19:$AX19=Sheet1!$A19:$AX19,0),0)} -> 0
A20: =TRIM($AZ20&" "&$BG20&$BH20) -> DO-35 AXIAL-0.25 [15.0] | B20: =TRIM($AZ20&" "&$BG20&$BH20&INDEX(PkgTable,$CA20,MATCH("Package Material",PkgTblHdr,0))) -> DO-35 AXIAL-0.25 [15.0] Glass | C20: =IF($AY20,"$C","$P") -> $P | D20: =INDEX(PkgTable,$CA20,MATCH(D$2,PkgTblHdr,0)) -> 16777215 | E20: ="="&INDEX(PkgInstanceValues,1,MATCH(MID(E$2,1+LEN("$VALUE@"),LEN(E$2)-LEN("$Value@@Equations")),PkgInstanceHdr,0))&"mm" -> =2mm | F20: ="="&INDEX(PkgInstanceValues,1,MATCH(MID(F$2,1+LEN("$VALUE@"),LEN(F$2)-LEN("$Value@@Equations")),PkgInstanceHdr,0))&"mm" -> =28mm | G20: ="="&$BF20&"mm" -> =15mm | H20: ="="&INDEX(PkgInstanceValues,1,MATCH(MID(H$2,1+LEN("$VALUE@"),LEN(H$2)-LEN("$Value@@Equations")),PkgInstanceHdr,0))&"mm" -> =0.25mm | I20: ="="&INDEX(PkgInstanceValues,1,MATCH(MID(I$2,1+LEN("$VALUE@"),LEN(I$2)-LEN("$Value@@Equations")),PkgInstanceHdr,0))&"mm" -> =4mm | J20: ="="&INDEX(PkgInstanceValues,1,MATCH(MID(J$2,1+LEN("$VALUE@"),LEN(J$2)-LEN("$Value@@Equations")),PkgInstanceHdr,0))&"mm" -> =0.5mm | K20: ="="&INDEX(PkgInstanceValues,1,MATCH(MID(K$2,1+LEN("$VALUE@"),LEN(K$2)-LEN("$Value@@Equations")),PkgInstanceHdr,0))&"mm" -> =1mm | L20: ="="&INDEX(PkgInstanceValues,1,MATCH(MID(L$2,1+LEN("$VALUE@"),LEN(L$2)-LEN("$Value@@Equations")),PkgInstanceHdr,0))&"mm" -> =1.3mm | M20: ="="&INDEX(PkgInstanceValues,1,MATCH(MID(M$2,1+LEN("$VALUE@"),LEN(M$2)-LEN("$Value@@Equations")),PkgInstanceHdr,0))&"mm" -> =0.1mm | N20: ="="&INDEX(PkgInstanceValues,1,MATCH(MID(N$2,1+LEN("$VALUE@"),LEN(N$2)-LEN("$Value@@Equations")),PkgInstanceHdr,0))&"mm" -> =2mm | O20: ="="&$BC20*25.4/1000&"mm" -> =6.35mm | P20: =INDEX(PkgTable,$CA20,MATCH(P$2,PkgTblHdr,0)) -> SOLIDWORKS Materials:Glass | Q20: =IF(ISBLANK($Q19),$A19,$Q19) -> DO-35 | R20: =$BG20 -> AXIAL-0.25 | S20: =IF($AY20,INDEX(PkgTable,$CA20,MATCH(S$2,PkgTblHdr,0)),"") | T20: =IF($AY20,INDEX(PkgTable,$CA20,MATCH(T$2,PkgTblHdr,0)),"") | U20: =IF($AY20,INDEX(PkgTable,$CA20,MATCH(U$2,PkgTblHdr,0)),"") | V20: =IF($AY20,INDEX(PkgTable,$CA20,MATCH(V$2,PkgTblHdr,0)),"") | W20: =IF($AY20,INDEX(PkgTable,$CA20,MATCH(W$2,PkgTblHdr,0)),"") | X20: =IF($AY20,INDEX(PkgTable,$CA20,MATCH(X$2,PkgTblHdr,0)),"") | Y20: =IF($AY20,INDEX(PkgTable,$CA20,MATCH(Y$2,PkgTblHdr,0)),"") | Z20: =IF($AY20,INDEX(PkgTable,$CA20,MATCH(Z$2,PkgTblHdr,0)),"") | ... AE20: =IF($AY20,INDEX(PkgTable,$CA20,MATCH(AE$2,PkgTblHdr,0)),"") | AG20: ="="&INDEX(PkgInstanceValues,1,MATCH(MID(AG$2,1+LEN("$VALUE@"),LEN(AG$2)-LEN("$Value@@Equations")),PkgInstanceHdr,0))&"mm" -> =0.4mm | AH20: ="="&INDEX(PkgInstanceValues,1,MATCH(MID(AH$2,1+LEN("$VALUE@"),LEN(AH$2)-LEN("$Value@@Equations")),PkgInstanceHdr,0))&"mm" -> =0.4mm | AI20: ="="&INDEX(PkgInstanceValues,1,MATCH(MID(AI$2,1+LEN("$VALUE@"),LEN(AI$2)-LEN("$Value@@Equations")),PkgInstanceHdr,0))&"mm" -> =6.28318530717959mm | AJ20: ="="&INDEX(PkgInstanceValues,1,MATCH(MID(AJ$2,1+LEN("$VALUE@"),LEN(AJ$2)-LEN("$Value@@Equations")),PkgInstanceHdr,0))&"mm" -> =0.6mm | AK20: =IF($AY20,"U","") | AL20: =IF($AY20,"U","") | AM20: =IF($AY20,"U","") | AN20: ="="&INDEX(PkgInstanceValues,1,MATCH(MID(AN$2,1+LEN("$VALUE@"),LEN(AN$2)-LEN("$Value@@Equations")),PkgInstanceHdr,0))&"mm" -> =0.16mm | AO20: ="="&INDEX(PkgInstanceValues,1,MATCH(MID(AO$2,1+LEN("$VALUE@"),LEN(AO$2)-LEN("$Value@@Equations")),PkgInstanceHdr,0))&"mm" -> =0.2mm | AY20: =ISBLANK($Q20) -> FALSE | AZ20: =IF(Parent?,$A20,$Q20) -> DO-35 | BA20: =INDEX(PkgTable,$CA20,MATCH(BA$2,PkgTblHdr,0)) -> 250 | BB20: =INDEX(PkgTable,$CA20,MATCH(BB$2,PkgTblHdr,0)) -> 100 | BC20: =$BA20+$BB20*($CF20-1)-IF(AND($BB20>0,$CF20>1),MOD($BA20,$BB20),0) -> 250 | BD20: =INDEX(PkgTable,$CA20,MATCH(BD$2,PkgTblHdr,0)) -> 1 | BE20: =INDEX(PkgTable,$CA20,MATCH(BE$2,PkgTblHdr,0)) -> 5 | BF20: =$BD20+$BE20*($CG20-1)-IF(AND($BE20>0,$CG20>1),MOD($BD20,$BE20),0) -> 15 | BG20: ="AXIAL-"&TEXT($BC20/1000,"0.0##")&" " -> AXIAL-0.25 | BH20: =IF(BF20=1,"","["&TEXT(BF20,"00.0##")&"] ") -> [15.0] | BI20: =INDEX(PkgTable,$CA20,MATCH(BI$2,PkgTblHdr,0)) -> 2 | BJ20: =INDEX(PkgTable,$CA20,MATCH(BJ$2,PkgTblHdr,0)) -> 28 | BK20: =INDEX(PkgTable,$CA20,MATCH(BK$2,PkgTblHdr,0)) -> 1 | BL20: =INDEX(PkgTable,$CA20,MATCH(BL$2,PkgTblHdr,0)) -> 0.25 | BM20: =INDEX(PkgTable,$CA20,MATCH(BM$2,PkgTblHdr,0)) -> 4 | BN20: =INDEX(PkgTable,$CA20,MATCH(BN$2,PkgTblHdr,0)) -> 0.5 | BO20: =INDEX(PkgTable,$CA20,MATCH(BO$2,PkgTblHdr,0)) -> 1 | BP20: =INDEX(PkgTable,$CA20,MATCH(BP$2,PkgTblHdr,0)) -> 1.3 | ... BX20: =INDEX(PkgTable,$CA20,MATCH(BX$2,PkgTblHdr,0)) -> 0.6 | BY20: =BJ20-(Lead_Extend_Length+Config_Stand_Off-2*Lead_Bend_Radius)-(Case_Diameter+Config_Lead_Spacing*25.4/1000+Lead_Bend_Radius*PI()-Case_Length)/2 -> 9.0825222 | BZ20: =INDEX(PkgTable,$CA20,MATCH(BZ$2,PkgTblHdr,0)) -> 0.2 | CA20: =MATCH($AZ20,'Package Dimensions'!$B:$B,0)-2 -> 5 | CB20: =COUNTIF($AZ:$AZ,$AZ20) -> 10 | CC20: =IF($AY20,1,CC19+1) -> 4 | CD20: =INDEX(PkgTable,$CA20,MATCH(CD$2,PkgTblHdr,0)) -> 2 | CE20: =INDEX(PkgTable,$CA20,MATCH(CE$2,PkgTblHdr,0)) -> 5 | CF20: =1+MOD((CC20-MOD(CC20-1,CE20)-1)/CE20,CD20) -> 1 | CG20: =MOD($CC20-1,$CE20)+1 -> 4 | CH20: =CD20*CE20 -> 10 | CK20: {=IFERROR(MATCH(FALSE,$A20:$AX20=Sheet1!$A20:$AX20,0),0)} -> 0
A21: =TRIM($AZ21&" "&$BG21&$BH21) -> DO-35 AXIAL-0.25 [20.0] | B21: =TRIM($AZ21&" "&$BG21&$BH21&INDEX(PkgTable,$CA21,MATCH("Package Material",PkgTblHdr,0))) -> DO-35 AXIAL-0.25 [20.0] Glass | C21: =IF($AY21,"$C","$P") -> $P | D21: =INDEX(PkgTable,$CA21,MATCH(D$2,PkgTblHdr,0)) -> 16777215 | E21: ="="&INDEX(PkgInstanceValues,1,MATCH(MID(E$2,1+LEN("$VALUE@"),LEN(E$2)-LEN("$Value@@Equations")),PkgInstanceHdr,0))&"mm" -> =2mm | F21: ="="&INDEX(PkgInstanceValues,1,MATCH(MID(F$2,1+LEN("$VALUE@"),LEN(F$2)-LEN("$Value@@Equations")),PkgInstanceHdr,0))&"mm" -> =28mm | G21: ="="&$BF21&"mm" -> =20mm | H21: ="="&INDEX(PkgInstanceValues,1,MATCH(MID(H$2,1+LEN("$VALUE@"),LEN(H$2)-LEN("$Value@@Equations")),PkgInstanceHdr,0))&"mm" -> =0.25mm | I21: ="="&INDEX(PkgInstanceValues,1,MATCH(MID(I$2,1+LEN("$VALUE@"),LEN(I$2)-LEN("$Value@@Equations")),PkgInstanceHdr,0))&"mm" -> =4mm | J21: ="="&INDEX(PkgInstanceValues,1,MATCH(MID(J$2,1+LEN("$VALUE@"),LEN(J$2)-LEN("$Value@@Equations")),PkgInstanceHdr,0))&"mm" -> =0.5mm | K21: ="="&INDEX(PkgInstanceValues,1,MATCH(MID(K$2,1+LEN("$VALUE@"),LEN(K$2)-LEN("$Value@@Equations")),PkgInstanceHdr,0))&"mm" -> =1mm | L21: ="="&INDEX(PkgInstanceValues,1,MATCH(MID(L$2,1+LEN("$VALUE@"),LEN(L$2)-LEN("$Value@@Equations")),PkgInstanceHdr,0))&"mm" -> =1.3mm | M21: ="="&INDEX(PkgInstanceValues,1,MATCH(MID(M$2,1+LEN("$VALUE@"),LEN(M$2)-LEN("$Value@@Equations")),PkgInstanceHdr,0))&"mm" -> =0.1mm | N21: ="="&INDEX(PkgInstanceValues,1,MATCH(MID(N$2,1+LEN("$VALUE@"),LEN(N$2)-LEN("$Value@@Equations")),PkgInstanceHdr,0))&"mm" -> =2mm | O21: ="="&$BC21*25.4/1000&"mm" -> =6.35mm | P21: =INDEX(PkgTable,$CA21,MATCH(P$2,PkgTblHdr,0)) -> SOLIDWORKS Materials:Glass | Q21: =IF(ISBLANK($Q20),$A20,$Q20) -> DO-35 | R21: =$BG21 -> AXIAL-0.25 | S21: =IF($AY21,INDEX(PkgTable,$CA21,MATCH(S$2,PkgTblHdr,0)),"") | T21: =IF($AY21,INDEX(PkgTable,$CA21,MATCH(T$2,PkgTblHdr,0)),"") | U21: =IF($AY21,INDEX(PkgTable,$CA21,MATCH(U$2,PkgTblHdr,0)),"") | V21: =IF($AY21,INDEX(PkgTable,$CA21,MATCH(V$2,PkgTblHdr,0)),"") | W21: =IF($AY21,INDEX(PkgTable,$CA21,MATCH(W$2,PkgTblHdr,0)),"") | X21: =IF($AY21,INDEX(PkgTable,$CA21,MATCH(X$2,PkgTblHdr,0)),"") | Y21: =IF($AY21,INDEX(PkgTable,$CA21,MATCH(Y$2,PkgTblHdr,0)),"") | Z21: =IF($AY21,INDEX(PkgTable,$CA21,MATCH(Z$2,PkgTblHdr,0)),"") | ... AE21: =IF($AY21,INDEX(PkgTable,$CA21,MATCH(AE$2,PkgTblHdr,0)),"") | AG21: ="="&INDEX(PkgInstanceValues,1,MATCH(MID(AG$2,1+LEN("$VALUE@"),LEN(AG$2)-LEN("$Value@@Equations")),PkgInstanceHdr,0))&"mm" -> =0.4mm | AH21: ="="&INDEX(PkgInstanceValues,1,MATCH(MID(AH$2,1+LEN("$VALUE@"),LEN(AH$2)-LEN("$Value@@Equations")),PkgInstanceHdr,0))&"mm" -> =0.4mm | AI21: ="="&INDEX(PkgInstanceValues,1,MATCH(MID(AI$2,1+LEN("$VALUE@"),LEN(AI$2)-LEN("$Value@@Equations")),PkgInstanceHdr,0))&"mm" -> =6.28318530717959mm | AJ21: ="="&INDEX(PkgInstanceValues,1,MATCH(MID(AJ$2,1+LEN("$VALUE@"),LEN(AJ$2)-LEN("$Value@@Equations")),PkgInstanceHdr,0))&"mm" -> =0.6mm | AK21: =IF($AY21,"U","") | AL21: =IF($AY21,"U","") | AM21: =IF($AY21,"U","") | AN21: ="="&INDEX(PkgInstanceValues,1,MATCH(MID(AN$2,1+LEN("$VALUE@"),LEN(AN$2)-LEN("$Value@@Equations")),PkgInstanceHdr,0))&"mm" -> =0.16mm | AO21: ="="&INDEX(PkgInstanceValues,1,MATCH(MID(AO$2,1+LEN("$VALUE@"),LEN(AO$2)-LEN("$Value@@Equations")),PkgInstanceHdr,0))&"mm" -> =0.2mm | AY21: =ISBLANK($Q21) -> FALSE | AZ21: =IF(Parent?,$A21,$Q21) -> DO-35 | BA21: =INDEX(PkgTable,$CA21,MATCH(BA$2,PkgTblHdr,0)) -> 250 | BB21: =INDEX(PkgTable,$CA21,MATCH(BB$2,PkgTblHdr,0)) -> 100 | BC21: =$BA21+$BB21*($CF21-1)-IF(AND($BB21>0,$CF21>1),MOD($BA21,$BB21),0) -> 250 | BD21: =INDEX(PkgTable,$CA21,MATCH(BD$2,PkgTblHdr,0)) -> 1 | BE21: =INDEX(PkgTable,$CA21,MATCH(BE$2,PkgTblHdr,0)) -> 5 | BF21: =$BD21+$BE21*($CG21-1)-IF(AND($BE21>0,$CG21>1),MOD($BD21,$BE21),0) -> 20 | BG21: ="AXIAL-"&TEXT($BC21/1000,"0.0##")&" " -> AXIAL-0.25 | BH21: =IF(BF21=1,"","["&TEXT(BF21,"00.0##")&"] ") -> [20.0] | BI21: =INDEX(PkgTable,$CA21,MATCH(BI$2,PkgTblHdr,0)) -> 2 | BJ21: =INDEX(PkgTable,$CA21,MATCH(BJ$2,PkgTblHdr,0)) -> 28 | BK21: =INDEX(PkgTable,$CA21,MATCH(BK$2,PkgTblHdr,0)) -> 1 | BL21: =INDEX(PkgTable,$CA21,MATCH(BL$2,PkgTblHdr,0)) -> 0.25 | BM21: =INDEX(PkgTable,$CA21,MATCH(BM$2,PkgTblHdr,0)) -> 4 | BN21: =INDEX(PkgTable,$CA21,MATCH(BN$2,PkgTblHdr,0)) -> 0.5 | BO21: =INDEX(PkgTable,$CA21,MATCH(BO$2,PkgTblHdr,0)) -> 1 | BP21: =INDEX(PkgTable,$CA21,MATCH(BP$2,PkgTblHdr,0)) -> 1.3 | ... BX21: =INDEX(PkgTable,$CA21,MATCH(BX$2,PkgTblHdr,0)) -> 0.6 | BY21: =BJ21-(Lead_Extend_Length+Config_Stand_Off-2*Lead_Bend_Radius)-(Case_Diameter+Config_Lead_Spacing*25.4/1000+Lead_Bend_Radius*PI()-Case_Length)/2 -> 4.0825222 | BZ21: =INDEX(PkgTable,$CA21,MATCH(BZ$2,PkgTblHdr,0)) -> 0.2 | CA21: =MATCH($AZ21,'Package Dimensions'!$B:$B,0)-2 -> 5 | CB21: =COUNTIF($AZ:$AZ,$AZ21) -> 10 | CC21: =IF($AY21,1,CC20+1) -> 5 | CD21: =INDEX(PkgTable,$CA21,MATCH(CD$2,PkgTblHdr,0)) -> 2 | CE21: =INDEX(PkgTable,$CA21,MATCH(CE$2,PkgTblHdr,0)) -> 5 | CF21: =1+MOD((CC21-MOD(CC21-1,CE21)-1)/CE21,CD21) -> 1 | CG21: =MOD($CC21-1,$CE21)+1 -> 5 | CH21: =CD21*CE21 -> 10 | CK21: {=IFERROR(MATCH(FALSE,$A21:$AX21=Sheet1!$A21:$AX21,0),0)} -> 0
A22: =TRIM($AZ22&" "&$BG22&$BH22) -> DO-35 AXIAL-0.3 | B22: =TRIM($AZ22&" "&$BG22&$BH22&INDEX(PkgTable,$CA22,MATCH("Package Material",PkgTblHdr,0))) -> DO-35 AXIAL-0.3 Glass | C22: =IF($AY22,"$C","$P") -> $P | D22: =INDEX(PkgTable,$CA22,MATCH(D$2,PkgTblHdr,0)) -> 16777215 | E22: ="="&INDEX(PkgInstanceValues,1,MATCH(MID(E$2,1+LEN("$VALUE@"),LEN(E$2)-LEN("$Value@@Equations")),PkgInstanceHdr,0))&"mm" -> =2mm | F22: ="="&INDEX(PkgInstanceValues,1,MATCH(MID(F$2,1+LEN("$VALUE@"),LEN(F$2)-LEN("$Value@@Equations")),PkgInstanceHdr,0))&"mm" -> =28mm | G22: ="="&$BF22&"mm" -> =1mm | H22: ="="&INDEX(PkgInstanceValues,1,MATCH(MID(H$2,1+LEN("$VALUE@"),LEN(H$2)-LEN("$Value@@Equations")),PkgInstanceHdr,0))&"mm" -> =0.25mm | I22: ="="&INDEX(PkgInstanceValues,1,MATCH(MID(I$2,1+LEN("$VALUE@"),LEN(I$2)-LEN("$Value@@Equations")),PkgInstanceHdr,0))&"mm" -> =4mm | J22: ="="&INDEX(PkgInstanceValues,1,MATCH(MID(J$2,1+LEN("$VALUE@"),LEN(J$2)-LEN("$Value@@Equations")),PkgInstanceHdr,0))&"mm" -> =0.5mm | K22: ="="&INDEX(PkgInstanceValues,1,MATCH(MID(K$2,1+LEN("$VALUE@"),LEN(K$2)-LEN("$Value@@Equations")),PkgInstanceHdr,0))&"mm" -> =1mm | L22: ="="&INDEX(PkgInstanceValues,1,MATCH(MID(L$2,1+LEN("$VALUE@"),LEN(L$2)-LEN("$Value@@Equations")),PkgInstanceHdr,0))&"mm" -> =1.3mm | M22: ="="&INDEX(PkgInstanceValues,1,MATCH(MID(M$2,1+LEN("$VALUE@"),LEN(M$2)-LEN("$Value@@Equations")),PkgInstanceHdr,0))&"mm" -> =0.1mm | N22: ="="&INDEX(PkgInstanceValues,1,MATCH(MID(N$2,1+LEN("$VALUE@"),LEN(N$2)-LEN("$Value@@Equations")),PkgInstanceHdr,0))&"mm" -> =2mm | O22: ="="&$BC22*25.4/1000&"mm" -> =7.62mm | P22: =INDEX(PkgTable,$CA22,MATCH(P$2,PkgTblHdr,0)) -> SOLIDWORKS Materials:Glass | Q22: =IF(ISBLANK($Q21),$A21,$Q21) -> DO-35 | R22: =$BG22 -> AXIAL-0.3 | S22: =IF($AY22,INDEX(PkgTable,$CA22,MATCH(S$2,PkgTblHdr,0)),"") | T22: =IF($AY22,INDEX(PkgTable,$CA22,MATCH(T$2,PkgTblHdr,0)),"") | U22: =IF($AY22,INDEX(PkgTable,$CA22,MATCH(U$2,PkgTblHdr,0)),"") | V22: =IF($AY22,INDEX(PkgTable,$CA22,MATCH(V$2,PkgTblHdr,0)),"") | W22: =IF($AY22,INDEX(PkgTable,$CA22,MATCH(W$2,PkgTblHdr,0)),"") | X22: =IF($AY22,INDEX(PkgTable,$CA22,MATCH(X$2,PkgTblHdr,0)),"") | Y22: =IF($AY22,INDEX(PkgTable,$CA22,MATCH(Y$2,PkgTblHdr,0)),"") | Z22: =IF($AY22,INDEX(PkgTable,$CA22,MATCH(Z$2,PkgTblHdr,0)),"") | ... AE22: =IF($AY22,INDEX(PkgTable,$CA22,MATCH(AE$2,PkgTblHdr,0)),"") | AG22: ="="&INDEX(PkgInstanceValues,1,MATCH(MID(AG$2,1+LEN("$VALUE@"),LEN(AG$2)-LEN("$Value@@Equations")),PkgInstanceHdr,0))&"mm" -> =0.4mm | AH22: ="="&INDEX(PkgInstanceValues,1,MATCH(MID(AH$2,1+LEN("$VALUE@"),LEN(AH$2)-LEN("$Value@@Equations")),PkgInstanceHdr,0))&"mm" -> =0.4mm | AI22: ="="&INDEX(PkgInstanceValues,1,MATCH(MID(AI$2,1+LEN("$VALUE@"),LEN(AI$2)-LEN("$Value@@Equations")),PkgInstanceHdr,0))&"mm" -> =6.28318530717959mm | AJ22: ="="&INDEX(PkgInstanceValues,1,MATCH(MID(AJ$2,1+LEN("$VALUE@"),LEN(AJ$2)-LEN("$Value@@Equations")),PkgInstanceHdr,0))&"mm" -> =0.6mm | AK22: =IF($AY22,"U","") | AL22: =IF($AY22,"U","") | AM22: =IF($AY22,"U","") | AN22: ="="&INDEX(PkgInstanceValues,1,MATCH(MID(AN$2,1+LEN("$VALUE@"),LEN(AN$2)-LEN("$Value@@Equations")),PkgInstanceHdr,0))&"mm" -> =0.16mm | AO22: ="="&INDEX(PkgInstanceValues,1,MATCH(MID(AO$2,1+LEN("$VALUE@"),LEN(AO$2)-LEN("$Value@@Equations")),PkgInstanceHdr,0))&"mm" -> =0.2mm | AY22: =ISBLANK($Q22) -> FALSE | AZ22: =IF(Parent?,$A22,$Q22) -> DO-35 | BA22: =INDEX(PkgTable,$CA22,MATCH(BA$2,PkgTblHdr,0)) -> 250 | BB22: =INDEX(PkgTable,$CA22,MATCH(BB$2,PkgTblHdr,0)) -> 100 | BC22: =$BA22+$BB22*($CF22-1)-IF(AND($BB22>0,$CF22>1),MOD($BA22,$BB22),0) -> 300 | BD22: =INDEX(PkgTable,$CA22,MATCH(BD$2,PkgTblHdr,0)) -> 1 | BE22: =INDEX(PkgTable,$CA22,MATCH(BE$2,PkgTblHdr,0)) -> 5 | BF22: =$BD22+$BE22*($CG22-1)-IF(AND($BE22>0,$CG22>1),MOD($BD22,$BE22),0) -> 1 | BG22: ="AXIAL-"&TEXT($BC22/1000,"0.0##")&" " -> AXIAL-0.3 | BH22: =IF(BF22=1,"","["&TEXT(BF22,"00.0##")&"] ") | BI22: =INDEX(PkgTable,$CA22,MATCH(BI$2,PkgTblHdr,0)) -> 2 | BJ22: =INDEX(PkgTable,$CA22,MATCH(BJ$2,PkgTblHdr,0)) -> 28 | BK22: =INDEX(PkgTable,$CA22,MATCH(BK$2,PkgTblHdr,0)) -> 1 | BL22: =INDEX(PkgTable,$CA22,MATCH(BL$2,PkgTblHdr,0)) -> 0.25 | BM22: =INDEX(PkgTable,$CA22,MATCH(BM$2,PkgTblHdr,0)) -> 4 | BN22: =INDEX(PkgTable,$CA22,MATCH(BN$2,PkgTblHdr,0)) -> 0.5 | BO22: =INDEX(PkgTable,$CA22,MATCH(BO$2,PkgTblHdr,0)) -> 1 | BP22: =INDEX(PkgTable,$CA22,MATCH(BP$2,PkgTblHdr,0)) -> 1.3 | ... BX22: =INDEX(PkgTable,$CA22,MATCH(BX$2,PkgTblHdr,0)) -> 0.6 | BY22: =BJ22-(Lead_Extend_Length+Config_Stand_Off-2*Lead_Bend_Radius)-(Case_Diameter+Config_Lead_Spacing*25.4/1000+Lead_Bend_Radius*PI()-Case_Length)/2 -> 22.447522 | BZ22: =INDEX(PkgTable,$CA22,MATCH(BZ$2,PkgTblHdr,0)) -> 0.2 | CA22: =MATCH($AZ22,'Package Dimensions'!$B:$B,0)-2 -> 5 | CB22: =COUNTIF($AZ:$AZ,$AZ22) -> 10 | CC22: =IF($AY22,1,CC21+1) -> 6 | CD22: =INDEX(PkgTable,$CA22,MATCH(CD$2,PkgTblHdr,0)) -> 2 | CE22: =INDEX(PkgTable,$CA22,MATCH(CE$2,PkgTblHdr,0)) -> 5 | CF22: =1+MOD((CC22-MOD(CC22-1,CE22)-1)/CE22,CD22) -> 2 | CG22: =MOD($CC22-1,$CE22)+1 -> 1 | CH22: =CD22*CE22 -> 10 | CK22: {=IFERROR(MATCH(FALSE,$A22:$AX22=Sheet1!$A22:$AX22,0),0)} -> 0
A23: =TRIM($AZ23&" "&$BG23&$BH23) -> DO-35 AXIAL-0.3 [05.0] | B23: =TRIM($AZ23&" "&$BG23&$BH23&INDEX(PkgTable,$CA23,MATCH("Package Material",PkgTblHdr,0))) -> DO-35 AXIAL-0.3 [05.0] Glass | C23: =IF($AY23,"$C","$P") -> $P | D23: =INDEX(PkgTable,$CA23,MATCH(D$2,PkgTblHdr,0)) -> 16777215 | E23: ="="&INDEX(PkgInstanceValues,1,MATCH(MID(E$2,1+LEN("$VALUE@"),LEN(E$2)-LEN("$Value@@Equations")),PkgInstanceHdr,0))&"mm" -> =2mm | F23: ="="&INDEX(PkgInstanceValues,1,MATCH(MID(F$2,1+LEN("$VALUE@"),LEN(F$2)-LEN("$Value@@Equations")),PkgInstanceHdr,0))&"mm" -> =28mm | G23: ="="&$BF23&"mm" -> =5mm | H23: ="="&INDEX(PkgInstanceValues,1,MATCH(MID(H$2,1+LEN("$VALUE@"),LEN(H$2)-LEN("$Value@@Equations")),PkgInstanceHdr,0))&"mm" -> =0.25mm | I23: ="="&INDEX(PkgInstanceValues,1,MATCH(MID(I$2,1+LEN("$VALUE@"),LEN(I$2)-LEN("$Value@@Equations")),PkgInstanceHdr,0))&"mm" -> =4mm | J23: ="="&INDEX(PkgInstanceValues,1,MATCH(MID(J$2,1+LEN("$VALUE@"),LEN(J$2)-LEN("$Value@@Equations")),PkgInstanceHdr,0))&"mm" -> =0.5mm | K23: ="="&INDEX(PkgInstanceValues,1,MATCH(MID(K$2,1+LEN("$VALUE@"),LEN(K$2)-LEN("$Value@@Equations")),PkgInstanceHdr,0))&"mm" -> =1mm | L23: ="="&INDEX(PkgInstanceValues,1,MATCH(MID(L$2,1+LEN("$VALUE@"),LEN(L$2)-LEN("$Value@@Equations")),PkgInstanceHdr,0))&"mm" -> =1.3mm | M23: ="="&INDEX(PkgInstanceValues,1,MATCH(MID(M$2,1+LEN("$VALUE@"),LEN(M$2)-LEN("$Value@@Equations")),PkgInstanceHdr,0))&"mm" -> =0.1mm | N23: ="="&INDEX(PkgInstanceValues,1,MATCH(MID(N$2,1+LEN("$VALUE@"),LEN(N$2)-LEN("$Value@@Equations")),PkgInstanceHdr,0))&"mm" -> =2mm | O23: ="="&$BC23*25.4/1000&"mm" -> =7.62mm | P23: =INDEX(PkgTable,$CA23,MATCH(P$2,PkgTblHdr,0)) -> SOLIDWORKS Materials:Glass | Q23: =IF(ISBLANK($Q22),$A22,$Q22) -> DO-35 | R23: =$BG23 -> AXIAL-0.3 | S23: =IF($AY23,INDEX(PkgTable,$CA23,MATCH(S$2,PkgTblHdr,0)),"") | T23: =IF($AY23,INDEX(PkgTable,$CA23,MATCH(T$2,PkgTblHdr,0)),"") | U23: =IF($AY23,INDEX(PkgTable,$CA23,MATCH(U$2,PkgTblHdr,0)),"") | V23: =IF($AY23,INDEX(PkgTable,$CA23,MATCH(V$2,PkgTblHdr,0)),"") | W23: =IF($AY23,INDEX(PkgTable,$CA23,MATCH(W$2,PkgTblHdr,0)),"") | X23: =IF($AY23,INDEX(PkgTable,$CA23,MATCH(X$2,PkgTblHdr,0)),"") | Y23: =IF($AY23,INDEX(PkgTable,$CA23,MATCH(Y$2,PkgTblHdr,0)),"") | Z23: =IF($AY23,INDEX(PkgTable,$CA23,MATCH(Z$2,PkgTblHdr,0)),"") | ... AE23: =IF($AY23,INDEX(PkgTable,$CA23,MATCH(AE$2,PkgTblHdr,0)),"") | AG23: ="="&INDEX(PkgInstanceValues,1,MATCH(MID(AG$2,1+LEN("$VALUE@"),LEN(AG$2)-LEN("$Value@@Equations")),PkgInstanceHdr,0))&"mm" -> =0.4mm | AH23: ="="&INDEX(PkgInstanceValues,1,MATCH(MID(AH$2,1+LEN("$VALUE@"),LEN(AH$2)-LEN("$Value@@Equations")),PkgInstanceHdr,0))&"mm" -> =0.4mm | AI23: ="="&INDEX(PkgInstanceValues,1,MATCH(MID(AI$2,1+LEN("$VALUE@"),LEN(AI$2)-LEN("$Value@@Equations")),PkgInstanceHdr,0))&"mm" -> =6.28318530717959mm | AJ23: ="="&INDEX(PkgInstanceValues,1,MATCH(MID(AJ$2,1+LEN("$VALUE@"),LEN(AJ$2)-LEN("$Value@@Equations")),PkgInstanceHdr,0))&"mm" -> =0.6mm | AK23: =IF($AY23,"U","") | AL23: =IF($AY23,"U","") | AM23: =IF($AY23,"U","") | AN23: ="="&INDEX(PkgInstanceValues,1,MATCH(MID(AN$2,1+LEN("$VALUE@"),LEN(AN$2)-LEN("$Value@@Equations")),PkgInstanceHdr,0))&"mm" -> =0.16mm | AO23: ="="&INDEX(PkgInstanceValues,1,MATCH(MID(AO$2,1+LEN("$VALUE@"),LEN(AO$2)-LEN("$Value@@Equations")),PkgInstanceHdr,0))&"mm" -> =0.2mm | AY23: =ISBLANK($Q23) -> FALSE | AZ23: =IF(Parent?,$A23,$Q23) -> DO-35 | BA23: =INDEX(PkgTable,$CA23,MATCH(BA$2,PkgTblHdr,0)) -> 250 | BB23: =INDEX(PkgTable,$CA23,MATCH(BB$2,PkgTblHdr,0)) -> 100 | BC23: =$BA23+$BB23*($CF23-1)-IF(AND($BB23>0,$CF23>1),MOD($BA23,$BB23),0) -> 300 | BD23: =INDEX(PkgTable,$CA23,MATCH(BD$2,PkgTblHdr,0)) -> 1 | BE23: =INDEX(PkgTable,$CA23,MATCH(BE$2,PkgTblHdr,0)) -> 5 | BF23: =$BD23+$BE23*($CG23-1)-IF(AND($BE23>0,$CG23>1),MOD($BD23,$BE23),0) -> 5 | BG23: ="AXIAL-"&TEXT($BC23/1000,"0.0##")&" " -> AXIAL-0.3 | BH23: =IF(BF23=1,"","["&TEXT(BF23,"00.0##")&"] ") -> [05.0] | BI23: =INDEX(PkgTable,$CA23,MATCH(BI$2,PkgTblHdr,0)) -> 2 | BJ23: =INDEX(PkgTable,$CA23,MATCH(BJ$2,PkgTblHdr,0)) -> 28 | BK23: =INDEX(PkgTable,$CA23,MATCH(BK$2,PkgTblHdr,0)) -> 1 | BL23: =INDEX(PkgTable,$CA23,MATCH(BL$2,PkgTblHdr,0)) -> 0.25 | BM23: =INDEX(PkgTable,$CA23,MATCH(BM$2,PkgTblHdr,0)) -> 4 | BN23: =INDEX(PkgTable,$CA23,MATCH(BN$2,PkgTblHdr,0)) -> 0.5 | BO23: =INDEX(PkgTable,$CA23,MATCH(BO$2,PkgTblHdr,0)) -> 1 | BP23: =INDEX(PkgTable,$CA23,MATCH(BP$2,PkgTblHdr,0)) -> 1.3 | ... BX23: =INDEX(PkgTable,$CA23,MATCH(BX$2,PkgTblHdr,0)) -> 0.6 | BY23: =BJ23-(Lead_Extend_Length+Config_Stand_Off-2*Lead_Bend_Radius)-(Case_Diameter+Config_Lead_Spacing*25.4/1000+Lead_Bend_Radius*PI()-Case_Length)/2 -> 18.447522 | BZ23: =INDEX(PkgTable,$CA23,MATCH(BZ$2,PkgTblHdr,0)) -> 0.2 | CA23: =MATCH($AZ23,'Package Dimensions'!$B:$B,0)-2 -> 5 | CB23: =COUNTIF($AZ:$AZ,$AZ23) -> 10 | CC23: =IF($AY23,1,CC22+1) -> 7 | CD23: =INDEX(PkgTable,$CA23,MATCH(CD$2,PkgTblHdr,0)) -> 2 | CE23: =INDEX(PkgTable,$CA23,MATCH(CE$2,PkgTblHdr,0)) -> 5 | CF23: =1+MOD((CC23-MOD(CC23-1,CE23)-1)/CE23,CD23) -> 2 | CG23: =MOD($CC23-1,$CE23)+1 -> 2 | CH23: =CD23*CE23 -> 10 | CK23: {=IFERROR(MATCH(FALSE,$A23:$AX23=Sheet1!$A23:$AX23,0),0)} -> 0
A24: =TRIM($AZ24&" "&$BG24&$BH24) -> DO-35 AXIAL-0.3 [10.0] | B24: =TRIM($AZ24&" "&$BG24&$BH24&INDEX(PkgTable,$CA24,MATCH("Package Material",PkgTblHdr,0))) -> DO-35 AXIAL-0.3 [10.0] Glass | C24: =IF($AY24,"$C","$P") -> $P | D24: =INDEX(PkgTable,$CA24,MATCH(D$2,PkgTblHdr,0)) -> 16777215 | E24: ="="&INDEX(PkgInstanceValues,1,MATCH(MID(E$2,1+LEN("$VALUE@"),LEN(E$2)-LEN("$Value@@Equations")),PkgInstanceHdr,0))&"mm" -> =2mm | F24: ="="&INDEX(PkgInstanceValues,1,MATCH(MID(F$2,1+LEN("$VALUE@"),LEN(F$2)-LEN("$Value@@Equations")),PkgInstanceHdr,0))&"mm" -> =28mm | G24: ="="&$BF24&"mm" -> =10mm | H24: ="="&INDEX(PkgInstanceValues,1,MATCH(MID(H$2,1+LEN("$VALUE@"),LEN(H$2)-LEN("$Value@@Equations")),PkgInstanceHdr,0))&"mm" -> =0.25mm | I24: ="="&INDEX(PkgInstanceValues,1,MATCH(MID(I$2,1+LEN("$VALUE@"),LEN(I$2)-LEN("$Value@@Equations")),PkgInstanceHdr,0))&"mm" -> =4mm | J24: ="="&INDEX(PkgInstanceValues,1,MATCH(MID(J$2,1+LEN("$VALUE@"),LEN(J$2)-LEN("$Value@@Equations")),PkgInstanceHdr,0))&"mm" -> =0.5mm | K24: ="="&INDEX(PkgInstanceValues,1,MATCH(MID(K$2,1+LEN("$VALUE@"),LEN(K$2)-LEN("$Value@@Equations")),PkgInstanceHdr,0))&"mm" -> =1mm | L24: ="="&INDEX(PkgInstanceValues,1,MATCH(MID(L$2,1+LEN("$VALUE@"),LEN(L$2)-LEN("$Value@@Equations")),PkgInstanceHdr,0))&"mm" -> =1.3mm | M24: ="="&INDEX(PkgInstanceValues,1,MATCH(MID(M$2,1+LEN("$VALUE@"),LEN(M$2)-LEN("$Value@@Equations")),PkgInstanceHdr,0))&"mm" -> =0.1mm | N24: ="="&INDEX(PkgInstanceValues,1,MATCH(MID(N$2,1+LEN("$VALUE@"),LEN(N$2)-LEN("$Value@@Equations")),PkgInstanceHdr,0))&"mm" -> =2mm | O24: ="="&$BC24*25.4/1000&"mm" -> =7.62mm | P24: =INDEX(PkgTable,$CA24,MATCH(P$2,PkgTblHdr,0)) -> SOLIDWORKS Materials:Glass | Q24: =IF(ISBLANK($Q23),$A23,$Q23) -> DO-35 | R24: =$BG24 -> AXIAL-0.3 | S24: =IF($AY24,INDEX(PkgTable,$CA24,MATCH(S$2,PkgTblHdr,0)),"") | T24: =IF($AY24,INDEX(PkgTable,$CA24,MATCH(T$2,PkgTblHdr,0)),"") | U24: =IF($AY24,INDEX(PkgTable,$CA24,MATCH(U$2,PkgTblHdr,0)),"") | V24: =IF($AY24,INDEX(PkgTable,$CA24,MATCH(V$2,PkgTblHdr,0)),"") | W24: =IF($AY24,INDEX(PkgTable,$CA24,MATCH(W$2,PkgTblHdr,0)),"") | X24: =IF($AY24,INDEX(PkgTable,$CA24,MATCH(X$2,PkgTblHdr,0)),"") | Y24: =IF($AY24,INDEX(PkgTable,$CA24,MATCH(Y$2,PkgTblHdr,0)),"") | Z24: =IF($AY24,INDEX(PkgTable,$CA24,MATCH(Z$2,PkgTblHdr,0)),"") | ... AE24: =IF($AY24,INDEX(PkgTable,$CA24,MATCH(AE$2,PkgTblHdr,0)),"") | AG24: ="="&INDEX(PkgInstanceValues,1,MATCH(MID(AG$2,1+LEN("$VALUE@"),LEN(AG$2)-LEN("$Value@@Equations")),PkgInstanceHdr,0))&"mm" -> =0.4mm | AH24: ="="&INDEX(PkgInstanceValues,1,MATCH(MID(AH$2,1+LEN("$VALUE@"),LEN(AH$2)-LEN("$Value@@Equations")),PkgInstanceHdr,0))&"mm" -> =0.4mm | AI24: ="="&INDEX(PkgInstanceValues,1,MATCH(MID(AI$2,1+LEN("$VALUE@"),LEN(AI$2)-LEN("$Value@@Equations")),PkgInstanceHdr,0))&"mm" -> =6.28318530717959mm | AJ24: ="="&INDEX(PkgInstanceValues,1,MATCH(MID(AJ$2,1+LEN("$VALUE@"),LEN(AJ$2)-LEN("$Value@@Equations")),PkgInstanceHdr,0))&"mm" -> =0.6mm | AK24: =IF($AY24,"U","") | AL24: =IF($AY24,"U","") | AM24: =IF($AY24,"U","") | AN24: ="="&INDEX(PkgInstanceValues,1,MATCH(MID(AN$2,1+LEN("$VALUE@"),LEN(AN$2)-LEN("$Value@@Equations")),PkgInstanceHdr,0))&"mm" -> =0.16mm | AO24: ="="&INDEX(PkgInstanceValues,1,MATCH(MID(AO$2,1+LEN("$VALUE@"),LEN(AO$2)-LEN("$Value@@Equations")),PkgInstanceHdr,0))&"mm" -> =0.2mm | AY24: =ISBLANK($Q24) -> FALSE | AZ24: =IF(Parent?,$A24,$Q24) -> DO-35 | BA24: =INDEX(PkgTable,$CA24,MATCH(BA$2,PkgTblHdr,0)) -> 250 | BB24: =INDEX(PkgTable,$CA24,MATCH(BB$2,PkgTblHdr,0)) -> 100 | BC24: =$BA24+$BB24*($CF24-1)-IF(AND($BB24>0,$CF24>1),MOD($BA24,$BB24),0) -> 300 | BD24: =INDEX(PkgTable,$CA24,MATCH(BD$2,PkgTblHdr,0)) -> 1 | BE24: =INDEX(PkgTable,$CA24,MATCH(BE$2,PkgTblHdr,0)) -> 5 | BF24: =$BD24+$BE24*($CG24-1)-IF(AND($BE24>0,$CG24>1),MOD($BD24,$BE24),0) -> 10 | BG24: ="AXIAL-"&TEXT($BC24/1000,"0.0##")&" " -> AXIAL-0.3 | BH24: =IF(BF24=1,"","["&TEXT(BF24,"00.0##")&"] ") -> [10.0] | BI24: =INDEX(PkgTable,$CA24,MATCH(BI$2,PkgTblHdr,0)) -> 2 | BJ24: =INDEX(PkgTable,$CA24,MATCH(BJ$2,PkgTblHdr,0)) -> 28 | BK24: =INDEX(PkgTable,$CA24,MATCH(BK$2,PkgTblHdr,0)) -> 1 | BL24: =INDEX(PkgTable,$CA24,MATCH(BL$2,PkgTblHdr,0)) -> 0.25 | BM24: =INDEX(PkgTable,$CA24,MATCH(BM$2,PkgTblHdr,0)) -> 4 | BN24: =INDEX(PkgTable,$CA24,MATCH(BN$2,PkgTblHdr,0)) -> 0.5 | BO24: =INDEX(PkgTable,$CA24,MATCH(BO$2,PkgTblHdr,0)) -> 1 | BP24: =INDEX(PkgTable,$CA24,MATCH(BP$2,PkgTblHdr,0)) -> 1.3 | ... BX24: =INDEX(PkgTable,$CA24,MATCH(BX$2,PkgTblHdr,0)) -> 0.6 | BY24: =BJ24-(Lead_Extend_Length+Config_Stand_Off-2*Lead_Bend_Radius)-(Case_Diameter+Config_Lead_Spacing*25.4/1000+Lead_Bend_Radius*PI()-Case_Length)/2 -> 13.447522 | BZ24: =INDEX(PkgTable,$CA24,MATCH(BZ$2,PkgTblHdr,0)) -> 0.2 | CA24: =MATCH($AZ24,'Package Dimensions'!$B:$B,0)-2 -> 5 | CB24: =COUNTIF($AZ:$AZ,$AZ24) -> 10 | CC24: =IF($AY24,1,CC23+1) -> 8 | CD24: =INDEX(PkgTable,$CA24,MATCH(CD$2,PkgTblHdr,0)) -> 2 | CE24: =INDEX(PkgTable,$CA24,MATCH(CE$2,PkgTblHdr,0)) -> 5 | CF24: =1+MOD((CC24-MOD(CC24-1,CE24)-1)/CE24,CD24) -> 2 | CG24: =MOD($CC24-1,$CE24)+1 -> 3 | CH24: =CD24*CE24 -> 10 | CK24: {=IFERROR(MATCH(FALSE,$A24:$AX24=Sheet1!$A24:$AX24,0),0)} -> 0
A25: =TRIM($AZ25&" "&$BG25&$BH25) -> DO-35 AXIAL-0.3 [15.0] | B25: =TRIM($AZ25&" "&$BG25&$BH25&INDEX(PkgTable,$CA25,MATCH("Package Material",PkgTblHdr,0))) -> DO-35 AXIAL-0.3 [15.0] Glass | C25: =IF($AY25,"$C","$P") -> $P | D25: =INDEX(PkgTable,$CA25,MATCH(D$2,PkgTblHdr,0)) -> 16777215 | E25: ="="&INDEX(PkgInstanceValues,1,MATCH(MID(E$2,1+LEN("$VALUE@"),LEN(E$2)-LEN("$Value@@Equations")),PkgInstanceHdr,0))&"mm" -> =2mm | F25: ="="&INDEX(PkgInstanceValues,1,MATCH(MID(F$2,1+LEN("$VALUE@"),LEN(F$2)-LEN("$Value@@Equations")),PkgInstanceHdr,0))&"mm" -> =28mm | G25: ="="&$BF25&"mm" -> =15mm | H25: ="="&INDEX(PkgInstanceValues,1,MATCH(MID(H$2,1+LEN("$VALUE@"),LEN(H$2)-LEN("$Value@@Equations")),PkgInstanceHdr,0))&"mm" -> =0.25mm | I25: ="="&INDEX(PkgInstanceValues,1,MATCH(MID(I$2,1+LEN("$VALUE@"),LEN(I$2)-LEN("$Value@@Equations")),PkgInstanceHdr,0))&"mm" -> =4mm | J25: ="="&INDEX(PkgInstanceValues,1,MATCH(MID(J$2,1+LEN("$VALUE@"),LEN(J$2)-LEN("$Value@@Equations")),PkgInstanceHdr,0))&"mm" -> =0.5mm | K25: ="="&INDEX(PkgInstanceValues,1,MATCH(MID(K$2,1+LEN("$VALUE@"),LEN(K$2)-LEN("$Value@@Equations")),PkgInstanceHdr,0))&"mm" -> =1mm | L25: ="="&INDEX(PkgInstanceValues,1,MATCH(MID(L$2,1+LEN("$VALUE@"),LEN(L$2)-LEN("$Value@@Equations")),PkgInstanceHdr,0))&"mm" -> =1.3mm | M25: ="="&INDEX(PkgInstanceValues,1,MATCH(MID(M$2,1+LEN("$VALUE@"),LEN(M$2)-LEN("$Value@@Equations")),PkgInstanceHdr,0))&"mm" -> =0.1mm | N25: ="="&INDEX(PkgInstanceValues,1,MATCH(MID(N$2,1+LEN("$VALUE@"),LEN(N$2)-LEN("$Value@@Equations")),PkgInstanceHdr,0))&"mm" -> =2mm | O25: ="="&$BC25*25.4/1000&"mm" -> =7.62mm | P25: =INDEX(PkgTable,$CA25,MATCH(P$2,PkgTblHdr,0)) -> SOLIDWORKS Materials:Glass | Q25: =IF(ISBLANK($Q24),$A24,$Q24) -> DO-35 | R25: =$BG25 -> AXIAL-0.3 | S25: =IF($AY25,INDEX(PkgTable,$CA25,MATCH(S$2,PkgTblHdr,0)),"") | T25: =IF($AY25,INDEX(PkgTable,$CA25,MATCH(T$2,PkgTblHdr,0)),"") | U25: =IF($AY25,INDEX(PkgTable,$CA25,MATCH(U$2,PkgTblHdr,0)),"") | V25: =IF($AY25,INDEX(PkgTable,$CA25,MATCH(V$2,PkgTblHdr,0)),"") | W25: =IF($AY25,INDEX(PkgTable,$CA25,MATCH(W$2,PkgTblHdr,0)),"") | X25: =IF($AY25,INDEX(PkgTable,$CA25,MATCH(X$2,PkgTblHdr,0)),"") | Y25: =IF($AY25,INDEX(PkgTable,$CA25,MATCH(Y$2,PkgTblHdr,0)),"") | Z25: =IF($AY25,INDEX(PkgTable,$CA25,MATCH(Z$2,PkgTblHdr,0)),"") | ... AE25: =IF($AY25,INDEX(PkgTable,$CA25,MATCH(AE$2,PkgTblHdr,0)),"") | AG25: ="="&INDEX(PkgInstanceValues,1,MATCH(MID(AG$2,1+LEN("$VALUE@"),LEN(AG$2)-LEN("$Value@@Equations")),PkgInstanceHdr,0))&"mm" -> =0.4mm | AH25: ="="&INDEX(PkgInstanceValues,1,MATCH(MID(AH$2,1+LEN("$VALUE@"),LEN(AH$2)-LEN("$Value@@Equations")),PkgInstanceHdr,0))&"mm" -> =0.4mm | AI25: ="="&INDEX(PkgInstanceValues,1,MATCH(MID(AI$2,1+LEN("$VALUE@"),LEN(AI$2)-LEN("$Value@@Equations")),PkgInstanceHdr,0))&"mm" -> =6.28318530717959mm | AJ25: ="="&INDEX(PkgInstanceValues,1,MATCH(MID(AJ$2,1+LEN("$VALUE@"),LEN(AJ$2)-LEN("$Value@@Equations")),PkgInstanceHdr,0))&"mm" -> =0.6mm | AK25: =IF($AY25,"U","") | AL25: =IF($AY25,"U","") | AM25: =IF($AY25,"U","") | AN25: ="="&INDEX(PkgInstanceValues,1,MATCH(MID(AN$2,1+LEN("$VALUE@"),LEN(AN$2)-LEN("$Value@@Equations")),PkgInstanceHdr,0))&"mm" -> =0.16mm | AO25: ="="&INDEX(PkgInstanceValues,1,MATCH(MID(AO$2,1+LEN("$VALUE@"),LEN(AO$2)-LEN("$Value@@Equations")),PkgInstanceHdr,0))&"mm" -> =0.2mm | AY25: =ISBLANK($Q25) -> FALSE | AZ25: =IF(Parent?,$A25,$Q25) -> DO-35 | BA25: =INDEX(PkgTable,$CA25,MATCH(BA$2,PkgTblHdr,0)) -> 250 | BB25: =INDEX(PkgTable,$CA25,MATCH(BB$2,PkgTblHdr,0)) -> 100 | BC25: =$BA25+$BB25*($CF25-1)-IF(AND($BB25>0,$CF25>1),MOD($BA25,$BB25),0) -> 300 | BD25: =INDEX(PkgTable,$CA25,MATCH(BD$2,PkgTblHdr,0)) -> 1 | BE25: =INDEX(PkgTable,$CA25,MATCH(BE$2,PkgTblHdr,0)) -> 5 | BF25: =$BD25+$BE25*($CG25-1)-IF(AND($BE25>0,$CG25>1),MOD($BD25,$BE25),0) -> 15 | BG25: ="AXIAL-"&TEXT($BC25/1000,"0.0##")&" " -> AXIAL-0.3 | BH25: =IF(BF25=1,"","["&TEXT(BF25,"00.0##")&"] ") -> [15.0] | BI25: =INDEX(PkgTable,$CA25,MATCH(BI$2,PkgTblHdr,0)) -> 2 | BJ25: =INDEX(PkgTable,$CA25,MATCH(BJ$2,PkgTblHdr,0)) -> 28 | BK25: =INDEX(PkgTable,$CA25,MATCH(BK$2,PkgTblHdr,0)) -> 1 | BL25: =INDEX(PkgTable,$CA25,MATCH(BL$2,PkgTblHdr,0)) -> 0.25 | BM25: =INDEX(PkgTable,$CA25,MATCH(BM$2,PkgTblHdr,0)) -> 4 | BN25: =INDEX(PkgTable,$CA25,MATCH(BN$2,PkgTblHdr,0)) -> 0.5 | BO25: =INDEX(PkgTable,$CA25,MATCH(BO$2,PkgTblHdr,0)) -> 1 | BP25: =INDEX(PkgTable,$CA25,MATCH(BP$2,PkgTblHdr,0)) -> 1.3 | ... BX25: =INDEX(PkgTable,$CA25,MATCH(BX$2,PkgTblHdr,0)) -> 0.6 | BY25: =BJ25-(Lead_Extend_Length+Config_Stand_Off-2*Lead_Bend_Radius)-(Case_Diameter+Config_Lead_Spacing*25.4/1000+Lead_Bend_Radius*PI()-Case_Length)/2 -> 8.4475222 | BZ25: =INDEX(PkgTable,$CA25,MATCH(BZ$2,PkgTblHdr,0)) -> 0.2 | CA25: =MATCH($AZ25,'Package Dimensions'!$B:$B,0)-2 -> 5 | CB25: =COUNTIF($AZ:$AZ,$AZ25) -> 10 | CC25: =IF($AY25,1,CC24+1) -> 9 | CD25: =INDEX(PkgTable,$CA25,MATCH(CD$2,PkgTblHdr,0)) -> 2 | CE25: =INDEX(PkgTable,$CA25,MATCH(CE$2,PkgTblHdr,0)) -> 5 | CF25: =1+MOD((CC25-MOD(CC25-1,CE25)-1)/CE25,CD25) -> 2 | CG25: =MOD($CC25-1,$CE25)+1 -> 4 | CH25: =CD25*CE25 -> 10 | CK25: {=IFERROR(MATCH(FALSE,$A25:$AX25=Sheet1!$A25:$AX25,0),0)} -> 0
A26: =TRIM($AZ26&" "&$BG26&$BH26) -> DO-35 AXIAL-0.3 [20.0] | B26: =TRIM($AZ26&" "&$BG26&$BH26&INDEX(PkgTable,$CA26,MATCH("Package Material",PkgTblHdr,0))) -> DO-35 AXIAL-0.3 [20.0] Glass | C26: =IF($AY26,"$C","$P") -> $P | D26: =INDEX(PkgTable,$CA26,MATCH(D$2,PkgTblHdr,0)) -> 16777215 | E26: ="="&INDEX(PkgInstanceValues,1,MATCH(MID(E$2,1+LEN("$VALUE@"),LEN(E$2)-LEN("$Value@@Equations")),PkgInstanceHdr,0))&"mm" -> =2mm | F26: ="="&INDEX(PkgInstanceValues,1,MATCH(MID(F$2,1+LEN("$VALUE@"),LEN(F$2)-LEN("$Value@@Equations")),PkgInstanceHdr,0))&"mm" -> =28mm | G26: ="="&$BF26&"mm" -> =20mm | H26: ="="&INDEX(PkgInstanceValues,1,MATCH(MID(H$2,1+LEN("$VALUE@"),LEN(H$2)-LEN("$Value@@Equations")),PkgInstanceHdr,0))&"mm" -> =0.25mm | I26: ="="&INDEX(PkgInstanceValues,1,MATCH(MID(I$2,1+LEN("$VALUE@"),LEN(I$2)-LEN("$Value@@Equations")),PkgInstanceHdr,0))&"mm" -> =4mm | J26: ="="&INDEX(PkgInstanceValues,1,MATCH(MID(J$2,1+LEN("$VALUE@"),LEN(J$2)-LEN("$Value@@Equations")),PkgInstanceHdr,0))&"mm" -> =0.5mm | K26: ="="&INDEX(PkgInstanceValues,1,MATCH(MID(K$2,1+LEN("$VALUE@"),LEN(K$2)-LEN("$Value@@Equations")),PkgInstanceHdr,0))&"mm" -> =1mm | L26: ="="&INDEX(PkgInstanceValues,1,MATCH(MID(L$2,1+LEN("$VALUE@"),LEN(L$2)-LEN("$Value@@Equations")),PkgInstanceHdr,0))&"mm" -> =1.3mm | M26: ="="&INDEX(PkgInstanceValues,1,MATCH(MID(M$2,1+LEN("$VALUE@"),LEN(M$2)-LEN("$Value@@Equations")),PkgInstanceHdr,0))&"mm" -> =0.1mm | N26: ="="&INDEX(PkgInstanceValues,1,MATCH(MID(N$2,1+LEN("$VALUE@"),LEN(N$2)-LEN("$Value@@Equations")),PkgInstanceHdr,0))&"mm" -> =2mm | O26: ="="&$BC26*25.4/1000&"mm" -> =7.62mm | P26: =INDEX(PkgTable,$CA26,MATCH(P$2,PkgTblHdr,0)) -> SOLIDWORKS Materials:Glass | Q26: =IF(ISBLANK($Q25),$A25,$Q25) -> DO-35 | R26: =$BG26 -> AXIAL-0.3 | S26: =IF($AY26,INDEX(PkgTable,$CA26,MATCH(S$2,PkgTblHdr,0)),"") | T26: =IF($AY26,INDEX(PkgTable,$CA26,MATCH(T$2,PkgTblHdr,0)),"") | U26: =IF($AY26,INDEX(PkgTable,$CA26,MATCH(U$2,PkgTblHdr,0)),"") | V26: =IF($AY26,INDEX(PkgTable,$CA26,MATCH(V$2,PkgTblHdr,0)),"") | W26: =IF($AY26,INDEX(PkgTable,$CA26,MATCH(W$2,PkgTblHdr,0)),"") | X26: =IF($AY26,INDEX(PkgTable,$CA26,MATCH(X$2,PkgTblHdr,0)),"") | Y26: =IF($AY26,INDEX(PkgTable,$CA26,MATCH(Y$2,PkgTblHdr,0)),"") | Z26: =IF($AY26,INDEX(PkgTable,$CA26,MATCH(Z$2,PkgTblHdr,0)),"") | ... AE26: =IF($AY26,INDEX(PkgTable,$CA26,MATCH(AE$2,PkgTblHdr,0)),"") | AG26: ="="&INDEX(PkgInstanceValues,1,MATCH(MID(AG$2,1+LEN("$VALUE@"),LEN(AG$2)-LEN("$Value@@Equations")),PkgInstanceHdr,0))&"mm" -> =0.4mm | AH26: ="="&INDEX(PkgInstanceValues,1,MATCH(MID(AH$2,1+LEN("$VALUE@"),LEN(AH$2)-LEN("$Value@@Equations")),PkgInstanceHdr,0))&"mm" -> =0.4mm | AI26: ="="&INDEX(PkgInstanceValues,1,MATCH(MID(AI$2,1+LEN("$VALUE@"),LEN(AI$2)-LEN("$Value@@Equations")),PkgInstanceHdr,0))&"mm" -> =6.28318530717959mm | AJ26: ="="&INDEX(PkgInstanceValues,1,MATCH(MID(AJ$2,1+LEN("$VALUE@"),LEN(AJ$2)-LEN("$Value@@Equations")),PkgInstanceHdr,0))&"mm" -> =0.6mm | AK26: =IF($AY26,"U","") | AL26: =IF($AY26,"U","") | AM26: =IF($AY26,"U","") | AN26: ="="&INDEX(PkgInstanceValues,1,MATCH(MID(AN$2,1+LEN("$VALUE@"),LEN(AN$2)-LEN("$Value@@Equations")),PkgInstanceHdr,0))&"mm" -> =0.16mm | AO26: ="="&INDEX(PkgInstanceValues,1,MATCH(MID(AO$2,1+LEN("$VALUE@"),LEN(AO$2)-LEN("$Value@@Equations")),PkgInstanceHdr,0))&"mm" -> =0.2mm | AY26: =ISBLANK($Q26) -> FALSE | AZ26: =IF(Parent?,$A26,$Q26) -> DO-35 | BA26: =INDEX(PkgTable,$CA26,MATCH(BA$2,PkgTblHdr,0)) -> 250 | BB26: =INDEX(PkgTable,$CA26,MATCH(BB$2,PkgTblHdr,0)) -> 100 | BC26: =$BA26+$BB26*($CF26-1)-IF(AND($BB26>0,$CF26>1),MOD($BA26,$BB26),0) -> 300 | BD26: =INDEX(PkgTable,$CA26,MATCH(BD$2,PkgTblHdr,0)) -> 1 | BE26: =INDEX(PkgTable,$CA26,MATCH(BE$2,PkgTblHdr,0)) -> 5 | BF26: =$BD26+$BE26*($CG26-1)-IF(AND($BE26>0,$CG26>1),MOD($BD26,$BE26),0) -> 20 | BG26: ="AXIAL-"&TEXT($BC26/1000,"0.0##")&" " -> AXIAL-0.3 | BH26: =IF(BF26=1,"","["&TEXT(BF26,"00.0##")&"] ") -> [20.0] | BI26: =INDEX(PkgTable,$CA26,MATCH(BI$2,PkgTblHdr,0)) -> 2 | BJ26: =INDEX(PkgTable,$CA26,MATCH(BJ$2,PkgTblHdr,0)) -> 28 | BK26: =INDEX(PkgTable,$CA26,MATCH(BK$2,PkgTblHdr,0)) -> 1 | BL26: =INDEX(PkgTable,$CA26,MATCH(BL$2,PkgTblHdr,0)) -> 0.25 | BM26: =INDEX(PkgTable,$CA26,MATCH(BM$2,PkgTblHdr,0)) -> 4 | BN26: =INDEX(PkgTable,$CA26,MATCH(BN$2,PkgTblHdr,0)) -> 0.5 | BO26: =INDEX(PkgTable,$CA26,MATCH(BO$2,PkgTblHdr,0)) -> 1 | BP26: =INDEX(PkgTable,$CA26,MATCH(BP$2,PkgTblHdr,0)) -> 1.3 | ... BX26: =INDEX(PkgTable,$CA26,MATCH(BX$2,PkgTblHdr,0)) -> 0.6 | BY26: =BJ26-(Lead_Extend_Length+Config_Stand_Off-2*Lead_Bend_Radius)-(Case_Diameter+Config_Lead_Spacing*25.4/1000+Lead_Bend_Radius*PI()-Case_Length)/2 -> 3.4475222 | BZ26: =INDEX(PkgTable,$CA26,MATCH(BZ$2,PkgTblHdr,0)) -> 0.2 | CA26: =MATCH($AZ26,'Package Dimensions'!$B:$B,0)-2 -> 5 | CB26: =COUNTIF($AZ:$AZ,$AZ26) -> 10 | CC26: =IF($AY26,1,CC25+1) -> 10 | CD26: =INDEX(PkgTable,$CA26,MATCH(CD$2,PkgTblHdr,0)) -> 2 | CE26: =INDEX(PkgTable,$CA26,MATCH(CE$2,PkgTblHdr,0)) -> 5 | CF26: =1+MOD((CC26-MOD(CC26-1,CE26)-1)/CE26,CD26) -> 2 | CG26: =MOD($CC26-1,$CE26)+1 -> 5 | CH26: =CD26*CE26 -> 10 | CK26: {=IFERROR(MATCH(FALSE,$A26:$AX26=Sheet1!$A26:$AX26,0),0)} -> 0
CK27: {=IFERROR(MATCH(FALSE,$A27:$AX27=Sheet1!$A27:$AX27,0),0)} -> 0
CK28: {=IFERROR(MATCH(FALSE,$A28:$AX28=Sheet1!$A28:$AX28,0),0)} -> 0

Sheet Package Dimensions
A2: Index | B2: Package | C2: Lead Spacing (mils) | D2: Lead Spacing Increment | E2: Lead Spacing Instances | F2: Stand Off | G2: Stand Off Increment | H2: Stand Off Instances | I2: Cylindrical Text | J2: TextWrap | K2: HasCathodeIndicator | L2: EndFilletDivisor | M2: Package Material | N2: Internal Centre Gap | O2: $LIBRARY:MATERIAL@Diode | P2: Colour Hextriplet | Q2: Case Diameter | R2: Lead Length | S2: Case Length | T2: Lead Diameter | U2: Cathode Indicator Ring Width | V2: Text Height | W2: Protrusion Length | X2: Lead Extend Length | Y2: Text Vertical Space | Z2: Text Indent | AA2: Text Indent Line2 | AB2: Lead Spacing | AC2: End Fillet Radius | AD2: Case Circumference | AE2: Lead Bend Radius | AF2: $COMMENT | AG2: $DESCRIPTION | AH2: $COLOR | AJ2: $STATE@Internal H1 | AK2: $STATE@Internal H2 | AM2: $STATE@Text C1.0 S0.7 | AN2: $STATE@Text L2.0 S0.7 | AO2: $STATE@Text L1.2 S0.6 | AP2: $STATE@Text C1.3 S0.2 | AR2: $STATE@TSketch C1.0 S0.7 | AS2: $STATE@TSketch L2.0 S0.7 | AT2: $STATE@TSketch L1.2 S0.6 | AU2: $STATE@TSketch C1.3 S0.2 | AW2: $STATE@Wrap2 | AX2: $STATE@Surface-Offset1 | AY2: $STATE@Thicken1
A3: 1 | B3: DO-41 | C3: 300 | D3: 100 | E3: 3 | F3: 1 | G3: 0 | H3: 1 | I3: TRUE | J3: ="Text "&IF(I3,"C","L")&TEXT(V3,"0.0")&" S"&TEXT(Y3,"0.0") -> Text C1.0 S0.7 | K3: TRUE | L3: 4 | M3: Glass | N3: 0.1 | O3: SOLIDWORKS Materials:Glass | P3: #FFFFFF | Q3: 2.6 | R3: 26 | S3: 4.1 | T3: 0.7 | U3: 0.9 | V3: 1 | W3: 0.1 | X3: 2 | Y3: 0.7 | Z3: 0.001 | AA3: 0.001 | AB3: =C3*25.4/1000 -> 7.62 | AC3: =Q3/L3 -> 0.65 | AD3: =Q3 * PI() -> 8.1681409 | AE3: =T3* 1.2 -> 0.84 | AF3: ="AXIAL-"&TEXT(C3/1000,"0.0##") -> AXIAL-0.3 | AG3: =B3&" "&AF3&" "&M3 -> DO-41 AXIAL-0.3 Glass | AH3: =HEX2DEC(MID($P3,2,6)) -> 16777215 | AJ3: =IF($M3="Glass","U","S") -> U | AK3: =IF($M3="Glass","U","S") -> U | AM3: =IF(MID(AM$2,8,255)=$J3,"U","S") -> U | AN3: =IF(MID(AN$2,8,255)=$J3,"U","S") -> S | AO3: =IF(MID(AO$2,8,255)=$J3,"U","S") -> S | AP3: =IF(MID(AP$2,8,255)=$J3,"U","S") -> S | AR3: U | AS3: U | AT3: U | AU3: U | AW3: =IF($K3,"U","S") -> U | AX3: =IF($K3,"U","S") -> U | AY3: =IF($K3,"U","S") -> U
A4: 2 | B4: DO-201AD | C4: 600 | D4: 100 | E4: 3 | F4: 1 | G4: 0 | H4: 1 | I4: FALSE | J4: ="Text "&IF(I4,"C","L")&TEXT(V4,"0.0")&" S"&TEXT(Y4,"0.0") -> Text L2.0 S0.7 | K4: TRUE | L4: 64 | M4: Plastic | N4: 0.1 | O4: SOLIDWORKS Materials:PUR | P4: #050505 | Q4: 5.3 | R4: 25.4 | S4: 9.5 | T4: 1.3 | U4: 1.8 | V4: 2 | W4: 0.001 | X4: 2 | Y4: 0.7 | Z4: 0.4 | AA4: 0.4 | AB4: =C4*25.4/1000 -> 15.24 | AC4: =Q4/L4 -> 0.0828125 | AD4: =Q4 * PI() -> 16.650441 | AE4: =T4* 1.2 -> 1.56 | AF4: ="AXIAL-"&TEXT(C4/1000,"0.0##") -> AXIAL-0.6 | AG4: =B4&" "&AF4&" "&M4 -> DO-201AD AXIAL-0.6 Plastic | AH4: =HEX2DEC(MID($P4,2,6)) -> 328965 | AJ4: =IF($M4="Glass","U","S") -> S | AK4: =IF($M4="Glass","U","S") -> S | AM4: =IF(MID(AM$2,8,255)=$J4,"U","S") -> S | AN4: =IF(MID(AN$2,8,255)=$J4,"U","S") -> U | AO4: =IF(MID(AO$2,8,255)=$J4,"U","S") -> S | AP4: =IF(MID(AP$2,8,255)=$J4,"U","S") -> S | AR4: U | AS4: U | AT4: U | AU4: U | AW4: =IF($K4,"U","S") -> U | AX4: =IF($K4,"U","S") -> U | AY4: =IF($K4,"U","S") -> U
A5: 3 | B5: 017AA | C5: 500 | D5: 100 | E5: 4 | F5: 1 | G5: 0 | H5: 1 | I5: FALSE | J5: ="Text "&IF(I5,"C","L")&TEXT(V5,"0.0")&" S"&TEXT(Y5,"0.0") -> Text L1.2 S0.6 | K5: TRUE | L5: 64 | M5: Plastic | N5: 0.1 | O5: SOLIDWORKS Materials:PUR | P5: #050505 | Q5: 3.68 | R5: 25.4 | S5: 8.89 | T5: 1.09 | U5: 1.5 | V5: 1.2 | W5: 0.001 | X5: 2 | Y5: 0.6 | Z5: 1 | AA5: 0.4 | AB5: =C5*25.4/1000 -> 12.7 | AC5: =Q5/L5 -> 0.0575 | AD5: =Q5 * PI() -> 11.561061 | AE5: =T5* 1.2 -> 1.308 | AF5: ="AXIAL-"&TEXT(C5/1000,"0.0##") -> AXIAL-0.5 | AG5: =B5&" "&AF5&" "&M5 -> 017AA AXIAL-0.5 Plastic | AH5: =HEX2DEC(MID($P5,2,6)) -> 328965 | AJ5: =IF($M5="Glass","U","S") -> S | AK5: =IF($M5="Glass","U","S") -> S | AM5: =IF(MID(AM$2,8,255)=$J5,"U","S") -> S | AN5: =IF(MID(AN$2,8,255)=$J5,"U","S") -> S | AO5: =IF(MID(AO$2,8,255)=$J5,"U","S") -> U | AP5: =IF(MID(AP$2,8,255)=$J5,"U","S") -> S | AR5: U | AS5: U | AT5: U | AU5: U | AW5: =IF($K5,"U","S") -> U | AX5: =IF($K5,"U","S") -> U | AY5: =IF($K5,"U","S") -> U
A6: 4 | B6: DO-204AL | C6: 300 | D6: 100 | E6: 4 | F6: 1 | G6: 0 | H6: 1 | I6: TRUE | J6: ="Text "&IF(I6,"C","L")&TEXT(V6,"0.0")&" S"&TEXT(Y6,"0.0") -> Text C1.3 S0.2 | K6: TRUE | L6: 64 | M6: Plastic | N6: 0.1 | O6: SOLIDWORKS Materials:PUR | P6: #050505 | Q6: 2.7 | R6: 25.4 | S6: 5.2 | T6: 0.86 | U6: 0.96 | V6: 1.3 | W6: 0.001 | X6: 2 | Y6: 0.16 | Z6: 0.001 | AA6: 0.001 | AB6: =C6*25.4/1000 -> 7.62 | AC6: =Q6/L6 -> 0.0421875 | AD6: =Q6 * PI() -> 8.4823002 | AE6: =T6* 1.2 -> 1.032 | AF6: ="AXIAL-"&TEXT(C6/1000,"0.0##") -> AXIAL-0.3 | AG6: =B6&" "&AF6&" "&M6 -> DO-204AL AXIAL-0.3 Plastic | AH6: =HEX2DEC(MID($P6,2,6)) -> 328965 | AJ6: =IF($M6="Glass","U","S") -> S | AK6: =IF($M6="Glass","U","S") -> S | AM6: =IF(MID(AM$2,8,255)=$J6,"U","S") -> S | AN6: =IF(MID(AN$2,8,255)=$J6,"U","S") -> S | AO6: =IF(MID(AO$2,8,255)=$J6,"U","S") -> S | AP6: =IF(MID(AP$2,8,255)=$J6,"U","S") -> U | AR6: U | AS6: U | AT6: U | AU6: U | AW6: =IF($K6,"U","S") -> U | AX6: =IF($K6,"U","S") -> U | AY6: =IF($K6,"U","S") -> U
A7: 5 | B7: DO-35 | C7: 250 | D7: 100 | E7: 2 | F7: 1 | G7: 5 | H7: 5 | I7: TRUE | J7: No Text | K7: FALSE | L7: 8 | M7: Glass | N7: 0.2 | O7: SOLIDWORKS Materials:Glass | P7: #FFFFFF | Q7: 2 | R7: 28 | S7: 4 | T7: 0.5 | U7: 1 | V7: 1.3 | W7: 0.1 | X7: 2 | Y7: 0.16 | Z7: 0.4 | AA7: 0.4 | AB7: =C7*25.4/1000 -> 6.35 | AC7: =Q7/L7 -> 0.25 | AD7: =Q7 * PI() -> 6.2831853 | AE7: =T7* 1.2 -> 0.6 | AF7: ="AXIAL-"&TEXT(C7/1000,"0.0##") -> AXIAL-0.25 | AG7: =B7&" "&AF7&" "&M7 -> DO-35 AXIAL-0.25 Glass | AH7: =HEX2DEC(MID($P7,2,6)) -> 16777215 | AJ7: =IF($M7="Glass","U","S") -> U | AK7: =IF($M7="Glass","U","S") -> U | AM7: =IF(MID(AM$2,8,255)=$J7,"U","S") -> S | AN7: =IF(MID(AN$2,8,255)=$J7,"U","S") -> S | AO7: =IF(MID(AO$2,8,255)=$J7,"U","S") -> S | AP7: =IF(MID(AP$2,8,255)=$J7,"U","S") -> S | AR7: U | AS7: U | AT7: U | AU7: U | AW7: =IF($K7,"U","S") -> S | AX7: =IF($K7,"U","S") -> S | AY7: =IF($K7,"U","S") -> S
A8: 6
A9: 7
A10: 8
A11: 9
