Workbook
Name Family: Sheet1!$A$2

Sheet Sheet1
A1: Design Table for: RES2
B2: $DESCRIPTION | C2: $COLOR | D2: $DISPLAYSTATE | E2: $VALUE@Body Length@Equations | F2: $VALUE@Body Diameter Ends@Equations | G2: $VALUE@Body Diameter@Equations | H2: $VALUE@Body Inner Slope@Equations | I2: $VALUE@Body Length Middle@Equations | J2: $VALUE@Colour Band Width@Equations | K2: $VALUE@Wire Bend Radius@Equations | L2: $VALUE@Wire Diameter@Equations | M2: $VALUE@Wire Spacing@Equations | N2: $VALUE@First Band Offset@Equations | O2: $VALUE@Last Band Offset@Equations | P2: $VALUE@Paint Thickness@Equations | Q2: $VALUE@End Fillet Radius@Equations | R2: $PARTNUMBER | T2: First Band Offset | U2: Last Band Offset | V2: Body Length | W2: Body Length Middle | X2: HS Flat End Width | Y2: Colour Band Width | Z2: Max End Fillet Radius (V) | AA2: First Band Offset (mm) | AB2: Max End Fillet Radius (H) | AC2: Series | AD2: Series Element | AE2: Decade | AF2: Value | AG2: Tolerance% | AH2: Decimal | AI2: Format | AK2: Significand | AL2: Mantissa1 | AM2: Mantissa2 | AN2: Mantissa3 | AO2: Mult | AS2: Short Value | AT2: Abbr. Value | AU2: Wire Spacing (mils) | AV2: Casing | AW2: L | AX2: Number of Signifanct Figures | AZ2: 1000 | BA2: 100 | BB2: 10 | BC2: Multiplier | BD2: Tolerance | BE2: ColourVal1 | BF2: ColourVal2 | BG2: ColourVal3 | BH2: ColourMultiplier | BI2: ColourTolerance | BJ2: Band1 | BK2: Band2 | BL2: Band3 | BM2: Band4 | BN2: Band5
A3: ="AXIAL-" & TEXT($AU3/1000,"0.0") -> AXIAL-0.2 | B3: ="Resistor AXIAL-"&TEXT($AU3/1000,"0.0") -> Resistor AXIAL-0.2 | C3: 5000268 | D3: Metal | E3: ="="&VLOOKUP($AV3,Sheet2!$B$2:$Q$9,MATCH(MID(E$2,8,LEN(E$2)-17),Sheet2!$B$1:$Q$1,0))&"mm" -> =3.5mm | F3: ="="&VLOOKUP($AV3,Sheet2!$B$2:$Q$9,MATCH(MID(F$2,8,LEN(F$2)-17),Sheet2!$B$1:$Q$1,0))&"mm" -> =1.85mm | G3: ="="&VLOOKUP($AV3,Sheet2!$B$2:$Q$9,MATCH(MID(G$2,8,LEN(G$2)-17),Sheet2!$B$1:$Q$1,0))&"mm" -> =1.57mm | H3: ="="&VLOOKUP($AV3,Sheet2!$B$2:$Q$9,MATCH(MID(H$2,8,LEN(H$2)-17),Sheet2!$B$1:$Q$1,0))&"mm" -> =0.5mm | I3: ="="&VLOOKUP($AV3,Sheet2!$B$2:$Q$9,MATCH(MID(I$2,8,LEN(I$2)-17),Sheet2!$B$1:$Q$1,0))&"mm" -> =1.39mm | J3: ="="&VLOOKUP($AV3,Sheet2!$B$2:$Q$9,MATCH(MID(J$2,8,LEN(J$2)-17),Sheet2!$B$1:$Q$1,0))&"mm" -> =0.21mm | K3: ="="&VLOOKUP($AV3,Sheet2!$B$2:$Q$9,MATCH(MID(K$2,8,LEN(K$2)-17),Sheet2!$B$1:$Q$1,0))&"mm" -> =0.6mm | L3: ="="&VLOOKUP($AV3,Sheet2!$B$2:$Q$9,MATCH(MID(L$2,8,LEN(L$2)-17),Sheet2!$B$1:$Q$1,0))&"mm" -> =0.45mm | M3: ="="&VLOOKUP($AV3,Sheet2!$B$2:$Q$9,MATCH(MID(M$2,8,LEN(M$2)-17),Sheet2!$B$1:$Q$1,0))&"mm" -> =5.08mm | N3: ="="&VLOOKUP($AX3+2,Sheet2!$U$1:$X$4,MATCH(MID(N$2,8,LEN(N$2)-17),Sheet2!$U$1:$X$1,0)) -> =0.22 | O3: ="="&VLOOKUP($AX3+2,Sheet2!$U$1:$X$4,MATCH(MID(O$2,8,LEN(O$2)-17),Sheet2!$U$1:$X$1,0)) -> =0.275 | P3: ="="&VLOOKUP($AV3,Sheet2!$B$2:$Q$9,MATCH(MID(P$2,8,LEN(P$2)-17),Sheet2!$B$1:$Q$1,0))&"mm" -> =0.04mm | Q3: ="="&ROUNDDOWN(MIN($Z3,$AB3),2)&"mm" -> =0.33mm | R3: $C | T3: =VLOOKUP($AX3+2,Sheet2!$U$1:$X$4,MATCH(T$2,Sheet2!$U$1:$X$1,0)) -> 0.22 | U3: =VLOOKUP($AX3+2,Sheet2!$U$1:$X$4,MATCH(U$2,Sheet2!$U$1:$X$1,0)) -> 0.275 | V3: =VLOOKUP($AV3,Sheet2!$B$2:$Q$9,MATCH(V$2,Sheet2!$B$1:$Q$1,0)) -> 3.5 | W3: =VLOOKUP($AV3,Sheet2!$B$2:$Q$9,MATCH(W$2,Sheet2!$B$1:$Q$1,0)) -> 1.39 | X3: =VLOOKUP($AV3,Sheet2!$B$2:$Q$9,MATCH(X$2,Sheet2!$B$1:$Q$1,0)) -> 0.915 | Y3: =VLOOKUP($AV3,Sheet2!$B$2:$Q$9,MATCH(Y$2,Sheet2!$B$1:$Q$1,0)) -> 0.21 | Z3: =VLOOKUP($AV3,Sheet2!$B$2:$Q$9,MATCH(Z$2,Sheet2!$B$1:$Q$1,0)) -> 0.33 | AA3: =$T3*($V3-$W3)/2 -> 0.2321 | AB3: =$X3-$Y3-$AA3 -> 0.4729 | AC3: E24 | AD3: 10 | AE3: =IF(AND($AC3=$AC2,$AV2=$AV3),IF($AD3=10,$AE2*10,$AE2),0.1) -> 0.1 | AF3: =AD3*AE3 -> 1 | AG3: 0.01 | AH3: =$AW3/3=INT($AW3/3) -> TRUE | AI3: =IF($AH3,"0.0","GENERAL") -> 0.0 | AJ3: =IF(AF3<1000,1,IF(AF3<1000000,1000,1000000)) -> 1 | AK3: =INT($AF3/$AJ3) -> 1 | AL3: =INT(10*$AF3/$AJ3-10*$AK3) -> 0 | AM3: =INT(100*$AF3/$AJ3-100*$AK3-10*$AL3) -> 0 | AN3: =INT(1000*$AF3/$AJ3-1000*$AK3-100*$AL3-10*$AM3) -> 0 | AO3: =CHOOSE(1+LOG($AJ3)/3,"R","K","M") -> R | AP3: =IF(AND($AN3=0,$AM3=0,$AL3=0),"",$AL3) | AQ3: =IF(AND($AN3=0,$AM3=0),"",$AM3) | AR3: =IF($AN3=0,"",$AN3) | AS3: =$AK3&$AO3&$AP3&$AQ3&$AR3 -> 1R | AT3: =IF($AF3<1000,TEXT($AF3,$AI3)&"R",IF($AF3<1000000,TEXT($AF3/1000,$AI3)&"K",TEXT($AF3/1000000,$AI3)&"M")) -> 1.0R | AU3: 200 | AV3: =VLOOKUP($AU3,Sheet2!$A$2:$B$15,2,0) -> 1 | AW3: =INT(LOG($AF3,10)) -> 0 | AX3: =IF($AG3<5%,3,2) -> 3 | AY3: =10^$AW3 -> 1 | AZ3: =IF(3-LOG(AZ$2)<$AX3,IF(1+$AX3-LOG(AZ$2)>$AX3,"",INT($AF3/$AY3)),"") -> 1 | BA3: =IF(3-LOG(BA$2)<$AX3,IF(1+$AX3-LOG(BA$2)>$AX3,"",INT(10*$AF3/$AY3-10*$AZ3)),"") -> 0 | BB3: =IF(3-LOG(BB$2)<$AX3,IF(1+$AX3-LOG(BB$2)>$AX3,"",INT(100*$AF3-(100*$AZ3*$AY3+10*$BA3*$AY3))/$AY3),"") -> 0 | BC3: =1+$AW3-$AX3 -> -2 | BD3: =100*AG3 -> 1 | BE3: =IF($AZ3="","",CHOOSE(3+$AZ3,"SR","GD","BK","BN","RD","OR","YL","GN","BL","VT","GY","WT")) -> BN | BF3: =IF($BA3="","",CHOOSE(3+$BA3,"SR","GD","BK","BN","RD","OR","YL","GN","BL","VT","GY","WT")) -> BK | BG3: =IF($BB3="","",CHOOSE(3+$BB3,"SR","GD","BK","BN","RD","OR","YL","GN","BL","VT","GY","WT")) -> BK | BH3: =IF($BC3="","",CHOOSE(3+$BC3,"SR","GD","BK","BN","RD","OR","YL","GN","BL","VT","GY","WT")) -> SR | BI3: =IF($BD3="","",IF($BD3<1,CHOOSE(20*$BD3,"GY","VT",,,"BL",,,,,"GN"),CHOOSE($BD3,"BN","RD",,,"GD",,,,,"SR",,,,,,,,,,""))) -> BN | BJ3: =IF(AZ3="","",CHOOSE(3+AZ3,"SR","GD","BK","BN","RD","OR","YL","GN","BL","VT","GY","WT")) -> BN | BK3: =IF($AX3<2,$BH3,BF3) -> BK | BL3: =IF($AX3<2,"",IF($AX3<3,$BH3,BG3)) -> BK | BM3: =IF($AX3<3,"",BH3) -> SR | BN3: =BI3 -> BN
A4: ="AXIAL-" & TEXT($AU4/1000,"0.0") -> AXIAL-0.3 | B4: ="Resistor AXIAL-"&TEXT($AU4/1000,"0.0") -> Resistor AXIAL-0.3 | C4: 5000268 | D4: Metal | E4: ="="&VLOOKUP($AV4,Sheet2!$B$2:$Q$9,MATCH(MID(E$2,8,LEN(E$2)-17),Sheet2!$B$1:$Q$1,0))&"mm" -> =3.5mm | F4: ="="&VLOOKUP($AV4,Sheet2!$B$2:$Q$9,MATCH(MID(F$2,8,LEN(F$2)-17),Sheet2!$B$1:$Q$1,0))&"mm" -> =1.85mm | G4: ="="&VLOOKUP($AV4,Sheet2!$B$2:$Q$9,MATCH(MID(G$2,8,LEN(G$2)-17),Sheet2!$B$1:$Q$1,0))&"mm" -> =1.57mm | H4: ="="&VLOOKUP($AV4,Sheet2!$B$2:$Q$9,MATCH(MID(H$2,8,LEN(H$2)-17),Sheet2!$B$1:$Q$1,0))&"mm" -> =0.5mm | I4: ="="&VLOOKUP($AV4,Sheet2!$B$2:$Q$9,MATCH(MID(I$2,8,LEN(I$2)-17),Sheet2!$B$1:$Q$1,0))&"mm" -> =1.39mm | J4: ="="&VLOOKUP($AV4,Sheet2!$B$2:$Q$9,MATCH(MID(J$2,8,LEN(J$2)-17),Sheet2!$B$1:$Q$1,0))&"mm" -> =0.21mm | K4: ="="&VLOOKUP($AV4,Sheet2!$B$2:$Q$9,MATCH(MID(K$2,8,LEN(K$2)-17),Sheet2!$B$1:$Q$1,0))&"mm" -> =0.6mm | L4: ="="&VLOOKUP($AV4,Sheet2!$B$2:$Q$9,MATCH(MID(L$2,8,LEN(L$2)-17),Sheet2!$B$1:$Q$1,0))&"mm" -> =0.45mm | M4: ="="&VLOOKUP($AV4,Sheet2!$B$2:$Q$9,MATCH(MID(M$2,8,LEN(M$2)-17),Sheet2!$B$1:$Q$1,0))&"mm" -> =7.62mm | N4: ="="&VLOOKUP($AX4+2,Sheet2!$U$1:$X$4,MATCH(MID(N$2,8,LEN(N$2)-17),Sheet2!$U$1:$X$1,0)) -> =0.22 | O4: ="="&VLOOKUP($AX4+2,Sheet2!$U$1:$X$4,MATCH(MID(O$2,8,LEN(O$2)-17),Sheet2!$U$1:$X$1,0)) -> =0.275 | P4: ="="&VLOOKUP($AV4,Sheet2!$B$2:$Q$9,MATCH(MID(P$2,8,LEN(P$2)-17),Sheet2!$B$1:$Q$1,0))&"mm" -> =0.04mm | Q4: ="="&ROUNDDOWN(MIN($Z4,$AB4),2)&"mm" -> =0.33mm | R4: $C | T4: =VLOOKUP($AX4+2,Sheet2!$U$1:$X$4,MATCH(T$2,Sheet2!$U$1:$X$1,0)) -> 0.22 | U4: =VLOOKUP($AX4+2,Sheet2!$U$1:$X$4,MATCH(U$2,Sheet2!$U$1:$X$1,0)) -> 0.275 | V4: =VLOOKUP($AV4,Sheet2!$B$2:$Q$9,MATCH(V$2,Sheet2!$B$1:$Q$1,0)) -> 3.5 | W4: =VLOOKUP($AV4,Sheet2!$B$2:$Q$9,MATCH(W$2,Sheet2!$B$1:$Q$1,0)) -> 1.39 | X4: =VLOOKUP($AV4,Sheet2!$B$2:$Q$9,MATCH(X$2,Sheet2!$B$1:$Q$1,0)) -> 0.915 | Y4: =VLOOKUP($AV4,Sheet2!$B$2:$Q$9,MATCH(Y$2,Sheet2!$B$1:$Q$1,0)) -> 0.21 | Z4: =VLOOKUP($AV4,Sheet2!$B$2:$Q$9,MATCH(Z$2,Sheet2!$B$1:$Q$1,0)) -> 0.33 | AA4: =$T4*($V4-$W4)/2 -> 0.2321 | AB4: =$X4-$Y4-$AA4 -> 0.4729 | AC4: E24 | AD4: 15 | AE4: 10 | AF4: =AD4*AE4 -> 150 | AG4: 0.01 | AH4: =$AW4/3=INT($AW4/3) -> FALSE | AI4: =IF($AH4,"0.0","GENERAL") -> GENERAL | AJ4: =IF(AF4<1000,1,IF(AF4<1000000,1000,1000000)) -> 1 | AK4: =INT($AF4/$AJ4) -> 150 | AL4: =INT(10*$AF4/$AJ4-10*$AK4) -> 0 | AM4: =INT(100*$AF4/$AJ4-100*$AK4-10*$AL4) -> 0 | AN4: =INT(1000*$AF4/$AJ4-1000*$AK4-100*$AL4-10*$AM4) -> 0 | AO4: =CHOOSE(1+LOG($AJ4)/3,"R","K","M") -> R | AP4: =IF(AND($AN4=0,$AM4=0,$AL4=0),"",$AL4) | AQ4: =IF(AND($AN4=0,$AM4=0),"",$AM4) | AR4: =IF($AN4=0,"",$AN4) | AS4: =$AK4&$AO4&$AP4&$AQ4&$AR4 -> 150R | AT4: =IF($AF4<1000,TEXT($AF4,$AI4)&"R",IF($AF4<1000000,TEXT($AF4/1000,$AI4)&"K",TEXT($AF4/1000000,$AI4)&"M")) -> 150R | AU4: 300 | AV4: =VLOOKUP($AU4,Sheet2!$A$2:$B$15,2,0) -> 2 | AW4: =INT(LOG($AF4,10)) -> 2 | AX4: =IF($AG4<5%,3,2) -> 3 | AY4: =10^$AW4 -> 100 | AZ4: =IF(3-LOG(AZ$2)<$AX4,IF(1+$AX4-LOG(AZ$2)>$AX4,"",INT($AF4/$AY4)),"") -> 1 | BA4: =IF(3-LOG(BA$2)<$AX4,IF(1+$AX4-LOG(BA$2)>$AX4,"",INT(10*$AF4/$AY4-10*$AZ4)),"") -> 5 | BB4: =IF(3-LOG(BB$2)<$AX4,IF(1+$AX4-LOG(BB$2)>$AX4,"",INT(100*$AF4-(100*$AZ4*$AY4+10*$BA4*$AY4))/$AY4),"") -> 0 | BC4: =1+$AW4-$AX4 -> 0 | BD4: =100*AG4 -> 1 | BE4: =IF($AZ4="","",CHOOSE(3+$AZ4,"SR","GD","BK","BN","RD","OR","YL","GN","BL","VT","GY","WT")) -> BN | BF4: =IF($BA4="","",CHOOSE(3+$BA4,"SR","GD","BK","BN","RD","OR","YL","GN","BL","VT","GY","WT")) -> GN | BG4: =IF($BB4="","",CHOOSE(3+$BB4,"SR","GD","BK","BN","RD","OR","YL","GN","BL","VT","GY","WT")) -> BK | BH4: =IF($BC4="","",CHOOSE(3+$BC4,"SR","GD","BK","BN","RD","OR","YL","GN","BL","VT","GY","WT")) -> BK | BI4: =IF($BD4="","",IF($BD4<1,CHOOSE(20*$BD4,"GY","VT",,,"BL",,,,,"GN"),CHOOSE($BD4,"BN","RD",,,"GD",,,,,"SR",,,,,,,,,,""))) -> BN | BJ4: =IF(AZ4="","",CHOOSE(3+AZ4,"SR","GD","BK","BN","RD","OR","YL","GN","BL","VT","GY","WT")) -> BN | BK4: =IF($AX4<2,$BH4,BF4) -> GN | BL4: =IF($AX4<2,"",IF($AX4<3,$BH4,BG4)) -> BK | BM4: =IF($AX4<3,"",BH4) -> BK | BN4: =IF(BD4="","",IF(BD4<1,CHOOSE(20*BD4,"GY","VT",,,"BL",,,,,"GN"),CHOOSE(BD4,"BN","RD",,,"GD",,,,,"SR",,,,,,,,,,""))) -> BN
A5: ="AXIAL-" & TEXT($AU5/1000,"0.0") -> AXIAL-0.4 | B5: ="Resistor AXIAL-"&TEXT($AU5/1000,"0.0") -> Resistor AXIAL-0.4 | C5: 5000268 | D5: Metal | E5: ="="&VLOOKUP($AV5,Sheet2!$B$2:$Q$9,MATCH(MID(E$2,8,LEN(E$2)-17),Sheet2!$B$1:$Q$1,0))&"mm" -> =6.8mm | F5: ="="&VLOOKUP($AV5,Sheet2!$B$2:$Q$9,MATCH(MID(F$2,8,LEN(F$2)-17),Sheet2!$B$1:$Q$1,0))&"mm" -> =2.5mm | G5: ="="&VLOOKUP($AV5,Sheet2!$B$2:$Q$9,MATCH(MID(G$2,8,LEN(G$2)-17),Sheet2!$B$1:$Q$1,0))&"mm" -> =2.13mm | H5: ="="&VLOOKUP($AV5,Sheet2!$B$2:$Q$9,MATCH(MID(H$2,8,LEN(H$2)-17),Sheet2!$B$1:$Q$1,0))&"mm" -> =0.5mm | I5: ="="&VLOOKUP($AV5,Sheet2!$B$2:$Q$9,MATCH(MID(I$2,8,LEN(I$2)-17),Sheet2!$B$1:$Q$1,0))&"mm" -> =2.7mm | J5: ="="&VLOOKUP($AV5,Sheet2!$B$2:$Q$9,MATCH(MID(J$2,8,LEN(J$2)-17),Sheet2!$B$1:$Q$1,0))&"mm" -> =0.4mm | K5: ="="&VLOOKUP($AV5,Sheet2!$B$2:$Q$9,MATCH(MID(K$2,8,LEN(K$2)-17),Sheet2!$B$1:$Q$1,0))&"mm" -> =0.8mm | L5: ="="&VLOOKUP($AV5,Sheet2!$B$2:$Q$9,MATCH(MID(L$2,8,LEN(L$2)-17),Sheet2!$B$1:$Q$1,0))&"mm" -> =0.54mm | M5: ="="&VLOOKUP($AV5,Sheet2!$B$2:$Q$9,MATCH(MID(M$2,8,LEN(M$2)-17),Sheet2!$B$1:$Q$1,0))&"mm" -> =10.16mm | N5: ="="&VLOOKUP($AX5+2,Sheet2!$U$1:$X$4,MATCH(MID(N$2,8,LEN(N$2)-17),Sheet2!$U$1:$X$1,0)) -> =0.22 | O5: ="="&VLOOKUP($AX5+2,Sheet2!$U$1:$X$4,MATCH(MID(O$2,8,LEN(O$2)-17),Sheet2!$U$1:$X$1,0)) -> =0.275 | P5: ="="&VLOOKUP($AV5,Sheet2!$B$2:$Q$9,MATCH(MID(P$2,8,LEN(P$2)-17),Sheet2!$B$1:$Q$1,0))&"mm" -> =0.04mm | Q5: ="="&ROUNDDOWN(MIN($Z5,$AB5),2)&"mm" -> =0.47mm | R5: $C | T5: =VLOOKUP($AX5+2,Sheet2!$U$1:$X$4,MATCH(T$2,Sheet2!$U$1:$X$1,0)) -> 0.22 | U5: =VLOOKUP($AX5+2,Sheet2!$U$1:$X$4,MATCH(U$2,Sheet2!$U$1:$X$1,0)) -> 0.275 | V5: =VLOOKUP($AV5,Sheet2!$B$2:$Q$9,MATCH(V$2,Sheet2!$B$1:$Q$1,0)) -> 6.8 | W5: =VLOOKUP($AV5,Sheet2!$B$2:$Q$9,MATCH(W$2,Sheet2!$B$1:$Q$1,0)) -> 2.7 | X5: =VLOOKUP($AV5,Sheet2!$B$2:$Q$9,MATCH(X$2,Sheet2!$B$1:$Q$1,0)) -> 1.865 | Y5: =VLOOKUP($AV5,Sheet2!$B$2:$Q$9,MATCH(Y$2,Sheet2!$B$1:$Q$1,0)) -> 0.4 | Z5: =VLOOKUP($AV5,Sheet2!$B$2:$Q$9,MATCH(Z$2,Sheet2!$B$1:$Q$1,0)) -> 0.47 | AA5: =$T5*($V5-$W5)/2 -> 0.451 | AB5: =$X5-$Y5-$AA5 -> 1.014 | AC5: E24 | AD5: 33 | AE5: 100 | AF5: =AD5*AE5 -> 3300 | AG5: 0.01 | AH5: =$AW5/3=INT($AW5/3) -> TRUE | AI5: =IF($AH5,"0.0","GENERAL") -> 0.0 | AJ5: =IF(AF5<1000,1,IF(AF5<1000000,1000,1000000)) -> 1000 | AK5: =INT($AF5/$AJ5) -> 3 | AL5: =INT(10*$AF5/$AJ5-10*$AK5) -> 3 | AM5: =INT(100*$AF5/$AJ5-100*$AK5-10*$AL5) -> 0 | AN5: =INT(1000*$AF5/$AJ5-1000*$AK5-100*$AL5-10*$AM5) -> 0 | AO5: =CHOOSE(1+LOG($AJ5)/3,"R","K","M") -> K | AP5: =IF(AND($AN5=0,$AM5=0,$AL5=0),"",$AL5) -> 3 | AQ5: =IF(AND($AN5=0,$AM5=0),"",$AM5) | AR5: =IF($AN5=0,"",$AN5) | AS5: =$AK5&$AO5&$AP5&$AQ5&$AR5 -> 3K3 | AT5: =IF($AF5<1000,TEXT($AF5,$AI5)&"R",IF($AF5<1000000,TEXT($AF5/1000,$AI5)&"K",TEXT($AF5/1000000,$AI5)&"M")) -> 3.3K | AU5: 400 | AV5: =VLOOKUP($AU5,Sheet2!$A$2:$B$15,2,0) -> 3 | AW5: =INT(LOG($AF5,10)) -> 3 | AX5: =IF($AG5<5%,3,2) -> 3 | AY5: =10^$AW5 -> 1000 | AZ5: =IF(3-LOG(AZ$2)<$AX5,IF(1+$AX5-LOG(AZ$2)>$AX5,"",INT($AF5/$AY5)),"") -> 3 | BA5: =IF(3-LOG(BA$2)<$AX5,IF(1+$AX5-LOG(BA$2)>$AX5,"",INT(10*$AF5/$AY5-10*$AZ5)),"") -> 3 | BB5: =IF(3-LOG(BB$2)<$AX5,IF(1+$AX5-LOG(BB$2)>$AX5,"",INT(100*$AF5-(100*$AZ5*$AY5+10*$BA5*$AY5))/$AY5),"") -> 0 | BC5: =1+$AW5-$AX5 -> 1 | BD5: =100*AG5 -> 1 | BE5: =IF($AZ5="","",CHOOSE(3+$AZ5,"SR","GD","BK","BN","RD","OR","YL","GN","BL","VT","GY","WT")) -> OR | BF5: =IF($BA5="","",CHOOSE(3+$BA5,"SR","GD","BK","BN","RD","OR","YL","GN","BL","VT","GY","WT")) -> OR | BG5: =IF($BB5="","",CHOOSE(3+$BB5,"SR","GD","BK","BN","RD","OR","YL","GN","BL","VT","GY","WT")) -> BK | BH5: =IF($BC5="","",CHOOSE(3+$BC5,"SR","GD","BK","BN","RD","OR","YL","GN","BL","VT","GY","WT")) -> BN | BI5: =IF($BD5="","",IF($BD5<1,CHOOSE(20*$BD5,"GY","VT",,,"BL",,,,,"GN"),CHOOSE($BD5,"BN","RD",,,"GD",,,,,"SR",,,,,,,,,,""))) -> BN | BJ5: =IF(AZ5="","",CHOOSE(3+AZ5,"SR","GD","BK","BN","RD","OR","YL","GN","BL","VT","GY","WT")) -> OR | BK5: =IF($AX5<2,$BH5,BF5) -> OR | BL5: =IF($AX5<2,"",IF($AX5<3,$BH5,BG5)) -> BK | BM5: =IF($AX5<3,"",BH5) -> BN | BN5: =IF(BD5="","",IF(BD5<1,CHOOSE(20*BD5,"GY","VT",,,"BL",,,,,"GN"),CHOOSE(BD5,"BN","RD",,,"GD",,,,,"SR",,,,,,,,,,""))) -> BN
A6: ="AXIAL-" & TEXT($AU6/1000,"0.0") -> AXIAL-0.5 | B6: ="Resistor AXIAL-"&TEXT($AU6/1000,"0.0") -> Resistor AXIAL-0.5 | C6: 5000268 | D6: Metal | E6: ="="&VLOOKUP($AV6,Sheet2!$B$2:$Q$9,MATCH(MID(E$2,8,LEN(E$2)-17),Sheet2!$B$1:$Q$1,0))&"mm" -> =9mm | F6: ="="&VLOOKUP($AV6,Sheet2!$B$2:$Q$9,MATCH(MID(F$2,8,LEN(F$2)-17),Sheet2!$B$1:$Q$1,0))&"mm" -> =3mm | G6: ="="&VLOOKUP($AV6,Sheet2!$B$2:$Q$9,MATCH(MID(G$2,8,LEN(G$2)-17),Sheet2!$B$1:$Q$1,0))&"mm" -> =2.7mm | H6: ="="&VLOOKUP($AV6,Sheet2!$B$2:$Q$9,MATCH(MID(H$2,8,LEN(H$2)-17),Sheet2!$B$1:$Q$1,0))&"mm" -> =0.22mm | I6: ="="&VLOOKUP($AV6,Sheet2!$B$2:$Q$9,MATCH(MID(I$2,8,LEN(I$2)-17),Sheet2!$B$1:$Q$1,0))&"mm" -> =5.67mm | J6: ="="&VLOOKUP($AV6,Sheet2!$B$2:$Q$9,MATCH(MID(J$2,8,LEN(J$2)-17),Sheet2!$B$1:$Q$1,0))&"mm" -> =0.5mm | K6: ="="&VLOOKUP($AV6,Sheet2!$B$2:$Q$9,MATCH(MID(K$2,8,LEN(K$2)-17),Sheet2!$B$1:$Q$1,0))&"mm" -> =1mm | L6: ="="&VLOOKUP($AV6,Sheet2!$B$2:$Q$9,MATCH(MID(L$2,8,LEN(L$2)-17),Sheet2!$B$1:$Q$1,0))&"mm" -> =0.54mm | M6: ="="&VLOOKUP($AV6,Sheet2!$B$2:$Q$9,MATCH(MID(M$2,8,LEN(M$2)-17),Sheet2!$B$1:$Q$1,0))&"mm" -> =12.7mm | N6: ="="&VLOOKUP($AX6+2,Sheet2!$U$1:$X$4,MATCH(MID(N$2,8,LEN(N$2)-17),Sheet2!$U$1:$X$1,0)) -> =0.135 | O6: ="="&VLOOKUP($AX6+2,Sheet2!$U$1:$X$4,MATCH(MID(O$2,8,LEN(O$2)-17),Sheet2!$U$1:$X$1,0)) -> =0.07 | P6: ="="&VLOOKUP($AV6,Sheet2!$B$2:$Q$9,MATCH(MID(P$2,8,LEN(P$2)-17),Sheet2!$B$1:$Q$1,0))&"mm" -> =0.04mm | Q6: ="="&ROUNDDOWN(MIN($Z6,$AB6),2)&"mm" -> =0.59mm | R6: $C | T6: =VLOOKUP($AX6+2,Sheet2!$U$1:$X$4,MATCH(T$2,Sheet2!$U$1:$X$1,0)) -> 0.135 | U6: =VLOOKUP($AX6+2,Sheet2!$U$1:$X$4,MATCH(U$2,Sheet2!$U$1:$X$1,0)) -> 0.07 | V6: =VLOOKUP($AV6,Sheet2!$B$2:$Q$9,MATCH(V$2,Sheet2!$B$1:$Q$1,0)) -> 9 | W6: =VLOOKUP($AV6,Sheet2!$B$2:$Q$9,MATCH(W$2,Sheet2!$B$1:$Q$1,0)) -> 5.67 | X6: =VLOOKUP($AV6,Sheet2!$B$2:$Q$9,MATCH(X$2,Sheet2!$B$1:$Q$1,0)) -> 1.3240909 | Y6: =VLOOKUP($AV6,Sheet2!$B$2:$Q$9,MATCH(Y$2,Sheet2!$B$1:$Q$1,0)) -> 0.5 | Z6: =VLOOKUP($AV6,Sheet2!$B$2:$Q$9,MATCH(Z$2,Sheet2!$B$1:$Q$1,0)) -> 0.595 | AA6: =$T6*($V6-$W6)/2 -> 0.224775 | AB6: =$X6-$Y6-$AA6 -> 0.59931591 | AC6: E24 | AD6: 47 | AE6: 1000 | AF6: =AD6*AE6 -> 47000 | AG6: 0.05 | AH6: =$AW6/3=INT($AW6/3) -> FALSE | AI6: =IF($AH6,"0.0","GENERAL") -> GENERAL | AJ6: =IF(AF6<1000,1,IF(AF6<1000000,1000,1000000)) -> 1000 | AK6: =INT($AF6/$AJ6) -> 47 | AL6: =INT(10*$AF6/$AJ6-10*$AK6) -> 0 | AM6: =INT(100*$AF6/$AJ6-100*$AK6-10*$AL6) -> 0 | AN6: =INT(1000*$AF6/$AJ6-1000*$AK6-100*$AL6-10*$AM6) -> 0 | AO6: =CHOOSE(1+LOG($AJ6)/3,"R","K","M") -> K | AP6: =IF(AND($AN6=0,$AM6=0,$AL6=0),"",$AL6) | AQ6: =IF(AND($AN6=0,$AM6=0),"",$AM6) | AR6: =IF($AN6=0,"",$AN6) | AS6: =$AK6&$AO6&$AP6&$AQ6&$AR6 -> 47K | AT6: =IF($AF6<1000,TEXT($AF6,$AI6)&"R",IF($AF6<1000000,TEXT($AF6/1000,$AI6)&"K",TEXT($AF6/1000000,$AI6)&"M")) -> 47K | AU6: 500 | AV6: =VLOOKUP($AU6,Sheet2!$A$2:$B$15,2,0) -> 4 | AW6: =INT(LOG($AF6,10)) -> 4 | AX6: =IF($AG6<5%,3,2) -> 2 | AY6: =10^$AW6 -> 10000 | AZ6: =IF(3-LOG(AZ$2)<$AX6,IF(1+$AX6-LOG(AZ$2)>$AX6,"",INT($AF6/$AY6)),"") -> 4 | BA6: =IF(3-LOG(BA$2)<$AX6,IF(1+$AX6-LOG(BA$2)>$AX6,"",INT(10*$AF6/$AY6-10*$AZ6)),"") -> 7 | BB6: =IF(3-LOG(BB$2)<$AX6,IF(1+$AX6-LOG(BB$2)>$AX6,"",INT(100*$AF6-(100*$AZ6*$AY6+10*$BA6*$AY6))/$AY6),"") | BC6: =1+$AW6-$AX6 -> 3 | BD6: =100*AG6 -> 5 | BE6: =IF($AZ6="","",CHOOSE(3+$AZ6,"SR","GD","BK","BN","RD","OR","YL","GN","BL","VT","GY","WT")) -> YL | BF6: =IF($BA6="","",CHOOSE(3+$BA6,"SR","GD","BK","BN","RD","OR","YL","GN","BL","VT","GY","WT")) -> VT | BG6: =IF($BB6="","",CHOOSE(3+$BB6,"SR","GD","BK","BN","RD","OR","YL","GN","BL","VT","GY","WT")) | BH6: =IF($BC6="","",CHOOSE(3+$BC6,"SR","GD","BK","BN","RD","OR","YL","GN","BL","VT","GY","WT")) -> OR | BI6: =IF($BD6="","",IF($BD6<1,CHOOSE(20*$BD6,"GY","VT",,,"BL",,,,,"GN"),CHOOSE($BD6,"BN","RD",,,"GD",,,,,"SR",,,,,,,,,,""))) -> GD | BJ6: =IF(AZ6="","",CHOOSE(3+AZ6,"SR","GD","BK","BN","RD","OR","YL","GN","BL","VT","GY","WT")) -> YL | BK6: =IF($AX6<2,$BH6,BF6) -> VT | BL6: =IF($AX6<2,"",IF($AX6<3,$BH6,BG6)) -> OR | BM6: =IF($AX6<3,"",BH6) | BN6: =IF(BD6="","",IF(BD6<1,CHOOSE(20*BD6,"GY","VT",,,"BL",,,,,"GN"),CHOOSE(BD6,"BN","RD",,,"GD",,,,,"SR",,,,,,,,,,""))) -> GD
A7: ="AXIAL-" & TEXT($AU7/1000,"0.0") -> AXIAL-0.6 | B7: ="Resistor AXIAL-"&TEXT($AU7/1000,"0.0") -> Resistor AXIAL-0.6 | C7: 5000268 | D7: Metal | E7: ="="&VLOOKUP($AV7,Sheet2!$B$2:$Q$9,MATCH(MID(E$2,8,LEN(E$2)-17),Sheet2!$B$1:$Q$1,0))&"mm" -> =12mm | F7: ="="&VLOOKUP($AV7,Sheet2!$B$2:$Q$9,MATCH(MID(F$2,8,LEN(F$2)-17),Sheet2!$B$1:$Q$1,0))&"mm" -> =5mm | G7: ="="&VLOOKUP($AV7,Sheet2!$B$2:$Q$9,MATCH(MID(G$2,8,LEN(G$2)-17),Sheet2!$B$1:$Q$1,0))&"mm" -> =4.5mm | H7: ="="&VLOOKUP($AV7,Sheet2!$B$2:$Q$9,MATCH(MID(H$2,8,LEN(H$2)-17),Sheet2!$B$1:$Q$1,0))&"mm" -> =0.22mm | I7: ="="&VLOOKUP($AV7,Sheet2!$B$2:$Q$9,MATCH(MID(I$2,8,LEN(I$2)-17),Sheet2!$B$1:$Q$1,0))&"mm" -> =7.56mm | J7: ="="&VLOOKUP($AV7,Sheet2!$B$2:$Q$9,MATCH(MID(J$2,8,LEN(J$2)-17),Sheet2!$B$1:$Q$1,0))&"mm" -> =0.7mm | K7: ="="&VLOOKUP($AV7,Sheet2!$B$2:$Q$9,MATCH(MID(K$2,8,LEN(K$2)-17),Sheet2!$B$1:$Q$1,0))&"mm" -> =1mm | L7: ="="&VLOOKUP($AV7,Sheet2!$B$2:$Q$9,MATCH(MID(L$2,8,LEN(L$2)-17),Sheet2!$B$1:$Q$1,0))&"mm" -> =0.7mm | M7: ="="&VLOOKUP($AV7,Sheet2!$B$2:$Q$9,MATCH(MID(M$2,8,LEN(M$2)-17),Sheet2!$B$1:$Q$1,0))&"mm" -> =15.24mm | N7: ="="&VLOOKUP($AX7+2,Sheet2!$U$1:$X$4,MATCH(MID(N$2,8,LEN(N$2)-17),Sheet2!$U$1:$X$1,0)) -> =0.135 | O7: ="="&VLOOKUP($AX7+2,Sheet2!$U$1:$X$4,MATCH(MID(O$2,8,LEN(O$2)-17),Sheet2!$U$1:$X$1,0)) -> =0.07 | P7: ="="&VLOOKUP($AV7,Sheet2!$B$2:$Q$9,MATCH(MID(P$2,8,LEN(P$2)-17),Sheet2!$B$1:$Q$1,0))&"mm" -> =0.04mm | Q7: ="="&ROUNDDOWN(MIN($Z7,$AB7),2)&"mm" -> =0.65mm | R7: $C | T7: =VLOOKUP($AX7+2,Sheet2!$U$1:$X$4,MATCH(T$2,Sheet2!$U$1:$X$1,0)) -> 0.135 | U7: =VLOOKUP($AX7+2,Sheet2!$U$1:$X$4,MATCH(U$2,Sheet2!$U$1:$X$1,0)) -> 0.07 | V7: =VLOOKUP($AV7,Sheet2!$B$2:$Q$9,MATCH(V$2,Sheet2!$B$1:$Q$1,0)) -> 12 | W7: =VLOOKUP($AV7,Sheet2!$B$2:$Q$9,MATCH(W$2,Sheet2!$B$1:$Q$1,0)) -> 7.56 | X7: =VLOOKUP($AV7,Sheet2!$B$2:$Q$9,MATCH(X$2,Sheet2!$B$1:$Q$1,0)) -> 1.6518182 | Y7: =VLOOKUP($AV7,Sheet2!$B$2:$Q$9,MATCH(Y$2,Sheet2!$B$1:$Q$1,0)) -> 0.7 | Z7: =VLOOKUP($AV7,Sheet2!$B$2:$Q$9,MATCH(Z$2,Sheet2!$B$1:$Q$1,0)) -> 1.055 | AA7: =$T7*($V7-$W7)/2 -> 0.2997 | AB7: =$X7-$Y7-$AA7 -> 0.65211818 | AC7: E24 | AD7: 56 | AE7: 10000 | AF7: =AD7*AE7 -> 560000 | AG7: 0.05 | AH7: =$AW7/3=INT($AW7/3) -> FALSE | AI7: =IF($AH7,"0.0","GENERAL") -> GENERAL | AJ7: =IF(AF7<1000,1,IF(AF7<1000000,1000,1000000)) -> 1000 | AK7: =INT($AF7/$AJ7) -> 560 | AL7: =INT(10*$AF7/$AJ7-10*$AK7) -> 0 | AM7: =INT(100*$AF7/$AJ7-100*$AK7-10*$AL7) -> 0 | AN7: =INT(1000*$AF7/$AJ7-1000*$AK7-100*$AL7-10*$AM7) -> 0 | AO7: =CHOOSE(1+LOG($AJ7)/3,"R","K","M") -> K | AP7: =IF(AND($AN7=0,$AM7=0,$AL7=0),"",$AL7) | AQ7: =IF(AND($AN7=0,$AM7=0),"",$AM7) | AR7: =IF($AN7=0,"",$AN7) | AS7: =$AK7&$AO7&$AP7&$AQ7&$AR7 -> 560K | AT7: =IF($AF7<1000,TEXT($AF7,$AI7)&"R",IF($AF7<1000000,TEXT($AF7/1000,$AI7)&"K",TEXT($AF7/1000000,$AI7)&"M")) -> 560K | AU7: 600 | AV7: =VLOOKUP($AU7,Sheet2!$A$2:$B$15,2,0) -> 5 | AW7: =INT(LOG($AF7,10)) -> 5 | AX7: =IF($AG7<5%,3,2) -> 2 | AY7: =10^$AW7 -> 100000 | AZ7: =IF(3-LOG(AZ$2)<$AX7,IF(1+$AX7-LOG(AZ$2)>$AX7,"",INT($AF7/$AY7)),"") -> 5 | BA7: =IF(3-LOG(BA$2)<$AX7,IF(1+$AX7-LOG(BA$2)>$AX7,"",INT(10*$AF7/$AY7-10*$AZ7)),"") -> 6 | BB7: =IF(3-LOG(BB$2)<$AX7,IF(1+$AX7-LOG(BB$2)>$AX7,"",INT(100*$AF7-(100*$AZ7*$AY7+10*$BA7*$AY7))/$AY7),"") | BC7: =1+$AW7-$AX7 -> 4 | BD7: =100*AG7 -> 5 | BE7: =IF($AZ7="","",CHOOSE(3+$AZ7,"SR","GD","BK","BN","RD","OR","YL","GN","BL","VT","GY","WT")) -> GN | BF7: =IF($BA7="","",CHOOSE(3+$BA7,"SR","GD","BK","BN","RD","OR","YL","GN","BL","VT","GY","WT")) -> BL | BG7: =IF($BB7="","",CHOOSE(3+$BB7,"SR","GD","BK","BN","RD","OR","YL","GN","BL","VT","GY","WT")) | BH7: =IF($BC7="","",CHOOSE(3+$BC7,"SR","GD","BK","BN","RD","OR","YL","GN","BL","VT","GY","WT")) -> YL | BI7: =IF($BD7="","",IF($BD7<1,CHOOSE(20*$BD7,"GY","VT",,,"BL",,,,,"GN"),CHOOSE($BD7,"BN","RD",,,"GD",,,,,"SR",,,,,,,,,,""))) -> GD | BJ7: =IF(AZ7="","",CHOOSE(3+AZ7,"SR","GD","BK","BN","RD","OR","YL","GN","BL","VT","GY","WT")) -> GN | BK7: =IF($AX7<2,$BH7,BF7) -> BL | BL7: =IF($AX7<2,"",IF($AX7<3,$BH7,BG7)) -> YL | BM7: =IF($AX7<3,"",BH7) | BN7: =IF(BD7="","",IF(BD7<1,CHOOSE(20*BD7,"GY","VT",,,"BL",,,,,"GN"),CHOOSE(BD7,"BN","RD",,,"GD",,,,,"SR",,,,,,,,,,""))) -> GD
A8: ="AXIAL-" & TEXT($AU8/1000,"0.0") -> AXIAL-0.8 | B8: ="Resistor AXIAL-"&TEXT($AU8/1000,"0.0") -> Resistor AXIAL-0.8 | C8: 5000268 | D8: Metal | E8: ="="&VLOOKUP($AV8,Sheet2!$B$2:$Q$9,MATCH(MID(E$2,8,LEN(E$2)-17),Sheet2!$B$1:$Q$1,0))&"mm" -> =16mm | F8: ="="&VLOOKUP($AV8,Sheet2!$B$2:$Q$9,MATCH(MID(F$2,8,LEN(F$2)-17),Sheet2!$B$1:$Q$1,0))&"mm" -> =5.5mm | G8: ="="&VLOOKUP($AV8,Sheet2!$B$2:$Q$9,MATCH(MID(G$2,8,LEN(G$2)-17),Sheet2!$B$1:$Q$1,0))&"mm" -> =4.95mm | H8: ="="&VLOOKUP($AV8,Sheet2!$B$2:$Q$9,MATCH(MID(H$2,8,LEN(H$2)-17),Sheet2!$B$1:$Q$1,0))&"mm" -> =0.22mm | I8: ="="&VLOOKUP($AV8,Sheet2!$B$2:$Q$9,MATCH(MID(I$2,8,LEN(I$2)-17),Sheet2!$B$1:$Q$1,0))&"mm" -> =10.08mm | J8: ="="&VLOOKUP($AV8,Sheet2!$B$2:$Q$9,MATCH(MID(J$2,8,LEN(J$2)-17),Sheet2!$B$1:$Q$1,0))&"mm" -> =0.7mm | K8: ="="&VLOOKUP($AV8,Sheet2!$B$2:$Q$9,MATCH(MID(K$2,8,LEN(K$2)-17),Sheet2!$B$1:$Q$1,0))&"mm" -> =1mm | L8: ="="&VLOOKUP($AV8,Sheet2!$B$2:$Q$9,MATCH(MID(L$2,8,LEN(L$2)-17),Sheet2!$B$1:$Q$1,0))&"mm" -> =0.7mm | M8: ="="&VLOOKUP($AV8,Sheet2!$B$2:$Q$9,MATCH(MID(M$2,8,LEN(M$2)-17),Sheet2!$B$1:$Q$1,0))&"mm" -> =20.32mm | N8: ="="&VLOOKUP($AX8+2,Sheet2!$U$1:$X$4,MATCH(MID(N$2,8,LEN(N$2)-17),Sheet2!$U$1:$X$1,0)) -> =0.135 | O8: ="="&VLOOKUP($AX8+2,Sheet2!$U$1:$X$4,MATCH(MID(O$2,8,LEN(O$2)-17),Sheet2!$U$1:$X$1,0)) -> =0.07 | P8: ="="&VLOOKUP($AV8,Sheet2!$B$2:$Q$9,MATCH(MID(P$2,8,LEN(P$2)-17),Sheet2!$B$1:$Q$1,0))&"mm" -> =0.04mm | Q8: ="="&ROUNDDOWN(MIN($Z8,$AB8),2)&"mm" -> =1.18mm | R8: $C | T8: =VLOOKUP($AX8+2,Sheet2!$U$1:$X$4,MATCH(T$2,Sheet2!$U$1:$X$1,0)) -> 0.135 | U8: =VLOOKUP($AX8+2,Sheet2!$U$1:$X$4,MATCH(U$2,Sheet2!$U$1:$X$1,0)) -> 0.07 | V8: =VLOOKUP($AV8,Sheet2!$B$2:$Q$9,MATCH(V$2,Sheet2!$B$1:$Q$1,0)) -> 16 | W8: =VLOOKUP($AV8,Sheet2!$B$2:$Q$9,MATCH(W$2,Sheet2!$B$1:$Q$1,0)) -> 10.08 | X8: =VLOOKUP($AV8,Sheet2!$B$2:$Q$9,MATCH(X$2,Sheet2!$B$1:$Q$1,0)) -> 2.335 | Y8: =VLOOKUP($AV8,Sheet2!$B$2:$Q$9,MATCH(Y$2,Sheet2!$B$1:$Q$1,0)) -> 0.7 | Z8: =VLOOKUP($AV8,Sheet2!$B$2:$Q$9,MATCH(Z$2,Sheet2!$B$1:$Q$1,0)) -> 1.18 | AA8: =$T8*($V8-$W8)/2 -> 0.3996 | AB8: =$X8-$Y8-$AA8 -> 1.2354 | AC8: E24 | AD8: 82 | AE8: 100000 | AF8: =AD8*AE8 -> 8200000 | AG8: 0.05 | AH8: =$AW8/3=INT($AW8/3) -> TRUE | AI8: =IF($AH8,"0.0","GENERAL") -> 0.0 | AJ8: =IF(AF8<1000,1,IF(AF8<1000000,1000,1000000)) -> 1000000 | AK8: =INT($AF8/$AJ8) -> 8 | AL8: =INT(10*$AF8/$AJ8-10*$AK8) -> 2 | AM8: =INT(100*$AF8/$AJ8-100*$AK8-10*$AL8) -> 0 | AN8: =INT(1000*$AF8/$AJ8-1000*$AK8-100*$AL8-10*$AM8) -> 0 | AO8: =CHOOSE(1+LOG($AJ8)/3,"R","K","M") -> M | AP8: =IF(AND($AN8=0,$AM8=0,$AL8=0),"",$AL8) -> 2 | AQ8: =IF(AND($AN8=0,$AM8=0),"",$AM8) | AR8: =IF($AN8=0,"",$AN8) | AS8: =$AK8&$AO8&$AP8&$AQ8&$AR8 -> 8M2 | AT8: =IF($AF8<1000,TEXT($AF8,$AI8)&"R",IF($AF8<1000000,TEXT($AF8/1000,$AI8)&"K",TEXT($AF8/1000000,$AI8)&"M")) -> 8.2M | AU8: 800 | AV8: =VLOOKUP($AU8,Sheet2!$A$2:$B$15,2,0) -> 6 | AW8: =INT(LOG($AF8,10)) -> 6 | AX8: =IF($AG8<5%,3,2) -> 2 | AY8: =10^$AW8 -> 1000000 | AZ8: =IF(3-LOG(AZ$2)<$AX8,IF(1+$AX8-LOG(AZ$2)>$AX8,"",INT($AF8/$AY8)),"") -> 8 | BA8: =IF(3-LOG(BA$2)<$AX8,IF(1+$AX8-LOG(BA$2)>$AX8,"",INT(10*$AF8/$AY8-10*$AZ8)),"") -> 2 | BB8: =IF(3-LOG(BB$2)<$AX8,IF(1+$AX8-LOG(BB$2)>$AX8,"",INT(100*$AF8-(100*$AZ8*$AY8+10*$BA8*$AY8))/$AY8),"") | BC8: =1+$AW8-$AX8 -> 5 | BD8: =100*AG8 -> 5 | BE8: =IF($AZ8="","",CHOOSE(3+$AZ8,"SR","GD","BK","BN","RD","OR","YL","GN","BL","VT","GY","WT")) -> GY | BF8: =IF($BA8="","",CHOOSE(3+$BA8,"SR","GD","BK","BN","RD","OR","YL","GN","BL","VT","GY","WT")) -> RD | BG8: =IF($BB8="","",CHOOSE(3+$BB8,"SR","GD","BK","BN","RD","OR","YL","GN","BL","VT","GY","WT")) | BH8: =IF($BC8="","",CHOOSE(3+$BC8,"SR","GD","BK","BN","RD","OR","YL","GN","BL","VT","GY","WT")) -> GN | BI8: =IF($BD8="","",IF($BD8<1,CHOOSE(20*$BD8,"GY","VT",,,"BL",,,,,"GN"),CHOOSE($BD8,"BN","RD",,,"GD",,,,,"SR",,,,,,,,,,""))) -> GD | BJ8: =IF(AZ8="","",CHOOSE(3+AZ8,"SR","GD","BK","BN","RD","OR","YL","GN","BL","VT","GY","WT")) -> GY | BK8: =IF($AX8<2,$BH8,BF8) -> RD | BL8: =IF($AX8<2,"",IF($AX8<3,$BH8,BG8)) -> GN | BM8: =IF($AX8<3,"",BH8) | BN8: =IF(BD8="","",IF(BD8<1,CHOOSE(20*BD8,"GY","VT",,,"BL",,,,,"GN"),CHOOSE(BD8,"BN","RD",,,"GD",,,,,"SR",,,,,,,,,,""))) -> GD

Sheet Sheet2
A1: Design Table for: Resistor | B1: Casing | C1: Body Length | D1: Body Diameter Ends | E1: Body Diameter | F1: Body Inner Slope | G1: Body Length Middle | H1: Colour Band Width | I1: Wire Bend Radius | J1: Wire Diameter | K1: Wire Spacing (mils) | L1: Wire Spacing | M1: HS Flat End Width | N1: Paint Thickness | O1: Max End Fillet Radius (V) | Q1: Approx Power Rating | U1: #Bands | V1: First Band Offset | W1: Last Band Offset
A2: 200 | B2: 1 | C2: 3.5 | D2: 1.85 | E2: =ROUND(85%*$D2,2) -> 1.57 | F2: 0.5 | G2: =ROUND($G$4/$C$4*C2,2) -> 1.39 | H2: =ROUND($H$4/$G$4*G2,2) -> 0.21 | I2: 0.6 | J2: 0.45 | K2: 200 | L2: =$K2*25.4/1000 -> 5.08 | M2: =($C2-$G2-($D2-$E2)/$F2/2)/2 -> 0.915 | N2: 0.04 | O2: =($D2-$J2)/4-$N2/2 -> 0.33 | Q2: 0.25 | U2: 4 | V2: 0.135 | W2: 0.07
A3: 300 | B3: 2 | C3: 3.5 | D3: 1.85 | E3: =ROUND(85%*$D3,2) -> 1.57 | F3: 0.5 | G3: =ROUND($G$4/$C$4*C3,2) -> 1.39 | H3: =ROUND($H$4/$G$4*G3,2) -> 0.21 | I3: 0.6 | J3: 0.45 | K3: 300 | L3: =$K3*25.4/1000 -> 7.62 | M3: =($C3-$G3-($D3-$E3)/$F3/2)/2 -> 0.915 | N3: 0.04 | O3: =($D3-$J3)/4-$N3/2 -> 0.33 | Q3: 0.25 | U3: 5 | V3: 0.22 | W3: 0.275
A4: 400 | B4: 3 | C4: 6.8 | D4: 2.5 | E4: =ROUND(85%*$D4,2) -> 2.13 | F4: 0.5 | G4: 2.7 | H4: 0.4 | I4: 0.8 | J4: 0.54 | K4: 400 | L4: =$K4*25.4/1000 -> 10.16 | M4: =($C4-$G4-($D4-$E4)/$F4/2)/2 -> 1.865 | N4: 0.04 | O4: =($D4-$J4)/4-$N4/2 -> 0.47 | Q4: 0.33
A5: 500 | B5: 4 | C5: 9 | D5: 3 | E5: =ROUND(90%*$D5,2) -> 2.7 | F5: 0.22 | G5: =ROUND(0.63*C5,2) -> 5.67 | H5: 0.5 | I5: 1 | J5: 0.54 | K5: 500 | L5: =$K5*25.4/1000 -> 12.7 | M5: =($C5-$G5-($D5-$E5)/$F5/2)/2 -> 1.3240909 | N5: 0.04 | O5: =($D5-$J5)/4-$N5/2 -> 0.595 | Q5: 0.5
A6: 600 | B6: 5 | C6: 12 | D6: 5 | E6: =ROUND(90%*$D6,2) -> 4.5 | F6: 0.22 | G6: =ROUND(0.63*C6,2) -> 7.56 | H6: 0.7 | I6: 1 | J6: 0.7 | K6: 600 | L6: =$K6*25.4/1000 -> 15.24 | M6: =($C6-$G6-($D6-$E6)/$F6/2)/2 -> 1.6518182 | N6: 0.04 | O6: =($D6-$J6)/4-$N6/2 -> 1.055 | Q6: 1
A7: 800 | B7: 6 | C7: 16 | D7: 5.5 | E7: =ROUND(90%*$D7,2) -> 4.95 | F7: 0.22 | G7: =ROUND(0.63*C7,2) -> 10.08 | H7: 0.7 | I7: 1 | J7: 0.7 | K7: 800 | L7: =$K7*25.4/1000 -> 20.32 | M7: =($C7-$G7-($D7-$E7)/$F7/2)/2 -> 2.335 | N7: 0.04 | O7: =($D7-$J7)/4-$N7/2 -> 1.18 | Q7: 2
O11: =0.4*(("Body Diameter Ends"-"Wire Diameter")/2-"Paint Thickness")
I12: =0.3*(("Body Diameter Ends"-"Wire Diameter")/2-"Paint Thickness")
