Workbook

Sheet Sheet1

Sheet icons
B1: filename | C1: ext
B2: 13ft | C2: svg
B3: 2fauth | C3: svg
B4: 2fauth-light | C4: svg
B5: 3cx | C5: png
B6: 5etools | C6: png
B7: act | C7: svg
B8: actual | C8: png
B9: adblock | C9: png
B10: adguard-home | C10: svg
B11: adm | C11: svg
B12: adminer | C12: png
... B1671: zyxel-networks | C1671: svg
B1672: root | C1672: png | D1672: custom
B1673: sheetable | C1673: png | D1673: custom
B1674: songkong | C1674: png | D1674: custom
B1675: book | C1675: png | D1675: custom
B1676: collaboration | C1676: png | D1676: custom
B1677: data-analysis | C1677: png | D1677: custom
B1678: database | C1678: svg | D1678: custom
B1679: software-development | C1679: png | D1679: custom
B1680: financial-services | C1680: svg | D1680: custom
B1681: gaming | C1681: svg | D1681: custom
B1682: home | C1682: svg | D1682: custom
B1683: media-playback | C1683: svg | D1683: custom
... B1695: static-web-server | C1695: png | D1695: custom

Sheet items
B1: App | C1: Pref icon | D1: Pref domain | E1: Pref title | F1: Status Check | G1: Status Check URL | H1: Section | I1: Item description | J1: Item Icon | K1: Item icon type | L1: Item icon path | M1: Section icon | N1: Section icon type | O1: Section icon path | P1: Prefix | Q1: Domain | R1: Port | S1: URL | T1: Title | V1: Dashy item | W1: Section
B2: audiobookshelf | F2: TRUE | H2: Books | I2: Audiobook and podcast server | J2: =IFERROR(VLOOKUP($C2,icons!$B$2:$C$1857,1,0),VLOOKUP($B2,icons!$B$2:$C$1857,1,0)) -> audiobookshelf | K2: =VLOOKUP($J2,icons!$B$2:$C$1857,2,0) -> svg | L2: ="dashboard-icons/"&$K2&"/"&$J2&"."&$K2 -> dashboard-icons/svg/audiobookshelf.svg | M2: book | N2: =VLOOKUP($M2,icons!$B$2:$C$1857,2,0) -> png | O2: =IFERROR("dashboard-icons/"&$N2&"/"&$M2&"."&$N2,$M2) -> dashboard-icons/png/book.png | P2: https:// | Q2: =IF(OR(ISBLANK($D2),$D2=""),$B2,$D2) -> audiobookshelf | S2: =$P2&$Q2&".sthome.org"&IF(OR(ISBLANK($R2),$R2=""),"",":"&$R2) -> https://audiobookshelf.sthome.org | T2: =IF(OR(ISBLANK($E2),$E2=""),PROPER($B2),$E2) -> Audiobookshelf | U2: =IF(OR(ISBLANK($G2),$G2=""),$S2,$G2) -> https://audiobookshelf.sthome.org | V2: =" - title: "&$T2&" description: "&$I2&" icon: "&$L2&" url: "&$S2&IF($F2," statusCheck: true statusCheckUrl: "&$U2,"") &" target: newtab" -> - title: Audiobookshelf description: Audiobook and podcast server icon: dashboard-icons/svg/audiobookshelf.svg url: https://audiobookshelf.sthome.org statusCheck: true statusCheckUrl: https://audiobookshelf.sthome.org target: newtab | W2: =" - name: "&$H2&" icon: "&$O2&" displayData: sortBy: default rows: 1 cols: 1 collapsed: false hideForGuests: false items:" -> - name: Books icon: dashboard-icons/png/book.png displayData: sortBy: default rows: 1 cols: 1 collapsed: false hideForGuests: false items:
B3: calibre | F3: TRUE | H3: Books | I3: E-book manager | J3: =IFERROR(VLOOKUP($C3,icons!$B$2:$C$1857,1,0),VLOOKUP($B3,icons!$B$2:$C$1857,1,0)) -> calibre | K3: =VLOOKUP($J3,icons!$B$2:$C$1857,2,0) -> svg | L3: ="dashboard-icons/"&$K3&"/"&$J3&"."&$K3 -> dashboard-icons/svg/calibre.svg | M3: book | N3: =VLOOKUP($M3,icons!$B$2:$C$1857,2,0) -> png | O3: =IFERROR("dashboard-icons/"&$N3&"/"&$M3&"."&$N3,$M3) -> dashboard-icons/png/book.png | P3: https:// | Q3: =IF(OR(ISBLANK($D3),$D3=""),$B3,$D3) -> calibre | S3: =$P3&$Q3&".sthome.org"&IF(OR(ISBLANK($R3),$R3=""),"",":"&$R3) -> https://calibre.sthome.org | T3: =IF(OR(ISBLANK($E3),$E3=""),PROPER($B3),$E3) -> Calibre | U3: =IF(OR(ISBLANK($G3),$G3=""),$S3,$G3) -> https://calibre.sthome.org | V3: =" - title: "&$T3&" description: "&$I3&" icon: "&$L3&" url: "&$S3&IF($F3," statusCheck: true statusCheckUrl: "&$U3,"") &" target: newtab" -> - title: Calibre description: E-book manager icon: dashboard-icons/svg/calibre.svg url: https://calibre.sthome.org statusCheck: true statusCheckUrl: https://calibre.sthome.org target: newtab | W3: =" - name: "&$H3&" icon: "&$O3&" displayData: sortBy: default rows: 1 cols: 1 collapsed: false hideForGuests: false items:" -> - name: Books icon: dashboard-icons/png/book.png displayData: sortBy: default rows: 1 cols: 1 collapsed: false hideForGuests: false items:
B4: kavita | F4: TRUE | H4: Books | I4: Digital library | J4: =IFERROR(VLOOKUP($C4,icons!$B$2:$C$1857,1,0),VLOOKUP($B4,icons!$B$2:$C$1857,1,0)) -> kavita | K4: =VLOOKUP($J4,icons!$B$2:$C$1857,2,0) -> svg | L4: ="dashboard-icons/"&$K4&"/"&$J4&"."&$K4 -> dashboard-icons/svg/kavita.svg | M4: book | N4: =VLOOKUP($M4,icons!$B$2:$C$1857,2,0) -> png | O4: =IFERROR("dashboard-icons/"&$N4&"/"&$M4&"."&$N4,$M4) -> dashboard-icons/png/book.png | P4: https:// | Q4: =IF(OR(ISBLANK($D4),$D4=""),$B4,$D4) -> kavita | S4: =$P4&$Q4&".sthome.org"&IF(OR(ISBLANK($R4),$R4=""),"",":"&$R4) -> https://kavita.sthome.org | T4: =IF(OR(ISBLANK($E4),$E4=""),PROPER($B4),$E4) -> Kavita | U4: =IF(OR(ISBLANK($G4),$G4=""),$S4,$G4) -> https://kavita.sthome.org | V4: =" - title: "&$T4&" description: "&$I4&" icon: "&$L4&" url: "&$S4&IF($F4," statusCheck: true statusCheckUrl: "&$U4,"") &" target: newtab" -> - title: Kavita description: Digital library icon: dashboard-icons/svg/kavita.svg url: https://kavita.sthome.org statusCheck: true statusCheckUrl: https://kavita.sthome.org target: newtab | W4: =" - name: "&$H4&" icon: "&$O4&" displayData: sortBy: default rows: 1 cols: 1 collapsed: false hideForGuests: false items:" -> - name: Books icon: dashboard-icons/png/book.png displayData: sortBy: default rows: 1 cols: 1 collapsed: false hideForGuests: false items:
B5: collabora | F5: TRUE | J5: =IFERROR(VLOOKUP($C5,icons!$B$2:$C$1857,1,0),VLOOKUP($B5,icons!$B$2:$C$1857,1,0)) -> #N/A | K5: =VLOOKUP($J5,icons!$B$2:$C$1857,2,0) -> #N/A | L5: ="dashboard-icons/"&$K5&"/"&$J5&"."&$K5 -> #N/A | M5: collaboration | N5: =VLOOKUP($M5,icons!$B$2:$C$1857,2,0) -> png | O5: =IFERROR("dashboard-icons/"&$N5&"/"&$M5&"."&$N5,$M5) -> dashboard-icons/png/collaboration.png | P5: https:// | Q5: =IF(OR(ISBLANK($D5),$D5=""),$B5,$D5) -> collabora | S5: =$P5&$Q5&".sthome.org"&IF(OR(ISBLANK($R5),$R5=""),"",":"&$R5) -> https://collabora.sthome.org | T5: =IF(OR(ISBLANK($E5),$E5=""),PROPER($B5),$E5) -> Collabora | U5: =IF(OR(ISBLANK($G5),$G5=""),$S5,$G5) -> https://collabora.sthome.org | V5: =" - title: "&$T5&" description: "&$I5&" icon: "&$L5&" url: "&$S5&IF($F5," statusCheck: true statusCheckUrl: "&$U5,"") &" target: newtab" -> #N/A | W5: =" - name: "&$H5&" icon: "&$O5&" displayData: sortBy: default rows: 1 cols: 1 collapsed: false hideForGuests: false items:" -> - name: icon: dashboard-icons/png/collaboration.png displayData: sortBy: default rows: 1 cols: 1 collapsed: false hideForGuests: false items:
B6: nextcloud | F6: TRUE | H6: Collaboration | I6: Content collaboration platform | J6: =IFERROR(VLOOKUP($C6,icons!$B$2:$C$1857,1,0),VLOOKUP($B6,icons!$B$2:$C$1857,1,0)) -> nextcloud | K6: =VLOOKUP($J6,icons!$B$2:$C$1857,2,0) -> svg | L6: ="dashboard-icons/"&$K6&"/"&$J6&"."&$K6 -> dashboard-icons/svg/nextcloud.svg | M6: collaboration | N6: =VLOOKUP($M6,icons!$B$2:$C$1857,2,0) -> png | O6: =IFERROR("dashboard-icons/"&$N6&"/"&$M6&"."&$N6,$M6) -> dashboard-icons/png/collaboration.png | P6: https:// | Q6: =IF(OR(ISBLANK($D6),$D6=""),$B6,$D6) -> nextcloud | S6: =$P6&$Q6&".sthome.org"&IF(OR(ISBLANK($R6),$R6=""),"",":"&$R6) -> https://nextcloud.sthome.org | T6: =IF(OR(ISBLANK($E6),$E6=""),PROPER($B6),$E6) -> Nextcloud | U6: =IF(OR(ISBLANK($G6),$G6=""),$S6,$G6) -> https://nextcloud.sthome.org | V6: =" - title: "&$T6&" description: "&$I6&" icon: "&$L6&" url: "&$S6&IF($F6," statusCheck: true statusCheckUrl: "&$U6,"") &" target: newtab" -> - title: Nextcloud description: Content collaboration platform icon: dashboard-icons/svg/nextcloud.svg url: https://nextcloud.sthome.org statusCheck: true statusCheckUrl: https://nextcloud.sthome.org target: newtab | W6: =" - name: "&$H6&" icon: "&$O6&" displayData: sortBy: default rows: 1 cols: 1 collapsed: false hideForGuests: false items:" -> - name: Collaboration icon: dashboard-icons/png/collaboration.png displayData: sortBy: default rows: 1 cols: 1 collapsed: false hideForGuests: false items:
B7: onlyoffice | F7: TRUE | H7: Collaboration | I7: Secure online office suite | J7: =IFERROR(VLOOKUP($C7,icons!$B$2:$C$1857,1,0),VLOOKUP($B7,icons!$B$2:$C$1857,1,0)) -> onlyoffice | K7: =VLOOKUP($J7,icons!$B$2:$C$1857,2,0) -> svg | L7: ="dashboard-icons/"&$K7&"/"&$J7&"."&$K7 -> dashboard-icons/svg/onlyoffice.svg | M7: collaboration | N7: =VLOOKUP($M7,icons!$B$2:$C$1857,2,0) -> png | O7: =IFERROR("dashboard-icons/"&$N7&"/"&$M7&"."&$N7,$M7) -> dashboard-icons/png/collaboration.png | P7: https:// | Q7: =IF(OR(ISBLANK($D7),$D7=""),$B7,$D7) -> onlyoffice | S7: =$P7&$Q7&".sthome.org"&IF(OR(ISBLANK($R7),$R7=""),"",":"&$R7) -> https://onlyoffice.sthome.org | T7: =IF(OR(ISBLANK($E7),$E7=""),PROPER($B7),$E7) -> Onlyoffice | U7: =IF(OR(ISBLANK($G7),$G7=""),$S7,$G7) -> https://onlyoffice.sthome.org | V7: =" - title: "&$T7&" description: "&$I7&" icon: "&$L7&" url: "&$S7&IF($F7," statusCheck: true statusCheckUrl: "&$U7,"") &" target: newtab" -> - title: Onlyoffice description: Secure online office suite icon: dashboard-icons/svg/onlyoffice.svg url: https://onlyoffice.sthome.org statusCheck: true statusCheckUrl: https://onlyoffice.sthome.org target: newtab | W7: =" - name: "&$H7&" icon: "&$O7&" displayData: sortBy: default rows: 1 cols: 1 collapsed: false hideForGuests: false items:" -> - name: Collaboration icon: dashboard-icons/png/collaboration.png displayData: sortBy: default rows: 1 cols: 1 collapsed: false hideForGuests: false items:
B8: root | F8: TRUE | H8: Data Analysis | I8: Data analysis framework | J8: =IFERROR(VLOOKUP($C8,icons!$B$2:$C$1857,1,0),VLOOKUP($B8,icons!$B$2:$C$1857,1,0)) -> root | K8: =VLOOKUP($J8,icons!$B$2:$C$1857,2,0) -> png | L8: ="dashboard-icons/"&$K8&"/"&$J8&"."&$K8 -> dashboard-icons/png/root.png | M8: data-analysis | N8: =VLOOKUP($M8,icons!$B$2:$C$1857,2,0) -> png | O8: =IFERROR("dashboard-icons/"&$N8&"/"&$M8&"."&$N8,$M8) -> dashboard-icons/png/data-analysis.png | P8: https:// | Q8: =IF(OR(ISBLANK($D8),$D8=""),$B8,$D8) -> root | S8: =$P8&$Q8&".sthome.org"&IF(OR(ISBLANK($R8),$R8=""),"",":"&$R8) -> https://root.sthome.org | T8: =IF(OR(ISBLANK($E8),$E8=""),PROPER($B8),$E8) -> Root | U8: =IF(OR(ISBLANK($G8),$G8=""),$S8,$G8) -> https://root.sthome.org | V8: =" - title: "&$T8&" description: "&$I8&" icon: "&$L8&" url: "&$S8&IF($F8," statusCheck: true statusCheckUrl: "&$U8,"") &" target: newtab" -> - title: Root description: Data analysis framework icon: dashboard-icons/png/root.png url: https://root.sthome.org statusCheck: true statusCheckUrl: https://root.sthome.org target: newtab | W8: =" - name: "&$H8&" icon: "&$O8&" displayData: sortBy: default rows: 1 cols: 1 collapsed: false hideForGuests: false items:" -> - name: Data Analysis icon: dashboard-icons/png/data-analysis.png displayData: sortBy: default rows: 1 cols: 1 collapsed: false hideForGuests: false items:
B9: minio | C9: minio | D9: minio1 | F9: TRUE | H9: Data Management | I9: Object Storage - S3 compatible | J9: =IFERROR(VLOOKUP($C9,icons!$B$2:$C$1857,1,0),VLOOKUP($B9,icons!$B$2:$C$1857,1,0)) -> minio | K9: =VLOOKUP($J9,icons!$B$2:$C$1857,2,0) -> svg | L9: ="dashboard-icons/"&$K9&"/"&$J9&"."&$K9 -> dashboard-icons/svg/minio.svg | M9: database | N9: =VLOOKUP($M9,icons!$B$2:$C$1857,2,0) -> svg | O9: =IFERROR("dashboard-icons/"&$N9&"/"&$M9&"."&$N9,$M9) -> dashboard-icons/svg/database.svg | P9: https:// | Q9: =IF(OR(ISBLANK($D9),$D9=""),$B9,$D9) -> minio1 | S9: =$P9&$Q9&".sthome.org"&IF(OR(ISBLANK($R9),$R9=""),"",":"&$R9) -> https://minio1.sthome.org | T9: =IF(OR(ISBLANK($E9),$E9=""),PROPER($B9),$E9) -> Minio | U9: =IF(OR(ISBLANK($G9),$G9=""),$S9,$G9) -> https://minio1.sthome.org | V9: =" - title: "&$T9&" description: "&$I9&" icon: "&$L9&" url: "&$S9&IF($F9," statusCheck: true statusCheckUrl: "&$U9,"") &" target: newtab" -> - title: Minio description: Object Storage - S3 compatible icon: dashboard-icons/svg/minio.svg url: https://minio1.sthome.org statusCheck: true statusCheckUrl: https://minio1.sthome.org target: newtab | W9: =" - name: "&$H9&" icon: "&$O9&" displayData: sortBy: default rows: 1 cols: 1 collapsed: false hideForGuests: false items:" -> - name: Data Management icon: dashboard-icons/svg/database.svg displayData: sortBy: default rows: 1 cols: 1 collapsed: false hideForGuests: false items:
B10: minio | C10: minio | D10: minio2 | F10: TRUE | H10: Data Management | I10: Object Storage - S3 compatible | J10: =IFERROR(VLOOKUP($C10,icons!$B$2:$C$1857,1,0),VLOOKUP($B10,icons!$B$2:$C$1857,1,0)) -> minio | K10: =VLOOKUP($J10,icons!$B$2:$C$1857,2,0) -> svg | L10: ="dashboard-icons/"&$K10&"/"&$J10&"."&$K10 -> dashboard-icons/svg/minio.svg | M10: database | N10: =VLOOKUP($M10,icons!$B$2:$C$1857,2,0) -> svg | O10: =IFERROR("dashboard-icons/"&$N10&"/"&$M10&"."&$N10,$M10) -> dashboard-icons/svg/database.svg | P10: https:// | Q10: =IF(OR(ISBLANK($D10),$D10=""),$B10,$D10) -> minio2 | S10: =$P10&$Q10&".sthome.org"&IF(OR(ISBLANK($R10),$R10=""),"",":"&$R10) -> https://minio2.sthome.org | T10: =IF(OR(ISBLANK($E10),$E10=""),PROPER($B10),$E10) -> Minio | U10: =IF(OR(ISBLANK($G10),$G10=""),$S10,$G10) -> https://minio2.sthome.org | V10: =" - title: "&$T10&" description: "&$I10&" icon: "&$L10&" url: "&$S10&IF($F10," statusCheck: true statusCheckUrl: "&$U10,"") &" target: newtab" -> - title: Minio description: Object Storage - S3 compatible icon: dashboard-icons/svg/minio.svg url: https://minio2.sthome.org statusCheck: true statusCheckUrl: https://minio2.sthome.org target: newtab | W10: =" - name: "&$H10&" icon: "&$O10&" displayData: sortBy: default rows: 1 cols: 1 collapsed: false hideForGuests: false items:" -> - name: Data Management icon: dashboard-icons/svg/database.svg displayData: sortBy: default rows: 1 cols: 1 collapsed: false hideForGuests: false items:
B11: pgadmin | E11: pgAdmin | F11: TRUE | G11: https://pgadmin.sthome.org/misc/ping | H11: Data Management | I11: Administration and development platform for PostgreSQL | J11: =IFERROR(VLOOKUP($C11,icons!$B$2:$C$1857,1,0),VLOOKUP($B11,icons!$B$2:$C$1857,1,0)) -> pgadmin | K11: =VLOOKUP($J11,icons!$B$2:$C$1857,2,0) -> svg | L11: ="dashboard-icons/"&$K11&"/"&$J11&"."&$K11 -> dashboard-icons/svg/pgadmin.svg | M11: database | N11: =VLOOKUP($M11,icons!$B$2:$C$1857,2,0) -> svg | O11: =IFERROR("dashboard-icons/"&$N11&"/"&$M11&"."&$N11,$M11) -> dashboard-icons/svg/database.svg | P11: https:// | Q11: =IF(OR(ISBLANK($D11),$D11=""),$B11,$D11) -> pgadmin | S11: =$P11&$Q11&".sthome.org"&IF(OR(ISBLANK($R11),$R11=""),"",":"&$R11) -> https://pgadmin.sthome.org | T11: =IF(OR(ISBLANK($E11),$E11=""),PROPER($B11),$E11) -> pgAdmin | U11: =IF(OR(ISBLANK($G11),$G11=""),$S11,$G11) -> https://pgadmin.sthome.org/misc/ping | V11: =" - title: "&$T11&" description: "&$I11&" icon: "&$L11&" url: "&$S11&IF($F11," statusCheck: true statusCheckUrl: "&$U11,"") &" target: newtab" -> - title: pgAdmin description: Administration and development platform for PostgreSQL icon: dashboard-icons/svg/pgadmin.svg url: https://pgadmin.sthome.org statusCheck: true statusCheckUrl: https://pgadmin.sthome.org/misc/ping target: newtab | W11: =" - name: "&$H11&" icon: "&$O11&" displayData: sortBy: default rows: 1 cols: 1 collapsed: false hideForGuests: false items:" -> - name: Data Management icon: dashboard-icons/svg/database.svg displayData: sortBy: default rows: 1 cols: 1 collapsed: false hideForGuests: false items:
B12: syncthing | F12: TRUE | H12: Data Management | I12: Continuous file synchronization program | J12: =IFERROR(VLOOKUP($C12,icons!$B$2:$C$1857,1,0),VLOOKUP($B12,icons!$B$2:$C$1857,1,0)) -> syncthing | K12: =VLOOKUP($J12,icons!$B$2:$C$1857,2,0) -> svg | L12: ="dashboard-icons/"&$K12&"/"&$J12&"."&$K12 -> dashboard-icons/svg/syncthing.svg | M12: database | N12: =VLOOKUP($M12,icons!$B$2:$C$1857,2,0) -> svg | O12: =IFERROR("dashboard-icons/"&$N12&"/"&$M12&"."&$N12,$M12) -> dashboard-icons/svg/database.svg | P12: https:// | Q12: =IF(OR(ISBLANK($D12),$D12=""),$B12,$D12) -> syncthing | S12: =$P12&$Q12&".sthome.org"&IF(OR(ISBLANK($R12),$R12=""),"",":"&$R12) -> https://syncthing.sthome.org | T12: =IF(OR(ISBLANK($E12),$E12=""),PROPER($B12),$E12) -> Syncthing | U12: =IF(OR(ISBLANK($G12),$G12=""),$S12,$G12) -> https://syncthing.sthome.org | V12: =" - title: "&$T12&" description: "&$I12&" icon: "&$L12&" url: "&$S12&IF($F12," statusCheck: true statusCheckUrl: "&$U12,"") &" target: newtab" -> - title: Syncthing description: Continuous file synchronization program icon: dashboard-icons/svg/syncthing.svg url: https://syncthing.sthome.org statusCheck: true statusCheckUrl: https://syncthing.sthome.org target: newtab | W12: =" - name: "&$H12&" icon: "&$O12&" displayData: sortBy: default rows: 1 cols: 1 collapsed: false hideForGuests: false items:" -> - name: Data Management icon: dashboard-icons/svg/database.svg displayData: sortBy: default rows: 1 cols: 1 collapsed: false hideForGuests: false items:
B13: gitea | F13: TRUE | H13: Development | I13: Software development service; Git hosting, code review, team collaboration, package registry and CI/CD | J13: =IFERROR(VLOOKUP($C13,icons!$B$2:$C$1857,1,0),VLOOKUP($B13,icons!$B$2:$C$1857,1,0)) -> gitea | K13: =VLOOKUP($J13,icons!$B$2:$C$1857,2,0) -> svg | L13: ="dashboard-icons/"&$K13&"/"&$J13&"."&$K13 -> dashboard-icons/svg/gitea.svg | M13: software-development | N13: =VLOOKUP($M13,icons!$B$2:$C$1857,2,0) -> png | O13: =IFERROR("dashboard-icons/"&$N13&"/"&$M13&"."&$N13,$M13) -> dashboard-icons/png/software-development.png | P13: https:// | Q13: =IF(OR(ISBLANK($D13),$D13=""),$B13,$D13) -> gitea | S13: =$P13&$Q13&".sthome.org"&IF(OR(ISBLANK($R13),$R13=""),"",":"&$R13) -> https://gitea.sthome.org | T13: =IF(OR(ISBLANK($E13),$E13=""),PROPER($B13),$E13) -> Gitea | U13: =IF(OR(ISBLANK($G13),$G13=""),$S13,$G13) -> https://gitea.sthome.org | V13: =" - title: "&$T13&" description: "&$I13&" icon: "&$L13&" url: "&$S13&IF($F13," statusCheck: true statusCheckUrl: "&$U13,"") &" target: newtab" -> - title: Gitea description: Software development service; Git hosting, code review, team collaboration, package registry and CI/CD icon: dashboard-icons/svg/gitea.svg url: https://gitea.sthome.org statusCheck: true statusCheckUrl: https://gitea.sthome.org target: newtab | W13: =" - name: "&$H13&" icon: "&$O13&" displayData: sortBy: default rows: 1 cols: 1 collapsed: false hideForGuests: false items:" -> - name: Development icon: dashboard-icons/png/software-development.png displayData: sortBy: default rows: 1 cols: 1 collapsed: false hideForGuests: false items:
B14: fireflyiii | C14: firefly | D14: firefly | E14: Firefly III | F14: TRUE | G14: https://firefly.sthome.org/health | H14: Finance | I14: Personal finance manager | J14: =IFERROR(VLOOKUP($C14,icons!$B$2:$C$1857,1,0),VLOOKUP($B14,icons!$B$2:$C$1857,1,0)) -> firefly | K14: =VLOOKUP($J14,icons!$B$2:$C$1857,2,0) -> png | L14: ="dashboard-icons/"&$K14&"/"&$J14&"."&$K14 -> dashboard-icons/png/firefly.png | M14: financial-services | N14: =VLOOKUP($M14,icons!$B$2:$C$1857,2,0) -> svg | O14: =IFERROR("dashboard-icons/"&$N14&"/"&$M14&"."&$N14,$M14) -> dashboard-icons/svg/financial-services.svg | P14: https:// | Q14: =IF(OR(ISBLANK($D14),$D14=""),$B14,$D14) -> firefly | S14: =$P14&$Q14&".sthome.org"&IF(OR(ISBLANK($R14),$R14=""),"",":"&$R14) -> https://firefly.sthome.org | T14: =IF(OR(ISBLANK($E14),$E14=""),PROPER($B14),$E14) -> Firefly III | U14: =IF(OR(ISBLANK($G14),$G14=""),$S14,$G14) -> https://firefly.sthome.org/health | V14: =" - title: "&$T14&" description: "&$I14&" icon: "&$L14&" url: "&$S14&IF($F14," statusCheck: true statusCheckUrl: "&$U14,"") &" target: newtab" -> - title: Firefly III description: Personal finance manager icon: dashboard-icons/png/firefly.png url: https://firefly.sthome.org statusCheck: true statusCheckUrl: https://firefly.sthome.org/health target: newtab | W14: =" - name: "&$H14&" icon: "&$O14&" displayData: sortBy: default rows: 1 cols: 1 collapsed: false hideForGuests: false items:" -> - name: Finance icon: dashboard-icons/svg/financial-services.svg displayData: sortBy: default rows: 1 cols: 1 collapsed: false hideForGuests: false items:
B15: minecraft-bedrock | C15: minecraft | D15: minecraft | E15: Minecraft Bedrock | F15: TRUE | G15: udp://minecraft.sthome.org:19132 | H15: Gaming | I15: ="Use "&$S15&":19132 to setup minecraft server url in game" -> Use upd://minecraft.sthome.org:19132 to setup minecraft server url in game | J15: =IFERROR(VLOOKUP($C15,icons!$B$2:$C$1857,1,0),VLOOKUP($B15,icons!$B$2:$C$1857,1,0)) -> minecraft | K15: =VLOOKUP($J15,icons!$B$2:$C$1857,2,0) -> svg | L15: ="dashboard-icons/"&$K15&"/"&$J15&"."&$K15 -> dashboard-icons/svg/minecraft.svg | M15: gaming | N15: =VLOOKUP($M15,icons!$B$2:$C$1857,2,0) -> svg | O15: =IFERROR("dashboard-icons/"&$N15&"/"&$M15&"."&$N15,$M15) -> dashboard-icons/svg/gaming.svg | P15: upd:// | Q15: =IF(OR(ISBLANK($D15),$D15=""),$B15,$D15) -> minecraft | S15: =$P15&$Q15&".sthome.org"&IF(OR(ISBLANK($R15),$R15=""),"",":"&$R15) -> upd://minecraft.sthome.org | T15: =IF(OR(ISBLANK($E15),$E15=""),PROPER($B15),$E15) -> Minecraft Bedrock | U15: =IF(OR(ISBLANK($G15),$G15=""),$S15,$G15) -> udp://minecraft.sthome.org:19132 | V15: =" - title: "&$T15&" description: "&$I15&" icon: "&$L15&" url: "&$S15&IF($F15," statusCheck: true statusCheckUrl: "&$U15,"") &" target: newtab" -> - title: Minecraft Bedrock description: Use upd://minecraft.sthome.org:19132 to setup minecraft server url in game icon: dashboard-icons/svg/minecraft.svg url: upd://minecraft.sthome.org statusCheck: true statusCheckUrl: udp://minecraft.sthome.org:19132 target: newtab | W15: =" - name: "&$H15&" icon: "&$O15&" displayData: sortBy: default rows: 1 cols: 1 collapsed: false hideForGuests: false items:" -> - name: Gaming icon: dashboard-icons/svg/gaming.svg displayData: sortBy: default rows: 1 cols: 1 collapsed: false hideForGuests: false items:
B16: minecraft-java | C16: minecraft | D16: minecraft | E16: Minecraft Java | F16: TRUE | G16: udp://minecraft.sthome.org:25565 | H16: Gaming | I16: ="Use "&$S16&":25565 to setup minecraft server url in game" -> Use https://minecraft.sthome.org:25565 to setup minecraft server url in game | J16: =IFERROR(VLOOKUP($C16,icons!$B$2:$C$1857,1,0),VLOOKUP($B16,icons!$B$2:$C$1857,1,0)) -> minecraft | K16: =VLOOKUP($J16,icons!$B$2:$C$1857,2,0) -> svg | L16: ="dashboard-icons/"&$K16&"/"&$J16&"."&$K16 -> dashboard-icons/svg/minecraft.svg | M16: gaming | N16: =VLOOKUP($M16,icons!$B$2:$C$1857,2,0) -> svg | O16: =IFERROR("dashboard-icons/"&$N16&"/"&$M16&"."&$N16,$M16) -> dashboard-icons/svg/gaming.svg | P16: https:// | Q16: =IF(OR(ISBLANK($D16),$D16=""),$B16,$D16) -> minecraft | S16: =$P16&$Q16&".sthome.org"&IF(OR(ISBLANK($R16),$R16=""),"",":"&$R16) -> https://minecraft.sthome.org | T16: =IF(OR(ISBLANK($E16),$E16=""),PROPER($B16),$E16) -> Minecraft Java | U16: =IF(OR(ISBLANK($G16),$G16=""),$S16,$G16) -> udp://minecraft.sthome.org:25565 | V16: =" - title: "&$T16&" description: "&$I16&" icon: "&$L16&" url: "&$S16&IF($F16," statusCheck: true statusCheckUrl: "&$U16,"") &" target: newtab" -> - title: Minecraft Java description: Use https://minecraft.sthome.org:25565 to setup minecraft server url in game icon: dashboard-icons/svg/minecraft.svg url: https://minecraft.sthome.org statusCheck: true statusCheckUrl: udp://minecraft.sthome.org:25565 target: newtab | W16: =" - name: "&$H16&" icon: "&$O16&" displayData: sortBy: default rows: 1 cols: 1 collapsed: false hideForGuests: false items:" -> - name: Gaming icon: dashboard-icons/svg/gaming.svg displayData: sortBy: default rows: 1 cols: 1 collapsed: false hideForGuests: false items:
B17: squad | F17: TRUE | H17: Gaming | J17: =IFERROR(VLOOKUP($C17,icons!$B$2:$C$1857,1,0),VLOOKUP($B17,icons!$B$2:$C$1857,1,0)) -> #N/A | K17: =VLOOKUP($J17,icons!$B$2:$C$1857,2,0) -> #N/A | L17: ="dashboard-icons/"&$K17&"/"&$J17&"."&$K17 -> #N/A | M17: gaming | N17: =VLOOKUP($M17,icons!$B$2:$C$1857,2,0) -> svg | O17: =IFERROR("dashboard-icons/"&$N17&"/"&$M17&"."&$N17,$M17) -> dashboard-icons/svg/gaming.svg | P17: https:// | Q17: =IF(OR(ISBLANK($D17),$D17=""),$B17,$D17) -> squad | S17: =$P17&$Q17&".sthome.org"&IF(OR(ISBLANK($R17),$R17=""),"",":"&$R17) -> https://squad.sthome.org | T17: =IF(OR(ISBLANK($E17),$E17=""),PROPER($B17),$E17) -> Squad | U17: =IF(OR(ISBLANK($G17),$G17=""),$S17,$G17) -> https://squad.sthome.org | V17: =" - title: "&$T17&" description: "&$I17&" icon: "&$L17&" url: "&$S17&IF($F17," statusCheck: true statusCheckUrl: "&$U17,"") &" target: newtab" -> #N/A | W17: =" - name: "&$H17&" icon: "&$O17&" displayData: sortBy: default rows: 1 cols: 1 collapsed: false hideForGuests: false items:" -> - name: Gaming icon: dashboard-icons/svg/gaming.svg displayData: sortBy: default rows: 1 cols: 1 collapsed: false hideForGuests: false items:
B18: home-assistant | E18: Home Assistant | F18: TRUE | H18: Home | I18: Home automation | J18: =IFERROR(VLOOKUP($C18,icons!$B$2:$C$1857,1,0),VLOOKUP($B18,icons!$B$2:$C$1857,1,0)) -> home-assistant | K18: =VLOOKUP($J18,icons!$B$2:$C$1857,2,0) -> svg | L18: ="dashboard-icons/"&$K18&"/"&$J18&"."&$K18 -> dashboard-icons/svg/home-assistant.svg | M18: home | N18: =VLOOKUP($M18,icons!$B$2:$C$1857,2,0) -> svg | O18: =IFERROR("dashboard-icons/"&$N18&"/"&$M18&"."&$N18,$M18) -> dashboard-icons/svg/home.svg | P18: https:// | Q18: =IF(OR(ISBLANK($D18),$D18=""),$B18,$D18) -> home-assistant | S18: =$P18&$Q18&".sthome.org"&IF(OR(ISBLANK($R18),$R18=""),"",":"&$R18) -> https://home-assistant.sthome.org | T18: =IF(OR(ISBLANK($E18),$E18=""),PROPER($B18),$E18) -> Home Assistant | U18: =IF(OR(ISBLANK($G18),$G18=""),$S18,$G18) -> https://home-assistant.sthome.org | V18: =" - title: "&$T18&" description: "&$I18&" icon: "&$L18&" url: "&$S18&IF($F18," statusCheck: true statusCheckUrl: "&$U18,"") &" target: newtab" -> - title: Home Assistant description: Home automation icon: dashboard-icons/svg/home-assistant.svg url: https://home-assistant.sthome.org statusCheck: true statusCheckUrl: https://home-assistant.sthome.org target: newtab | W18: =" - name: "&$H18&" icon: "&$O18&" displayData: sortBy: default rows: 1 cols: 1 collapsed: false hideForGuests: false items:" -> - name: Home icon: dashboard-icons/svg/home.svg displayData: sortBy: default rows: 1 cols: 1 collapsed: false hideForGuests: false items:
B19: frigate | F19: TRUE | G19: https://frigate.sthome.org/stats | H19: Home | I19: Network video recorder | J19: =IFERROR(VLOOKUP($C19,icons!$B$2:$C$1857,1,0),VLOOKUP($B19,icons!$B$2:$C$1857,1,0)) -> frigate | K19: =VLOOKUP($J19,icons!$B$2:$C$1857,2,0) -> svg | L19: ="dashboard-icons/"&$K19&"/"&$J19&"."&$K19 -> dashboard-icons/svg/frigate.svg | M19: home | N19: =VLOOKUP($M19,icons!$B$2:$C$1857,2,0) -> svg | O19: =IFERROR("dashboard-icons/"&$N19&"/"&$M19&"."&$N19,$M19) -> dashboard-icons/svg/home.svg | P19: https:// | Q19: =IF(OR(ISBLANK($D19),$D19=""),$B19,$D19) -> frigate | S19: =$P19&$Q19&".sthome.org"&IF(OR(ISBLANK($R19),$R19=""),"",":"&$R19) -> https://frigate.sthome.org | T19: =IF(OR(ISBLANK($E19),$E19=""),PROPER($B19),$E19) -> Frigate | U19: =IF(OR(ISBLANK($G19),$G19=""),$S19,$G19) -> https://frigate.sthome.org/stats | V19: =" - title: "&$T19&" description: "&$I19&" icon: "&$L19&" url: "&$S19&IF($F19," statusCheck: true statusCheckUrl: "&$U19,"") &" target: newtab" -> - title: Frigate description: Network video recorder icon: dashboard-icons/svg/frigate.svg url: https://frigate.sthome.org statusCheck: true statusCheckUrl: https://frigate.sthome.org/stats target: newtab | W19: =" - name: "&$H19&" icon: "&$O19&" displayData: sortBy: default rows: 1 cols: 1 collapsed: false hideForGuests: false items:" -> - name: Home icon: dashboard-icons/svg/home.svg displayData: sortBy: default rows: 1 cols: 1 collapsed: false hideForGuests: false items:
B20: mealie | F20: TRUE | H20: Home | I20: Recipe manager | J20: =IFERROR(VLOOKUP($C20,icons!$B$2:$C$1857,1,0),VLOOKUP($B20,icons!$B$2:$C$1857,1,0)) -> mealie | K20: =VLOOKUP($J20,icons!$B$2:$C$1857,2,0) -> svg | L20: ="dashboard-icons/"&$K20&"/"&$J20&"."&$K20 -> dashboard-icons/svg/mealie.svg | M20: home | N20: =VLOOKUP($M20,icons!$B$2:$C$1857,2,0) -> svg | O20: =IFERROR("dashboard-icons/"&$N20&"/"&$M20&"."&$N20,$M20) -> dashboard-icons/svg/home.svg | P20: https:// | Q20: =IF(OR(ISBLANK($D20),$D20=""),$B20,$D20) -> mealie | S20: =$P20&$Q20&".sthome.org"&IF(OR(ISBLANK($R20),$R20=""),"",":"&$R20) -> https://mealie.sthome.org | T20: =IF(OR(ISBLANK($E20),$E20=""),PROPER($B20),$E20) -> Mealie | U20: =IF(OR(ISBLANK($G20),$G20=""),$S20,$G20) -> https://mealie.sthome.org | V20: =" - title: "&$T20&" description: "&$I20&" icon: "&$L20&" url: "&$S20&IF($F20," statusCheck: true statusCheckUrl: "&$U20,"") &" target: newtab" -> - title: Mealie description: Recipe manager icon: dashboard-icons/svg/mealie.svg url: https://mealie.sthome.org statusCheck: true statusCheckUrl: https://mealie.sthome.org target: newtab | W20: =" - name: "&$H20&" icon: "&$O20&" displayData: sortBy: default rows: 1 cols: 1 collapsed: false hideForGuests: false items:" -> - name: Home icon: dashboard-icons/svg/home.svg displayData: sortBy: default rows: 1 cols: 1 collapsed: false hideForGuests: false items:
B21: gluetun-arr | F21: TRUE | J21: =IFERROR(VLOOKUP($C21,icons!$B$2:$C$1857,1,0),VLOOKUP($B21,icons!$B$2:$C$1857,1,0)) -> #N/A | K21: =VLOOKUP($J21,icons!$B$2:$C$1857,2,0) -> #N/A | L21: ="dashboard-icons/"&$K21&"/"&$J21&"."&$K21 -> #N/A | M21: media | N21: =VLOOKUP($M21,icons!$B$2:$C$1857,2,0) -> svg | O21: =IFERROR("dashboard-icons/"&$N21&"/"&$M21&"."&$N21,$M21) -> dashboard-icons/svg/media.svg | P21: https:// | Q21: =IF(OR(ISBLANK($D21),$D21=""),$B21,$D21) -> gluetun-arr | S21: =$P21&$Q21&".sthome.org"&IF(OR(ISBLANK($R21),$R21=""),"",":"&$R21) -> https://gluetun-arr.sthome.org | T21: =IF(OR(ISBLANK($E21),$E21=""),PROPER($B21),$E21) -> Gluetun-Arr | U21: =IF(OR(ISBLANK($G21),$G21=""),$S21,$G21) -> https://gluetun-arr.sthome.org | V21: =" - title: "&$T21&" description: "&$I21&" icon: "&$L21&" url: "&$S21&IF($F21," statusCheck: true statusCheckUrl: "&$U21,"") &" target: newtab" -> #N/A | W21: =" - name: "&$H21&" icon: "&$O21&" displayData: sortBy: default rows: 1 cols: 1 collapsed: false hideForGuests: false items:" -> - name: icon: dashboard-icons/svg/media.svg displayData: sortBy: default rows: 1 cols: 1 collapsed: false hideForGuests: false items:
B22: lidarr | F22: TRUE | H22: Media Management | I22: Music collection manager | J22: =IFERROR(VLOOKUP($C22,icons!$B$2:$C$1857,1,0),VLOOKUP($B22,icons!$B$2:$C$1857,1,0)) -> lidarr | K22: =VLOOKUP($J22,icons!$B$2:$C$1857,2,0) -> svg | L22: ="dashboard-icons/"&$K22&"/"&$J22&"."&$K22 -> dashboard-icons/svg/lidarr.svg | M22: media | N22: =VLOOKUP($M22,icons!$B$2:$C$1857,2,0) -> svg | O22: =IFERROR("dashboard-icons/"&$N22&"/"&$M22&"."&$N22,$M22) -> dashboard-icons/svg/media.svg | P22: https:// | Q22: =IF(OR(ISBLANK($D22),$D22=""),$B22,$D22) -> lidarr | S22: =$P22&$Q22&".sthome.org"&IF(OR(ISBLANK($R22),$R22=""),"",":"&$R22) -> https://lidarr.sthome.org | T22: =IF(OR(ISBLANK($E22),$E22=""),PROPER($B22),$E22) -> Lidarr | U22: =IF(OR(ISBLANK($G22),$G22=""),$S22,$G22) -> https://lidarr.sthome.org | V22: =" - title: "&$T22&" description: "&$I22&" icon: "&$L22&" url: "&$S22&IF($F22," statusCheck: true statusCheckUrl: "&$U22,"") &" target: newtab" -> - title: Lidarr description: Music collection manager icon: dashboard-icons/svg/lidarr.svg url: https://lidarr.sthome.org statusCheck: true statusCheckUrl: https://lidarr.sthome.org target: newtab | W22: =" - name: "&$H22&" icon: "&$O22&" displayData: sortBy: default rows: 1 cols: 1 collapsed: false hideForGuests: false items:" -> - name: Media Management icon: dashboard-icons/svg/media.svg displayData: sortBy: default rows: 1 cols: 1 collapsed: false hideForGuests: false items:
B23: mediaelch | F23: TRUE | H23: Media Management | I23: Media manager for Kodi | J23: =IFERROR(VLOOKUP($C23,icons!$B$2:$C$1857,1,0),VLOOKUP($B23,icons!$B$2:$C$1857,1,0)) -> mediaelch | K23: =VLOOKUP($J23,icons!$B$2:$C$1857,2,0) -> png | L23: ="dashboard-icons/"&$K23&"/"&$J23&"."&$K23 -> dashboard-icons/png/mediaelch.png | M23: media | N23: =VLOOKUP($M23,icons!$B$2:$C$1857,2,0) -> svg | O23: =IFERROR("dashboard-icons/"&$N23&"/"&$M23&"."&$N23,$M23) -> dashboard-icons/svg/media.svg | P23: https:// | Q23: =IF(OR(ISBLANK($D23),$D23=""),$B23,$D23) -> mediaelch | S23: =$P23&$Q23&".sthome.org"&IF(OR(ISBLANK($R23),$R23=""),"",":"&$R23) -> https://mediaelch.sthome.org | T23: =IF(OR(ISBLANK($E23),$E23=""),PROPER($B23),$E23) -> Mediaelch | U23: =IF(OR(ISBLANK($G23),$G23=""),$S23,$G23) -> https://mediaelch.sthome.org | V23: =" - title: "&$T23&" description: "&$I23&" icon: "&$L23&" url: "&$S23&IF($F23," statusCheck: true statusCheckUrl: "&$U23,"") &" target: newtab" -> - title: Mediaelch description: Media manager for Kodi icon: dashboard-icons/png/mediaelch.png url: https://mediaelch.sthome.org statusCheck: true statusCheckUrl: https://mediaelch.sthome.org target: newtab | W23: =" - name: "&$H23&" icon: "&$O23&" displayData: sortBy: default rows: 1 cols: 1 collapsed: false hideForGuests: false items:" -> - name: Media Management icon: dashboard-icons/svg/media.svg displayData: sortBy: default rows: 1 cols: 1 collapsed: false hideForGuests: false items:
B24: overseerr | F24: TRUE | H24: Media Management | I24: Request management and media discovery | J24: =IFERROR(VLOOKUP($C24,icons!$B$2:$C$1857,1,0),VLOOKUP($B24,icons!$B$2:$C$1857,1,0)) -> overseerr | K24: =VLOOKUP($J24,icons!$B$2:$C$1857,2,0) -> svg | L24: ="dashboard-icons/"&$K24&"/"&$J24&"."&$K24 -> dashboard-icons/svg/overseerr.svg | M24: media | N24: =VLOOKUP($M24,icons!$B$2:$C$1857,2,0) -> svg | O24: =IFERROR("dashboard-icons/"&$N24&"/"&$M24&"."&$N24,$M24) -> dashboard-icons/svg/media.svg | P24: https:// | Q24: =IF(OR(ISBLANK($D24),$D24=""),$B24,$D24) -> overseerr | S24: =$P24&$Q24&".sthome.org"&IF(OR(ISBLANK($R24),$R24=""),"",":"&$R24) -> https://overseerr.sthome.org | T24: =IF(OR(ISBLANK($E24),$E24=""),PROPER($B24),$E24) -> Overseerr | U24: =IF(OR(ISBLANK($G24),$G24=""),$S24,$G24) -> https://overseerr.sthome.org | V24: =" - title: "&$T24&" description: "&$I24&" icon: "&$L24&" url: "&$S24&IF($F24," statusCheck: true statusCheckUrl: "&$U24,"") &" target: newtab" -> - title: Overseerr description: Request management and media discovery icon: dashboard-icons/svg/overseerr.svg url: https://overseerr.sthome.org statusCheck: true statusCheckUrl: https://overseerr.sthome.org target: newtab | W24: =" - name: "&$H24&" icon: "&$O24&" displayData: sortBy: default rows: 1 cols: 1 collapsed: false hideForGuests: false items:" -> - name: Media Management icon: dashboard-icons/svg/media.svg displayData: sortBy: default rows: 1 cols: 1 collapsed: false hideForGuests: false items:
B25: prowlarr | F25: TRUE | H25: Media Management | I25: Indexer manager/proxy | J25: =IFERROR(VLOOKUP($C25,icons!$B$2:$C$1857,1,0),VLOOKUP($B25,icons!$B$2:$C$1857,1,0)) -> prowlarr | K25: =VLOOKUP($J25,icons!$B$2:$C$1857,2,0) -> svg | L25: ="dashboard-icons/"&$K25&"/"&$J25&"."&$K25 -> dashboard-icons/svg/prowlarr.svg | M25: media | N25: =VLOOKUP($M25,icons!$B$2:$C$1857,2,0) -> svg | O25: =IFERROR("dashboard-icons/"&$N25&"/"&$M25&"."&$N25,$M25) -> dashboard-icons/svg/media.svg | P25: https:// | Q25: =IF(OR(ISBLANK($D25),$D25=""),$B25,$D25) -> prowlarr | S25: =$P25&$Q25&".sthome.org"&IF(OR(ISBLANK($R25),$R25=""),"",":"&$R25) -> https://prowlarr.sthome.org | T25: =IF(OR(ISBLANK($E25),$E25=""),PROPER($B25),$E25) -> Prowlarr | U25: =IF(OR(ISBLANK($G25),$G25=""),$S25,$G25) -> https://prowlarr.sthome.org | V25: =" - title: "&$T25&" description: "&$I25&" icon: "&$L25&" url: "&$S25&IF($F25," statusCheck: true statusCheckUrl: "&$U25,"") &" target: newtab" -> - title: Prowlarr description: Indexer manager/proxy icon: dashboard-icons/svg/prowlarr.svg url: https://prowlarr.sthome.org statusCheck: true statusCheckUrl: https://prowlarr.sthome.org target: newtab | W25: =" - name: "&$H25&" icon: "&$O25&" displayData: sortBy: default rows: 1 cols: 1 collapsed: false hideForGuests: false items:" -> - name: Media Management icon: dashboard-icons/svg/media.svg displayData: sortBy: default rows: 1 cols: 1 collapsed: false hideForGuests: false items:
B26: qbittorrent | E26: qBittorrent | F26: TRUE | H26: Media Management | I26: P2P BitTorrent client | J26: =IFERROR(VLOOKUP($C26,icons!$B$2:$C$1857,1,0),VLOOKUP($B26,icons!$B$2:$C$1857,1,0)) -> qbittorrent | K26: =VLOOKUP($J26,icons!$B$2:$C$1857,2,0) -> svg | L26: ="dashboard-icons/"&$K26&"/"&$J26&"."&$K26 -> dashboard-icons/svg/qbittorrent.svg | M26: media | N26: =VLOOKUP($M26,icons!$B$2:$C$1857,2,0) -> svg | O26: =IFERROR("dashboard-icons/"&$N26&"/"&$M26&"."&$N26,$M26) -> dashboard-icons/svg/media.svg | P26: https:// | Q26: =IF(OR(ISBLANK($D26),$D26=""),$B26,$D26) -> qbittorrent | S26: =$P26&$Q26&".sthome.org"&IF(OR(ISBLANK($R26),$R26=""),"",":"&$R26) -> https://qbittorrent.sthome.org | T26: =IF(OR(ISBLANK($E26),$E26=""),PROPER($B26),$E26) -> qBittorrent | U26: =IF(OR(ISBLANK($G26),$G26=""),$S26,$G26) -> https://qbittorrent.sthome.org | V26: =" - title: "&$T26&" description: "&$I26&" icon: "&$L26&" url: "&$S26&IF($F26," statusCheck: true statusCheckUrl: "&$U26,"") &" target: newtab" -> - title: qBittorrent description: P2P BitTorrent client icon: dashboard-icons/svg/qbittorrent.svg url: https://qbittorrent.sthome.org statusCheck: true statusCheckUrl: https://qbittorrent.sthome.org target: newtab | W26: =" - name: "&$H26&" icon: "&$O26&" displayData: sortBy: default rows: 1 cols: 1 collapsed: false hideForGuests: false items:" -> - name: Media Management icon: dashboard-icons/svg/media.svg displayData: sortBy: default rows: 1 cols: 1 collapsed: false hideForGuests: false items:
B27: radarr | F27: TRUE | H27: Media Management | I27: Movie collection manager | J27: =IFERROR(VLOOKUP($C27,icons!$B$2:$C$1857,1,0),VLOOKUP($B27,icons!$B$2:$C$1857,1,0)) -> radarr | K27: =VLOOKUP($J27,icons!$B$2:$C$1857,2,0) -> svg | L27: ="dashboard-icons/"&$K27&"/"&$J27&"."&$K27 -> dashboard-icons/svg/radarr.svg | M27: media | N27: =VLOOKUP($M27,icons!$B$2:$C$1857,2,0) -> svg | O27: =IFERROR("dashboard-icons/"&$N27&"/"&$M27&"."&$N27,$M27) -> dashboard-icons/svg/media.svg | P27: https:// | Q27: =IF(OR(ISBLANK($D27),$D27=""),$B27,$D27) -> radarr | S27: =$P27&$Q27&".sthome.org"&IF(OR(ISBLANK($R27),$R27=""),"",":"&$R27) -> https://radarr.sthome.org | T27: =IF(OR(ISBLANK($E27),$E27=""),PROPER($B27),$E27) -> Radarr | U27: =IF(OR(ISBLANK($G27),$G27=""),$S27,$G27) -> https://radarr.sthome.org | V27: =" - title: "&$T27&" description: "&$I27&" icon: "&$L27&" url: "&$S27&IF($F27," statusCheck: true statusCheckUrl: "&$U27,"") &" target: newtab" -> - title: Radarr description: Movie collection manager icon: dashboard-icons/svg/radarr.svg url: https://radarr.sthome.org statusCheck: true statusCheckUrl: https://radarr.sthome.org target: newtab | W27: =" - name: "&$H27&" icon: "&$O27&" displayData: sortBy: default rows: 1 cols: 1 collapsed: false hideForGuests: false items:" -> - name: Media Management icon: dashboard-icons/svg/media.svg displayData: sortBy: default rows: 1 cols: 1 collapsed: false hideForGuests: false items:
B28: readarr | F28: TRUE | H28: Media Management | I28: ebook collection manage | J28: =IFERROR(VLOOKUP($C28,icons!$B$2:$C$1857,1,0),VLOOKUP($B28,icons!$B$2:$C$1857,1,0)) -> readarr | K28: =VLOOKUP($J28,icons!$B$2:$C$1857,2,0) -> svg | L28: ="dashboard-icons/"&$K28&"/"&$J28&"."&$K28 -> dashboard-icons/svg/readarr.svg | M28: media | N28: =VLOOKUP($M28,icons!$B$2:$C$1857,2,0) -> svg | O28: =IFERROR("dashboard-icons/"&$N28&"/"&$M28&"."&$N28,$M28) -> dashboard-icons/svg/media.svg | P28: https:// | Q28: =IF(OR(ISBLANK($D28),$D28=""),$B28,$D28) -> readarr | S28: =$P28&$Q28&".sthome.org"&IF(OR(ISBLANK($R28),$R28=""),"",":"&$R28) -> https://readarr.sthome.org | T28: =IF(OR(ISBLANK($E28),$E28=""),PROPER($B28),$E28) -> Readarr | U28: =IF(OR(ISBLANK($G28),$G28=""),$S28,$G28) -> https://readarr.sthome.org | V28: =" - title: "&$T28&" description: "&$I28&" icon: "&$L28&" url: "&$S28&IF($F28," statusCheck: true statusCheckUrl: "&$U28,"") &" target: newtab" -> - title: Readarr description: ebook collection manage icon: dashboard-icons/svg/readarr.svg url: https://readarr.sthome.org statusCheck: true statusCheckUrl: https://readarr.sthome.org target: newtab | W28: =" - name: "&$H28&" icon: "&$O28&" displayData: sortBy: default rows: 1 cols: 1 collapsed: false hideForGuests: false items:" -> - name: Media Management icon: dashboard-icons/svg/media.svg displayData: sortBy: default rows: 1 cols: 1 collapsed: false hideForGuests: false items:
B29: sonarr | F29: TRUE | H29: Media Management | I29: Internet PVR for Usenet and Torrents | J29: =IFERROR(VLOOKUP($C29,icons!$B$2:$C$1857,1,0),VLOOKUP($B29,icons!$B$2:$C$1857,1,0)) -> sonarr | K29: =VLOOKUP($J29,icons!$B$2:$C$1857,2,0) -> svg | L29: ="dashboard-icons/"&$K29&"/"&$J29&"."&$K29 -> dashboard-icons/svg/sonarr.svg | M29: media | N29: =VLOOKUP($M29,icons!$B$2:$C$1857,2,0) -> svg | O29: =IFERROR("dashboard-icons/"&$N29&"/"&$M29&"."&$N29,$M29) -> dashboard-icons/svg/media.svg | P29: https:// | Q29: =IF(OR(ISBLANK($D29),$D29=""),$B29,$D29) -> sonarr | S29: =$P29&$Q29&".sthome.org"&IF(OR(ISBLANK($R29),$R29=""),"",":"&$R29) -> https://sonarr.sthome.org | T29: =IF(OR(ISBLANK($E29),$E29=""),PROPER($B29),$E29) -> Sonarr | U29: =IF(OR(ISBLANK($G29),$G29=""),$S29,$G29) -> https://sonarr.sthome.org | V29: =" - title: "&$T29&" description: "&$I29&" icon: "&$L29&" url: "&$S29&IF($F29," statusCheck: true statusCheckUrl: "&$U29,"") &" target: newtab" -> - title: Sonarr description: Internet PVR for Usenet and Torrents icon: dashboard-icons/svg/sonarr.svg url: https://sonarr.sthome.org statusCheck: true statusCheckUrl: https://sonarr.sthome.org target: newtab | W29: =" - name: "&$H29&" icon: "&$O29&" displayData: sortBy: default rows: 1 cols: 1 collapsed: false hideForGuests: false items:" -> - name: Media Management icon: dashboard-icons/svg/media.svg displayData: sortBy: default rows: 1 cols: 1 collapsed: false hideForGuests: false items:
B30: tautulli | F30: TRUE | H30: Media Management | I30: Monitoring, analytics and notifications for Plex | J30: =IFERROR(VLOOKUP($C30,icons!$B$2:$C$1857,1,0),VLOOKUP($B30,icons!$B$2:$C$1857,1,0)) -> tautulli | K30: =VLOOKUP($J30,icons!$B$2:$C$1857,2,0) -> svg | L30: ="dashboard-icons/"&$K30&"/"&$J30&"."&$K30 -> dashboard-icons/svg/tautulli.svg | M30: media | N30: =VLOOKUP($M30,icons!$B$2:$C$1857,2,0) -> svg | O30: =IFERROR("dashboard-icons/"&$N30&"/"&$M30&"."&$N30,$M30) -> dashboard-icons/svg/media.svg | P30: https:// | Q30: =IF(OR(ISBLANK($D30),$D30=""),$B30,$D30) -> tautulli | S30: =$P30&$Q30&".sthome.org"&IF(OR(ISBLANK($R30),$R30=""),"",":"&$R30) -> https://tautulli.sthome.org | T30: =IF(OR(ISBLANK($E30),$E30=""),PROPER($B30),$E30) -> Tautulli | U30: =IF(OR(ISBLANK($G30),$G30=""),$S30,$G30) -> https://tautulli.sthome.org | V30: =" - title: "&$T30&" description: "&$I30&" icon: "&$L30&" url: "&$S30&IF($F30," statusCheck: true statusCheckUrl: "&$U30,"") &" target: newtab" -> - title: Tautulli description: Monitoring, analytics and notifications for Plex icon: dashboard-icons/svg/tautulli.svg url: https://tautulli.sthome.org statusCheck: true statusCheckUrl: https://tautulli.sthome.org target: newtab | W30: =" - name: "&$H30&" icon: "&$O30&" displayData: sortBy: default rows: 1 cols: 1 collapsed: false hideForGuests: false items:" -> - name: Media Management icon: dashboard-icons/svg/media.svg displayData: sortBy: default rows: 1 cols: 1 collapsed: false hideForGuests: false items:
B31: emby | F31: TRUE | H31: Media Servers | I31: Media server | J31: =IFERROR(VLOOKUP($C31,icons!$B$2:$C$1857,1,0),VLOOKUP($B31,icons!$B$2:$C$1857,1,0)) -> emby | K31: =VLOOKUP($J31,icons!$B$2:$C$1857,2,0) -> svg | L31: ="dashboard-icons/"&$K31&"/"&$J31&"."&$K31 -> dashboard-icons/svg/emby.svg | M31: media-playback | N31: =VLOOKUP($M31,icons!$B$2:$C$1857,2,0) -> svg | O31: =IFERROR("dashboard-icons/"&$N31&"/"&$M31&"."&$N31,$M31) -> dashboard-icons/svg/media-playback.svg | P31: https:// | Q31: =IF(OR(ISBLANK($D31),$D31=""),$B31,$D31) -> emby | S31: =$P31&$Q31&".sthome.org"&IF(OR(ISBLANK($R31),$R31=""),"",":"&$R31) -> https://emby.sthome.org | T31: =IF(OR(ISBLANK($E31),$E31=""),PROPER($B31),$E31) -> Emby | U31: =IF(OR(ISBLANK($G31),$G31=""),$S31,$G31) -> https://emby.sthome.org | V31: =" - title: "&$T31&" description: "&$I31&" icon: "&$L31&" url: "&$S31&IF($F31," statusCheck: true statusCheckUrl: "&$U31,"") &" target: newtab" -> - title: Emby description: Media server icon: dashboard-icons/svg/emby.svg url: https://emby.sthome.org statusCheck: true statusCheckUrl: https://emby.sthome.org target: newtab | W31: =" - name: "&$H31&" icon: "&$O31&" displayData: sortBy: default rows: 1 cols: 1 collapsed: false hideForGuests: false items:" -> - name: Media Servers icon: dashboard-icons/svg/media-playback.svg displayData: sortBy: default rows: 1 cols: 1 collapsed: false hideForGuests: false items:
B32: jellyfin | F32: TRUE | H32: Media Servers | I32: Media server | J32: =IFERROR(VLOOKUP($C32,icons!$B$2:$C$1857,1,0),VLOOKUP($B32,icons!$B$2:$C$1857,1,0)) -> jellyfin | K32: =VLOOKUP($J32,icons!$B$2:$C$1857,2,0) -> svg | L32: ="dashboard-icons/"&$K32&"/"&$J32&"."&$K32 -> dashboard-icons/svg/jellyfin.svg | M32: media-playback | N32: =VLOOKUP($M32,icons!$B$2:$C$1857,2,0) -> svg | O32: =IFERROR("dashboard-icons/"&$N32&"/"&$M32&"."&$N32,$M32) -> dashboard-icons/svg/media-playback.svg | P32: https:// | Q32: =IF(OR(ISBLANK($D32),$D32=""),$B32,$D32) -> jellyfin | S32: =$P32&$Q32&".sthome.org"&IF(OR(ISBLANK($R32),$R32=""),"",":"&$R32) -> https://jellyfin.sthome.org | T32: =IF(OR(ISBLANK($E32),$E32=""),PROPER($B32),$E32) -> Jellyfin | U32: =IF(OR(ISBLANK($G32),$G32=""),$S32,$G32) -> https://jellyfin.sthome.org | V32: =" - title: "&$T32&" description: "&$I32&" icon: "&$L32&" url: "&$S32&IF($F32," statusCheck: true statusCheckUrl: "&$U32,"") &" target: newtab" -> - title: Jellyfin description: Media server icon: dashboard-icons/svg/jellyfin.svg url: https://jellyfin.sthome.org statusCheck: true statusCheckUrl: https://jellyfin.sthome.org target: newtab | W32: =" - name: "&$H32&" icon: "&$O32&" displayData: sortBy: default rows: 1 cols: 1 collapsed: false hideForGuests: false items:" -> - name: Media Servers icon: dashboard-icons/svg/media-playback.svg displayData: sortBy: default rows: 1 cols: 1 collapsed: false hideForGuests: false items:
B33: plex | F33: TRUE | G33: https://plex.sthome.org/identity | H33: Media Servers | I33: Media server | J33: =IFERROR(VLOOKUP($C33,icons!$B$2:$C$1857,1,0),VLOOKUP($B33,icons!$B$2:$C$1857,1,0)) -> plex | K33: =VLOOKUP($J33,icons!$B$2:$C$1857,2,0) -> svg | L33: ="dashboard-icons/"&$K33&"/"&$J33&"."&$K33 -> dashboard-icons/svg/plex.svg | M33: media-playback | N33: =VLOOKUP($M33,icons!$B$2:$C$1857,2,0) -> svg | O33: =IFERROR("dashboard-icons/"&$N33&"/"&$M33&"."&$N33,$M33) -> dashboard-icons/svg/media-playback.svg | P33: https:// | Q33: =IF(OR(ISBLANK($D33),$D33=""),$B33,$D33) -> plex | S33: =$P33&$Q33&".sthome.org"&IF(OR(ISBLANK($R33),$R33=""),"",":"&$R33) -> https://plex.sthome.org | T33: =IF(OR(ISBLANK($E33),$E33=""),PROPER($B33),$E33) -> Plex | U33: =IF(OR(ISBLANK($G33),$G33=""),$S33,$G33) -> https://plex.sthome.org/identity | V33: =" - title: "&$T33&" description: "&$I33&" icon: "&$L33&" url: "&$S33&IF($F33," statusCheck: true statusCheckUrl: "&$U33,"") &" target: newtab" -> - title: Plex description: Media server icon: dashboard-icons/svg/plex.svg url: https://plex.sthome.org statusCheck: true statusCheckUrl: https://plex.sthome.org/identity target: newtab | W33: =" - name: "&$H33&" icon: "&$O33&" displayData: sortBy: default rows: 1 cols: 1 collapsed: false hideForGuests: false items:" -> - name: Media Servers icon: dashboard-icons/svg/media-playback.svg displayData: sortBy: default rows: 1 cols: 1 collapsed: false hideForGuests: false items:
B34: sheetable | F34: TRUE | H34: Music | I34: Music sheet organiser | J34: =IFERROR(VLOOKUP($C34,icons!$B$2:$C$1857,1,0),VLOOKUP($B34,icons!$B$2:$C$1857,1,0)) -> sheetable | K34: =VLOOKUP($J34,icons!$B$2:$C$1857,2,0) -> png | L34: ="dashboard-icons/"&$K34&"/"&$J34&"."&$K34 -> dashboard-icons/png/sheetable.png | M34: music | N34: =VLOOKUP($M34,icons!$B$2:$C$1857,2,0) -> svg | O34: =IFERROR("dashboard-icons/"&$N34&"/"&$M34&"."&$N34,$M34) -> dashboard-icons/svg/music.svg | P34: https:// | Q34: =IF(OR(ISBLANK($D34),$D34=""),$B34,$D34) -> sheetable | S34: =$P34&$Q34&".sthome.org"&IF(OR(ISBLANK($R34),$R34=""),"",":"&$R34) -> https://sheetable.sthome.org | T34: =IF(OR(ISBLANK($E34),$E34=""),PROPER($B34),$E34) -> Sheetable | U34: =IF(OR(ISBLANK($G34),$G34=""),$S34,$G34) -> https://sheetable.sthome.org | V34: =" - title: "&$T34&" description: "&$I34&" icon: "&$L34&" url: "&$S34&IF($F34," statusCheck: true statusCheckUrl: "&$U34,"") &" target: newtab" -> - title: Sheetable description: Music sheet organiser icon: dashboard-icons/png/sheetable.png url: https://sheetable.sthome.org statusCheck: true statusCheckUrl: https://sheetable.sthome.org target: newtab | W34: =" - name: "&$H34&" icon: "&$O34&" displayData: sortBy: default rows: 1 cols: 1 collapsed: false hideForGuests: false items:" -> - name: Music icon: dashboard-icons/svg/music.svg displayData: sortBy: default rows: 1 cols: 1 collapsed: false hideForGuests: false items:
B35: songkong | F35: TRUE | H35: Music | I35: Music tagger | J35: =IFERROR(VLOOKUP($C35,icons!$B$2:$C$1857,1,0),VLOOKUP($B35,icons!$B$2:$C$1857,1,0)) -> songkong | K35: =VLOOKUP($J35,icons!$B$2:$C$1857,2,0) -> png | L35: ="dashboard-icons/"&$K35&"/"&$J35&"."&$K35 -> dashboard-icons/png/songkong.png | M35: music | N35: =VLOOKUP($M35,icons!$B$2:$C$1857,2,0) -> svg | O35: =IFERROR("dashboard-icons/"&$N35&"/"&$M35&"."&$N35,$M35) -> dashboard-icons/svg/music.svg | P35: https:// | Q35: =IF(OR(ISBLANK($D35),$D35=""),$B35,$D35) -> songkong | S35: =$P35&$Q35&".sthome.org"&IF(OR(ISBLANK($R35),$R35=""),"",":"&$R35) -> https://songkong.sthome.org | T35: =IF(OR(ISBLANK($E35),$E35=""),PROPER($B35),$E35) -> Songkong | U35: =IF(OR(ISBLANK($G35),$G35=""),$S35,$G35) -> https://songkong.sthome.org | V35: =" - title: "&$T35&" description: "&$I35&" icon: "&$L35&" url: "&$S35&IF($F35," statusCheck: true statusCheckUrl: "&$U35,"") &" target: newtab" -> - title: Songkong description: Music tagger icon: dashboard-icons/png/songkong.png url: https://songkong.sthome.org statusCheck: true statusCheckUrl: https://songkong.sthome.org target: newtab | W35: =" - name: "&$H35&" icon: "&$O35&" displayData: sortBy: default rows: 1 cols: 1 collapsed: false hideForGuests: false items:" -> - name: Music icon: dashboard-icons/svg/music.svg displayData: sortBy: default rows: 1 cols: 1 collapsed: false hideForGuests: false items:
B36: librespeed | F36: TRUE | H36: Network | I36: Network speed tester | J36: =IFERROR(VLOOKUP($C36,icons!$B$2:$C$1857,1,0),VLOOKUP($B36,icons!$B$2:$C$1857,1,0)) -> librespeed | K36: =VLOOKUP($J36,icons!$B$2:$C$1857,2,0) -> svg | L36: ="dashboard-icons/"&$K36&"/"&$J36&"."&$K36 -> dashboard-icons/svg/librespeed.svg | M36: network | N36: =VLOOKUP($M36,icons!$B$2:$C$1857,2,0) -> svg | O36: =IFERROR("dashboard-icons/"&$N36&"/"&$M36&"."&$N36,$M36) -> dashboard-icons/svg/network.svg | P36: https:// | Q36: =IF(OR(ISBLANK($D36),$D36=""),$B36,$D36) -> librespeed | S36: =$P36&$Q36&".sthome.org"&IF(OR(ISBLANK($R36),$R36=""),"",":"&$R36) -> https://librespeed.sthome.org | T36: =IF(OR(ISBLANK($E36),$E36=""),PROPER($B36),$E36) -> Librespeed | U36: =IF(OR(ISBLANK($G36),$G36=""),$S36,$G36) -> https://librespeed.sthome.org | V36: =" - title: "&$T36&" description: "&$I36&" icon: "&$L36&" url: "&$S36&IF($F36," statusCheck: true statusCheckUrl: "&$U36,"") &" target: newtab" -> - title: Librespeed description: Network speed tester icon: dashboard-icons/svg/librespeed.svg url: https://librespeed.sthome.org statusCheck: true statusCheckUrl: https://librespeed.sthome.org target: newtab | W36: =" - name: "&$H36&" icon: "&$O36&" displayData: sortBy: default rows: 1 cols: 1 collapsed: false hideForGuests: false items:" -> - name: Network icon: dashboard-icons/svg/network.svg displayData: sortBy: default rows: 1 cols: 1 collapsed: false hideForGuests: false items:
B37: pi-hole | C37: pihole | D37: pihole | E37: Pi-hole | F37: TRUE | H37: Network | I37: DNS sinkhole | J37: =IFERROR(VLOOKUP($C37,icons!$B$2:$C$1857,1,0),VLOOKUP($B37,icons!$B$2:$C$1857,1,0)) -> pi-hole | K37: =VLOOKUP($J37,icons!$B$2:$C$1857,2,0) -> svg | L37: ="dashboard-icons/"&$K37&"/"&$J37&"."&$K37 -> dashboard-icons/svg/pi-hole.svg | M37: network | N37: =VLOOKUP($M37,icons!$B$2:$C$1857,2,0) -> svg | O37: =IFERROR("dashboard-icons/"&$N37&"/"&$M37&"."&$N37,$M37) -> dashboard-icons/svg/network.svg | P37: https:// | Q37: =IF(OR(ISBLANK($D37),$D37=""),$B37,$D37) -> pihole | S37: =$P37&$Q37&".sthome.org"&IF(OR(ISBLANK($R37),$R37=""),"",":"&$R37) -> https://pihole.sthome.org | T37: =IF(OR(ISBLANK($E37),$E37=""),PROPER($B37),$E37) -> Pi-hole | U37: =IF(OR(ISBLANK($G37),$G37=""),$S37,$G37) -> https://pihole.sthome.org | V37: =" - title: "&$T37&" description: "&$I37&" icon: "&$L37&" url: "&$S37&IF($F37," statusCheck: true statusCheckUrl: "&$U37,"") &" target: newtab" -> - title: Pi-hole description: DNS sinkhole icon: dashboard-icons/svg/pi-hole.svg url: https://pihole.sthome.org statusCheck: true statusCheckUrl: https://pihole.sthome.org target: newtab | W37: =" - name: "&$H37&" icon: "&$O37&" displayData: sortBy: default rows: 1 cols: 1 collapsed: false hideForGuests: false items:" -> - name: Network icon: dashboard-icons/svg/network.svg displayData: sortBy: default rows: 1 cols: 1 collapsed: false hideForGuests: false items:
B38: grafana | F38: TRUE | H38: Performance | I38: Analytics & monitoring | J38: =IFERROR(VLOOKUP($C38,icons!$B$2:$C$1857,1,0),VLOOKUP($B38,icons!$B$2:$C$1857,1,0)) -> grafana | K38: =VLOOKUP($J38,icons!$B$2:$C$1857,2,0) -> svg | L38: ="dashboard-icons/"&$K38&"/"&$J38&"."&$K38 -> dashboard-icons/svg/grafana.svg | M38: data-analysis | N38: =VLOOKUP($M38,icons!$B$2:$C$1857,2,0) -> png | O38: =IFERROR("dashboard-icons/"&$N38&"/"&$M38&"."&$N38,$M38) -> dashboard-icons/png/data-analysis.png | P38: https:// | Q38: =IF(OR(ISBLANK($D38),$D38=""),$B38,$D38) -> grafana | S38: =$P38&$Q38&".sthome.org"&IF(OR(ISBLANK($R38),$R38=""),"",":"&$R38) -> https://grafana.sthome.org | T38: =IF(OR(ISBLANK($E38),$E38=""),PROPER($B38),$E38) -> Grafana | U38: =IF(OR(ISBLANK($G38),$G38=""),$S38,$G38) -> https://grafana.sthome.org | V38: =" - title: "&$T38&" description: "&$I38&" icon: "&$L38&" url: "&$S38&IF($F38," statusCheck: true statusCheckUrl: "&$U38,"") &" target: newtab" -> - title: Grafana description: Analytics & monitoring icon: dashboard-icons/svg/grafana.svg url: https://grafana.sthome.org statusCheck: true statusCheckUrl: https://grafana.sthome.org target: newtab | W38: =" - name: "&$H38&" icon: "&$O38&" displayData: sortBy: default rows: 1 cols: 1 collapsed: false hideForGuests: false items:" -> - name: Performance icon: dashboard-icons/png/data-analysis.png displayData: sortBy: default rows: 1 cols: 1 collapsed: false hideForGuests: false items:
B39: prometheus | F39: TRUE | H39: Performance | I39: Event monitoring and alerting | J39: =IFERROR(VLOOKUP($C39,icons!$B$2:$C$1857,1,0),VLOOKUP($B39,icons!$B$2:$C$1857,1,0)) -> prometheus | K39: =VLOOKUP($J39,icons!$B$2:$C$1857,2,0) -> svg | L39: ="dashboard-icons/"&$K39&"/"&$J39&"."&$K39 -> dashboard-icons/svg/prometheus.svg | M39: data-analysis | N39: =VLOOKUP($M39,icons!$B$2:$C$1857,2,0) -> png | O39: =IFERROR("dashboard-icons/"&$N39&"/"&$M39&"."&$N39,$M39) -> dashboard-icons/png/data-analysis.png | P39: https:// | Q39: =IF(OR(ISBLANK($D39),$D39=""),$B39,$D39) -> prometheus | S39: =$P39&$Q39&".sthome.org"&IF(OR(ISBLANK($R39),$R39=""),"",":"&$R39) -> https://prometheus.sthome.org | T39: =IF(OR(ISBLANK($E39),$E39=""),PROPER($B39),$E39) -> Prometheus | U39: =IF(OR(ISBLANK($G39),$G39=""),$S39,$G39) -> https://prometheus.sthome.org | V39: =" - title: "&$T39&" description: "&$I39&" icon: "&$L39&" url: "&$S39&IF($F39," statusCheck: true statusCheckUrl: "&$U39,"") &" target: newtab" -> - title: Prometheus description: Event monitoring and alerting icon: dashboard-icons/svg/prometheus.svg url: https://prometheus.sthome.org statusCheck: true statusCheckUrl: https://prometheus.sthome.org target: newtab | W39: =" - name: "&$H39&" icon: "&$O39&" displayData: sortBy: default rows: 1 cols: 1 collapsed: false hideForGuests: false items:" -> - name: Performance icon: dashboard-icons/png/data-analysis.png displayData: sortBy: default rows: 1 cols: 1 collapsed: false hideForGuests: false items:
B40: digikam | C40: digikam_oxygen | F40: TRUE | H40: Photos | I40: Image organizer and tag editor | J40: =IFERROR(VLOOKUP($C40,icons!$B$2:$C$1857,1,0),VLOOKUP($B40,icons!$B$2:$C$1857,1,0)) -> digikam_oxygen | K40: =VLOOKUP($J40,icons!$B$2:$C$1857,2,0) -> svg | L40: ="dashboard-icons/"&$K40&"/"&$J40&"."&$K40 -> dashboard-icons/svg/digikam_oxygen.svg | M40: photos | N40: =VLOOKUP($M40,icons!$B$2:$C$1857,2,0) -> svg | O40: =IFERROR("dashboard-icons/"&$N40&"/"&$M40&"."&$N40,$M40) -> dashboard-icons/svg/photos.svg | P40: https:// | Q40: =IF(OR(ISBLANK($D40),$D40=""),$B40,$D40) -> digikam | S40: =$P40&$Q40&".sthome.org"&IF(OR(ISBLANK($R40),$R40=""),"",":"&$R40) -> https://digikam.sthome.org | T40: =IF(OR(ISBLANK($E40),$E40=""),PROPER($B40),$E40) -> Digikam | U40: =IF(OR(ISBLANK($G40),$G40=""),$S40,$G40) -> https://digikam.sthome.org | V40: =" - title: "&$T40&" description: "&$I40&" icon: "&$L40&" url: "&$S40&IF($F40," statusCheck: true statusCheckUrl: "&$U40,"") &" target: newtab" -> - title: Digikam description: Image organizer and tag editor icon: dashboard-icons/svg/digikam_oxygen.svg url: https://digikam.sthome.org statusCheck: true statusCheckUrl: https://digikam.sthome.org target: newtab | W40: =" - name: "&$H40&" icon: "&$O40&" displayData: sortBy: default rows: 1 cols: 1 collapsed: false hideForGuests: false items:" -> - name: Photos icon: dashboard-icons/svg/photos.svg displayData: sortBy: default rows: 1 cols: 1 collapsed: false hideForGuests: false items:
...
